BEGIN:VCALENDAR
VERSION:2.0
PRODID:-//Versant Power Astronomy Center and Maynard Jordan Planetarium - ECPv6.15.17.1//NONSGML v1.0//EN
CALSCALE:GREGORIAN
METHOD:PUBLISH
X-WR-CALNAME:Versant Power Astronomy Center and Maynard Jordan Planetarium
X-ORIGINAL-URL:https://astro.umaine.edu
X-WR-CALDESC:Events for Versant Power Astronomy Center and Maynard Jordan Planetarium
REFRESH-INTERVAL;VALUE=DURATION:PT1H
X-Robots-Tag:noindex
X-PUBLISHED-TTL:PT1H
BEGIN:VTIMEZONE
TZID:America/New_York
BEGIN:DAYLIGHT
TZOFFSETFROM:-0500
TZOFFSETTO:-0400
TZNAME:EDT
DTSTART:20150308T070000
END:DAYLIGHT
BEGIN:STANDARD
TZOFFSETFROM:-0400
TZOFFSETTO:-0500
TZNAME:EST
DTSTART:20151101T060000
END:STANDARD
BEGIN:DAYLIGHT
TZOFFSETFROM:-0500
TZOFFSETTO:-0400
TZNAME:EDT
DTSTART:20160313T070000
END:DAYLIGHT
BEGIN:STANDARD
TZOFFSETFROM:-0400
TZOFFSETTO:-0500
TZNAME:EST
DTSTART:20161106T060000
END:STANDARD
BEGIN:DAYLIGHT
TZOFFSETFROM:-0500
TZOFFSETTO:-0400
TZNAME:EDT
DTSTART:20170312T070000
END:DAYLIGHT
BEGIN:STANDARD
TZOFFSETFROM:-0400
TZOFFSETTO:-0500
TZNAME:EST
DTSTART:20171105T060000
END:STANDARD
END:VTIMEZONE
BEGIN:VEVENT
DTSTART;TZID=America/New_York:20160218T130000
DTEND;TZID=America/New_York:20160218T140000
DTSTAMP:20260421T001214
CREATED:20160202T170533Z
LAST-MODIFIED:20160202T170533Z
UID:10001741-1455800400-1455804000@astro.umaine.edu
SUMMARY:Little Star that Could - Maine Discovery Museum Joint Ticket
DESCRIPTION:  \n \nIt’s hard to be a little star in a big universe! Join a medium sized\, yellow star as he makes his way through space. In his travels he meets many different types of stars and learns about some of the other things that makes our universe so interesting. After meeting stars\, nebulas\, and galaxies\, the little star takes a good look at himself and finds that he\, too\, is special. He has nine planets that depend on him for warmth and light. Along with the little star audiences learn the ways each planet is special. \nThis program is offered as a joint ticket with the Maine Discovery Museum. By presenting an admission ticket from the Discovery Museum\, visitors to the Astronomy Center will receive $2.00 off the normal door price of $6.00. Likewise\, the Discovery Museum will be offering a $2.00 discount to anyone presenting a planetarium admission ticket. Visit the Maine Discovery Museum‘s website for more information on their programs
URL:https://astro.umaine.edu/event/little-star-that-could-maine-discovery-museum-joint-ticket/
LOCATION:Versant Power Astronomy Center\, 167 Rangeley Rd\, Orono\, ME\, 04469\, United States
GEO:44.8929612;-68.6626623
X-APPLE-STRUCTURED-LOCATION;VALUE=URI;X-ADDRESS=Versant Power Astronomy Center 167 Rangeley Rd Orono ME 04469 United States;X-APPLE-RADIUS=500;X-TITLE=167 Rangeley Rd:geo:-68.6626623,44.8929612
END:VEVENT
BEGIN:VEVENT
DTSTART;TZID=America/New_York:20160218T150000
DTEND;TZID=America/New_York:20160218T160000
DTSTAMP:20260421T001214
CREATED:20160202T170632Z
LAST-MODIFIED:20160202T170632Z
UID:10001743-1455807600-1455811200@astro.umaine.edu
SUMMARY:Little Star that Could - Maine Discovery Museum Joint Ticket
DESCRIPTION:It’s hard to be a little star in a big universe! Join a medium sized\, yellow star as he makes his way through space. In his travels he meets many different types of stars and learns about some of the other things that makes our universe so interesting. After meeting stars\, nebulas\, and galaxies\, the little star takes a good look at himself and finds that he\, too\, is special. He has nine planets that depend on him for warmth and light. Along with the little star audiences learn the ways each planet is special. \nThis program is offered as a joint ticket with the Maine Discovery Museum. By presenting an admission ticket from the Discovery Museum\, visitors to the Astronomy Center will receive $2.00 off the normal door price of $6.00. Likewise\, the Discovery Museum will be offering a $2.00 discount to anyone presenting a planetarium admission ticket. Visit the Maine Discovery Museum‘s website for more information on their programs
URL:https://astro.umaine.edu/event/little-star-that-could-maine-discovery-museum-joint-ticket-2/
LOCATION:Versant Power Astronomy Center\, 167 Rangeley Rd\, Orono\, ME\, 04469\, United States
GEO:44.8929612;-68.6626623
X-APPLE-STRUCTURED-LOCATION;VALUE=URI;X-ADDRESS=Versant Power Astronomy Center 167 Rangeley Rd Orono ME 04469 United States;X-APPLE-RADIUS=500;X-TITLE=167 Rangeley Rd:geo:-68.6626623,44.8929612
END:VEVENT
END:VCALENDAR