BEGIN:VCALENDAR
VERSION:2.0
PRODID:-//Versant Power Astronomy Center and Maynard Jordan Planetarium - ECPv6.15.17.1//NONSGML v1.0//EN
CALSCALE:GREGORIAN
METHOD:PUBLISH
X-WR-CALNAME:Versant Power Astronomy Center and Maynard Jordan Planetarium
X-ORIGINAL-URL:https://astro.umaine.edu
X-WR-CALDESC:Events for Versant Power Astronomy Center and Maynard Jordan Planetarium
REFRESH-INTERVAL;VALUE=DURATION:PT1H
X-Robots-Tag:noindex
X-PUBLISHED-TTL:PT1H
BEGIN:VTIMEZONE
TZID:America/New_York
BEGIN:DAYLIGHT
TZOFFSETFROM:-0500
TZOFFSETTO:-0400
TZNAME:EDT
DTSTART:20150308T070000
END:DAYLIGHT
BEGIN:STANDARD
TZOFFSETFROM:-0400
TZOFFSETTO:-0500
TZNAME:EST
DTSTART:20151101T060000
END:STANDARD
BEGIN:DAYLIGHT
TZOFFSETFROM:-0500
TZOFFSETTO:-0400
TZNAME:EDT
DTSTART:20160313T070000
END:DAYLIGHT
BEGIN:STANDARD
TZOFFSETFROM:-0400
TZOFFSETTO:-0500
TZNAME:EST
DTSTART:20161106T060000
END:STANDARD
BEGIN:DAYLIGHT
TZOFFSETFROM:-0500
TZOFFSETTO:-0400
TZNAME:EDT
DTSTART:20170312T070000
END:DAYLIGHT
BEGIN:STANDARD
TZOFFSETFROM:-0400
TZOFFSETTO:-0500
TZNAME:EST
DTSTART:20171105T060000
END:STANDARD
END:VTIMEZONE
BEGIN:VEVENT
DTSTART;TZID=America/New_York:20160705T140000
DTEND;TZID=America/New_York:20160705T153000
DTSTAMP:20260420T232037
CREATED:20160621T165406Z
LAST-MODIFIED:20160621T183003Z
UID:10001879-1467727200-1467732600@astro.umaine.edu
SUMMARY:Jupiter Jamboree
DESCRIPTION:On July 5th at 2:00 pm and 6:00 pm the Astronomy Center will host a Jupiter encounter event for the Juno Spacecraft. This is a special planetarium presentation. Over the next few years Juno will study Jupiter’s formation\, map its magnetic field\, measure water and ammonia levels in its atmosphere\, observe auroral activity\, and even try to determine if there is a solid core under all those clouds. We’ll be showcasing the first set of Juno images\, streaming NASA TV\, and have lots of information about both the planet and the space probe. Join us for this spectacular event in the planetarium!
URL:https://astro.umaine.edu/event/jupiter-jamboree/
LOCATION:Versant Power Astronomy Center\, 167 Rangeley Rd\, Orono\, ME\, 04469\, United States
CATEGORIES:Public Program
ORGANIZER;CN="Versant Power Astronomy Center":MAILTO:planetarium@maine.edu
GEO:44.8929612;-68.6626623
X-APPLE-STRUCTURED-LOCATION;VALUE=URI;X-ADDRESS=Versant Power Astronomy Center 167 Rangeley Rd Orono ME 04469 United States;X-APPLE-RADIUS=500;X-TITLE=167 Rangeley Rd:geo:-68.6626623,44.8929612
END:VEVENT
BEGIN:VEVENT
DTSTART;TZID=America/New_York:20160705T180000
DTEND;TZID=America/New_York:20160705T193000
DTSTAMP:20260420T232037
CREATED:20160621T165727Z
LAST-MODIFIED:20160629T182447Z
UID:10001880-1467741600-1467747000@astro.umaine.edu
SUMMARY:Jupiter Jamboree
DESCRIPTION:On July 5th at 2:00 pm and 6:00 pm the Astronomy Center will host a Jupiter encounter event for the Juno Spacecraft. This is a special planetarium presentation. Over the next few years Juno will study Jupiter’s formation\, map its magnetic field\, measure water and ammonia levels in its atmosphere\, observe auroral activity\, and even try to determine if there is a solid core under all those clouds. We’ll be showcasing the first set of Juno images\, streaming NASA TV\, and have lots of information about both the planet and the space probe. Join us for this spectacular event in the planetarium!
URL:https://astro.umaine.edu/event/jupiter-jamboree-2/
LOCATION:Versant Power Astronomy Center\, 167 Rangeley Rd\, Orono\, ME\, 04469\, United States
CATEGORIES:Public Event
ORGANIZER;CN="Versant Power Astronomy Center":MAILTO:planetarium@maine.edu
GEO:44.8929612;-68.6626623
X-APPLE-STRUCTURED-LOCATION;VALUE=URI;X-ADDRESS=Versant Power Astronomy Center 167 Rangeley Rd Orono ME 04469 United States;X-APPLE-RADIUS=500;X-TITLE=167 Rangeley Rd:geo:-68.6626623,44.8929612
END:VEVENT
END:VCALENDAR