BEGIN:VCALENDAR
VERSION:2.0
PRODID:-//Versant Power Astronomy Center and Maynard Jordan Planetarium - ECPv6.15.17.1//NONSGML v1.0//EN
CALSCALE:GREGORIAN
METHOD:PUBLISH
X-WR-CALNAME:Versant Power Astronomy Center and Maynard Jordan Planetarium
X-ORIGINAL-URL:https://astro.umaine.edu
X-WR-CALDESC:Events for Versant Power Astronomy Center and Maynard Jordan Planetarium
REFRESH-INTERVAL;VALUE=DURATION:PT1H
X-Robots-Tag:noindex
X-PUBLISHED-TTL:PT1H
BEGIN:VTIMEZONE
TZID:America/New_York
BEGIN:DAYLIGHT
TZOFFSETFROM:-0500
TZOFFSETTO:-0400
TZNAME:EDT
DTSTART:20150308T070000
END:DAYLIGHT
BEGIN:STANDARD
TZOFFSETFROM:-0400
TZOFFSETTO:-0500
TZNAME:EST
DTSTART:20151101T060000
END:STANDARD
BEGIN:DAYLIGHT
TZOFFSETFROM:-0500
TZOFFSETTO:-0400
TZNAME:EDT
DTSTART:20160313T070000
END:DAYLIGHT
BEGIN:STANDARD
TZOFFSETFROM:-0400
TZOFFSETTO:-0500
TZNAME:EST
DTSTART:20161106T060000
END:STANDARD
BEGIN:DAYLIGHT
TZOFFSETFROM:-0500
TZOFFSETTO:-0400
TZNAME:EDT
DTSTART:20170312T070000
END:DAYLIGHT
BEGIN:STANDARD
TZOFFSETFROM:-0400
TZOFFSETTO:-0500
TZNAME:EST
DTSTART:20171105T060000
END:STANDARD
END:VTIMEZONE
BEGIN:VEVENT
DTSTART;TZID=America/New_York:20161103T190000
DTEND;TZID=America/New_York:20161103T200000
DTSTAMP:20260421T060737
CREATED:20161007T133426Z
LAST-MODIFIED:20161007T133426Z
UID:10001927-1478199600-1478203200@astro.umaine.edu
SUMMARY:Science Lecture Series: Chuck Carter
DESCRIPTION:Art and Science: Visualizing Complex Ideas for Everyone\nThursday\, November 3rd at 7:00 pm \nWhere do science visualizations come from?  What is the process of taking a complex idea and making an image that aids in our understanding?  Chuck Carter who designs video games (such as the game MYST) and VR experiences is an accomplished science illustrator. His artwork for National Geographic\, NASA and Scientific American has helped make science accessible for everyone. He will talk about his process when making images and visualizations\, showing how he breaks down complex ideas into easy to understand illustrations.  His talk will feature a variety of immersive examples of his work discussing how digital tools changed the way he works and what explore how immersive visualization will play an important role in our future as we move into Virtual and Augmented Reality. \n \nChuck Carter has been doing art and animation on a computer for 30 years. He’s been involved in video games since 1991 and worked on the highly successful game Myst. Since then he has worked on 25 additional games in a variety of capacities\, as well as working as a special effects artist on the shows Babylon 5 and Mortal Kombat Crusades. He is an accomplished science illustrator and animator\, regularly illustrating for NASA\, National Geographic\, Scientific American\, and McGraw-Hill Publishing\, among others. He is the owner of Eagre Games\, based in Orono\, and they are about to release their first game ZED in May of 2017. ZED is a non-violent\, first-person\, real-time game based around the idea of exploring the dreams of a dying artist. \n \nThe Science Lecture Series at Emera Astronomy Center will take place the first Thursdays of each month and is a partnership project with the Maine Science Festival and will feature research from a variety of science disciplines from around our state and use the digital planetarium to visualize these discoveries in a new dramatic and immersive way. \nTickets for planetarium programs are $6 for Adults\, $5 for UMaine Students/Veterans/Senior Citizens\, and $4 for children under 12. Click here to view our calendar. \nTickets may be purchased online\, by phone at 207.581.1341\, or at our ticket box office prior to the show.
URL:https://astro.umaine.edu/event/science-lecture-series-chuck-carter/
LOCATION:Versant Power Astronomy Center\, 167 Rangeley Rd\, Orono\, ME\, 04469\, United States
CATEGORIES:Public Program,Science Lecture Series
ORGANIZER;CN="Versant Power Astronomy Center":MAILTO:planetarium@maine.edu
GEO:44.8929612;-68.6626623
X-APPLE-STRUCTURED-LOCATION;VALUE=URI;X-ADDRESS=Versant Power Astronomy Center 167 Rangeley Rd Orono ME 04469 United States;X-APPLE-RADIUS=500;X-TITLE=167 Rangeley Rd:geo:-68.6626623,44.8929612
END:VEVENT
END:VCALENDAR