BEGIN:VCALENDAR
VERSION:2.0
PRODID:-//Versant Power Astronomy Center and Maynard Jordan Planetarium - ECPv6.15.17.1//NONSGML v1.0//EN
CALSCALE:GREGORIAN
METHOD:PUBLISH
X-WR-CALNAME:Versant Power Astronomy Center and Maynard Jordan Planetarium
X-ORIGINAL-URL:https://astro.umaine.edu
X-WR-CALDESC:Events for Versant Power Astronomy Center and Maynard Jordan Planetarium
REFRESH-INTERVAL;VALUE=DURATION:PT1H
X-Robots-Tag:noindex
X-PUBLISHED-TTL:PT1H
BEGIN:VTIMEZONE
TZID:America/New_York
BEGIN:DAYLIGHT
TZOFFSETFROM:-0500
TZOFFSETTO:-0400
TZNAME:EDT
DTSTART:20160313T070000
END:DAYLIGHT
BEGIN:STANDARD
TZOFFSETFROM:-0400
TZOFFSETTO:-0500
TZNAME:EST
DTSTART:20161106T060000
END:STANDARD
BEGIN:DAYLIGHT
TZOFFSETFROM:-0500
TZOFFSETTO:-0400
TZNAME:EDT
DTSTART:20170312T070000
END:DAYLIGHT
BEGIN:STANDARD
TZOFFSETFROM:-0400
TZOFFSETTO:-0500
TZNAME:EST
DTSTART:20171105T060000
END:STANDARD
BEGIN:DAYLIGHT
TZOFFSETFROM:-0500
TZOFFSETTO:-0400
TZNAME:EDT
DTSTART:20180311T070000
END:DAYLIGHT
BEGIN:STANDARD
TZOFFSETFROM:-0400
TZOFFSETTO:-0500
TZNAME:EST
DTSTART:20181104T060000
END:STANDARD
END:VTIMEZONE
BEGIN:VEVENT
DTSTART;TZID=America/New_York:20170504T190000
DTEND;TZID=America/New_York:20170504T200000
DTSTAMP:20260419T104205
CREATED:20170329T195214Z
LAST-MODIFIED:20170329T195308Z
UID:10001820-1493924400-1493928000@astro.umaine.edu
SUMMARY:Science Lecture Series: Dr. Karissa Tilbury
DESCRIPTION:From Lightsabers to Tricorders:\nHarnessing Light for Biomedical Applications\nThursday\, May 4th at 7:00 pm \nLight surrounds us\, but how often do we appreciate the power of light for use as a diagnostic tool? Join us as we explore the possibilities of using small alterations of light as captured by microscopes to aid our human eyes in detection of small alterations.  We will discuss 2-photon microscopy techniques\, an approach that enables high resolution\, 3D data collection. Using the planetarium’s full dome technology\, we will explore and fly through 3-D images of human lung and ovarian tissues to investigate alterations in tissue organization of human disease. \n  \nDr. Karissa Tilbury is an assistant professor of Bioengineering in the Department of Chemical and Biological Engineering. She completed her Ph.D. in Biomedical Engineering as a Medical Physics Trainee at the University of Wisconsin under the direction of Dr. Paul Campagnola and a postdoc in Biophotonics at Vanderbilt University under the guidance of Dr. Melissa Skala. At the University of Maine\, Dr. Tilbury is continuing her work in 2-photon microscopy techniques to understand the interplay between the extracellular matrix and cellular metabolism. Additionally\, she is actively involved in STEM education at the P-16 levels. \n \nThe Science Lecture Series at Emera Astronomy Center will take place the first Thursdays of each month and is a partnership project with the Maine Science Festival and will feature research from a variety of science disciplines from around our state and use the digital planetarium to visualize these discoveries in a new dramatic and immersive way. \nTickets for planetarium programs are $6 for Adults\, $5 for UMaine Students/Veterans/Senior Citizens\, and $4 for children under 12. Click here to view our calendar. \nTickets may be purchased online\, by phone at 207.581.1341\, or at our ticket box office prior to the show.
URL:https://astro.umaine.edu/event/science-lecture-series-dr-karissa-tilbury/
LOCATION:Versant Power Astronomy Center\, 167 Rangeley Rd\, Orono\, ME\, 04469\, United States
CATEGORIES:Public Program,Science Lecture Series
ORGANIZER;CN="Versant Power Astronomy Center":MAILTO:planetarium@maine.edu
GEO:44.8929612;-68.6626623
X-APPLE-STRUCTURED-LOCATION;VALUE=URI;X-ADDRESS=Versant Power Astronomy Center 167 Rangeley Rd Orono ME 04469 United States;X-APPLE-RADIUS=500;X-TITLE=167 Rangeley Rd:geo:-68.6626623,44.8929612
END:VEVENT
END:VCALENDAR