BEGIN:VCALENDAR
VERSION:2.0
PRODID:-//Versant Power Astronomy Center and Maynard Jordan Planetarium - ECPv6.15.17.1//NONSGML v1.0//EN
CALSCALE:GREGORIAN
METHOD:PUBLISH
X-WR-CALNAME:Versant Power Astronomy Center and Maynard Jordan Planetarium
X-ORIGINAL-URL:https://astro.umaine.edu
X-WR-CALDESC:Events for Versant Power Astronomy Center and Maynard Jordan Planetarium
REFRESH-INTERVAL;VALUE=DURATION:PT1H
X-Robots-Tag:noindex
X-PUBLISHED-TTL:PT1H
BEGIN:VTIMEZONE
TZID:America/New_York
BEGIN:DAYLIGHT
TZOFFSETFROM:-0500
TZOFFSETTO:-0400
TZNAME:EDT
DTSTART:20160313T070000
END:DAYLIGHT
BEGIN:STANDARD
TZOFFSETFROM:-0400
TZOFFSETTO:-0500
TZNAME:EST
DTSTART:20161106T060000
END:STANDARD
BEGIN:DAYLIGHT
TZOFFSETFROM:-0500
TZOFFSETTO:-0400
TZNAME:EDT
DTSTART:20170312T070000
END:DAYLIGHT
BEGIN:STANDARD
TZOFFSETFROM:-0400
TZOFFSETTO:-0500
TZNAME:EST
DTSTART:20171105T060000
END:STANDARD
BEGIN:DAYLIGHT
TZOFFSETFROM:-0500
TZOFFSETTO:-0400
TZNAME:EDT
DTSTART:20180311T070000
END:DAYLIGHT
BEGIN:STANDARD
TZOFFSETFROM:-0400
TZOFFSETTO:-0500
TZNAME:EST
DTSTART:20181104T060000
END:STANDARD
END:VTIMEZONE
BEGIN:VEVENT
DTSTART;TZID=America/New_York:20170811T210000
DTEND;TZID=America/New_York:20170812T040000
DTSTAMP:20260420T094450
CREATED:20170804T190201Z
LAST-MODIFIED:20170804T190403Z
UID:10002132-1502485200-1502510400@astro.umaine.edu
SUMMARY:Perseid Meteor Shower
DESCRIPTION:In cooperation with the Hirundo Wildlife Refuge\, we will be hosting a meteor viewing star party at the Maynard F. Jordan Observatory\, located just behind the Emera Astronomy Center. The Perseid shower is an annual event where the Earth passes through the cloud of debris left behind by the comet Swift-Tuttle. The small pieces of rock that fall toward the earth burn up in our atmosphere\, producing a dazzling light show. \nThe event will also include a guided constellation tour and an insect trap to inspect many night-flying insects like moths and beetles. \nThe event runs from 9pm to 4am the night of August 11\, and visitors are welcome to come and go as they please. \nReserve your place under the stars by August 9th. Space is limited\, so click here to register. Suggested donation $5 adults\, $3 children under 12. \nThis event is weather dependent and we have a rain date set for Saturday\, August 12.
URL:https://astro.umaine.edu/event/perseid-meteor-shower/
LOCATION:ME
CATEGORIES:Public Event,Sky Events
ORGANIZER;CN="Versant Power Astronomy Center":MAILTO:planetarium@maine.edu
END:VEVENT
END:VCALENDAR