BEGIN:VCALENDAR
VERSION:2.0
PRODID:-//Versant Power Astronomy Center and Maynard Jordan Planetarium - ECPv6.15.17.1//NONSGML v1.0//EN
CALSCALE:GREGORIAN
METHOD:PUBLISH
X-WR-CALNAME:Versant Power Astronomy Center and Maynard Jordan Planetarium
X-ORIGINAL-URL:https://astro.umaine.edu
X-WR-CALDESC:Events for Versant Power Astronomy Center and Maynard Jordan Planetarium
REFRESH-INTERVAL;VALUE=DURATION:PT1H
X-Robots-Tag:noindex
X-PUBLISHED-TTL:PT1H
BEGIN:VTIMEZONE
TZID:America/New_York
BEGIN:DAYLIGHT
TZOFFSETFROM:-0500
TZOFFSETTO:-0400
TZNAME:EDT
DTSTART:20160313T070000
END:DAYLIGHT
BEGIN:STANDARD
TZOFFSETFROM:-0400
TZOFFSETTO:-0500
TZNAME:EST
DTSTART:20161106T060000
END:STANDARD
BEGIN:DAYLIGHT
TZOFFSETFROM:-0500
TZOFFSETTO:-0400
TZNAME:EDT
DTSTART:20170312T070000
END:DAYLIGHT
BEGIN:STANDARD
TZOFFSETFROM:-0400
TZOFFSETTO:-0500
TZNAME:EST
DTSTART:20171105T060000
END:STANDARD
BEGIN:DAYLIGHT
TZOFFSETFROM:-0500
TZOFFSETTO:-0400
TZNAME:EDT
DTSTART:20180311T070000
END:DAYLIGHT
BEGIN:STANDARD
TZOFFSETFROM:-0400
TZOFFSETTO:-0500
TZNAME:EST
DTSTART:20181104T060000
END:STANDARD
END:VTIMEZONE
BEGIN:VEVENT
DTSTART;TZID=America/New_York:20170827T123000
DTEND;TZID=America/New_York:20170827T133000
DTSTAMP:20260419T102646
CREATED:20170726T150912Z
LAST-MODIFIED:20170726T150912Z
UID:10001868-1503837000-1503840600@astro.umaine.edu
SUMMARY:Asteroid: Mission Extreme
DESCRIPTION:Asteroid: Mission Extreme takes audiences on an epic journey to discover how asteroids are both a danger and an opportunity. The danger lies in the possibility of a cataclysmic collision with Earth; the opportunity is the fascinating idea that asteroids could be stepping stones to other worlds – veritable way stations in space – enabling us to cross the Solar System. \nThe challenges are enormous\, but a mission so extreme could ultimately lead us to protect our planet and inhabit others. \nExplore what it would take for astronauts to reach an asteroid and how such an adventure could benefit humankind. \nTrailer \nTickets for planetarium programs are $6 for Adults\, $5 for UMaine Students/Veterans/Senior Citizens\, and $4 for children under 12. Click here to view our calendar. \nTickets may be purchased online\, by phone at 207.581.1341\, or at our ticket box office prior to the show.
URL:https://astro.umaine.edu/event/asteroid-mission-extreme-3/
LOCATION:Versant Power Astronomy Center\, 167 Rangeley Rd\, Orono\, ME\, 04469\, United States
CATEGORIES:Public Program
ATTACH;FMTTYPE=image/jpeg:https://astro.umaine.edu/wp-content/uploads/sites/165/2016/11/Asteroid2_16x9.jpg
ORGANIZER;CN="Versant Power Astronomy Center":MAILTO:planetarium@maine.edu
GEO:44.8929612;-68.6626623
X-APPLE-STRUCTURED-LOCATION;VALUE=URI;X-ADDRESS=Versant Power Astronomy Center 167 Rangeley Rd Orono ME 04469 United States;X-APPLE-RADIUS=500;X-TITLE=167 Rangeley Rd:geo:-68.6626623,44.8929612
END:VEVENT
BEGIN:VEVENT
DTSTART;TZID=America/New_York:20170827T140000
DTEND;TZID=America/New_York:20170827T150000
DTSTAMP:20260419T102646
CREATED:20170515T185225Z
LAST-MODIFIED:20170515T185225Z
UID:10002026-1503842400-1503846000@astro.umaine.edu
SUMMARY:Polaris: Mystery of the Polar Night
DESCRIPTION:A traveling penguin from the South Pole and a funny polar bear from the North pole meet on arctic sea ice.  They become friends observing the night sky together and wondering why night is so long at the poles of the Earth. This mystery leads them on a scientific adventure by building an improvised spaceship to travel around the Earth to learn about seasons\, visit Mars and Saturn to learn about ice in the solar system and how planets have similarities and differences which make them unique. \nTickets for planetarium programs are $6 for Adults\, $5 for UMaine Students/Veterans/Senior Citizens\, and $4 for children under 12. Click here to view our calendar. \nTickets may be purchased online\, by phone at 207.581.1341\, or at our ticket box office prior to the show. \n \n 
URL:https://astro.umaine.edu/event/polaris-mystery-polar-night/2017-08-27/
LOCATION:Versant Power Astronomy Center\, 167 Rangeley Rd\, Orono\, ME\, 04469\, United States
CATEGORIES:Public Program
ATTACH;FMTTYPE=image/jpeg:https://astro.umaine.edu/wp-content/uploads/sites/165/2017/02/polaris16x9.jpg
ORGANIZER;CN="Versant Power Astronomy Center":MAILTO:planetarium@maine.edu
GEO:44.8929612;-68.6626623
X-APPLE-STRUCTURED-LOCATION;VALUE=URI;X-ADDRESS=Versant Power Astronomy Center 167 Rangeley Rd Orono ME 04469 United States;X-APPLE-RADIUS=500;X-TITLE=167 Rangeley Rd:geo:-68.6626623,44.8929612
END:VEVENT
BEGIN:VEVENT
DTSTART;TZID=America/New_York:20170827T153000
DTEND;TZID=America/New_York:20170827T163000
DTSTAMP:20260419T102646
CREATED:20170726T151147Z
LAST-MODIFIED:20170726T151147Z
UID:10002131-1503847800-1503851400@astro.umaine.edu
SUMMARY:Dynamic Earth
DESCRIPTION:Explore the inner workings of Earth’s climate system with visualizations based on satellite monitoring data and advanced supercomputer simulations. This exciting program follows a trail of energy that flows from the Sun into the interlocking systems that shape our climate: the atmosphere\, oceans\, and the biosphere. Audiences will ride along on swirling ocean and wind currents\, dive into the heart of a monster hurricane\, come face-to-face with sharks and gigantic whales\, and fly into roiling volcanoes. We explore the relationship between Earth and the Sun\, life and the carbon cycle\, Earth’s climate control system\, and how human activities are changing our planet. Come learn how dynamic planet Earth really is! \nTrailer \nTickets for planetarium programs are $6 for Adults\, $5 for UMaine Students/Veterans/Senior Citizens\, and $4 for children under 12. Click here to view our calendar. \nTickets may be purchased online\, by phone at 207.581.1341\, or at our ticket box office prior to the show.
URL:https://astro.umaine.edu/event/dynamic-earth-8/
LOCATION:Versant Power Astronomy Center\, 167 Rangeley Rd\, Orono\, ME\, 04469\, United States
CATEGORIES:Public Program
ATTACH;FMTTYPE=image/jpeg:https://astro.umaine.edu/wp-content/uploads/sites/165/2016/09/event_pl_dynamic-earth-7.jpg
ORGANIZER;CN="Versant Power Astronomy Center":MAILTO:planetarium@maine.edu
GEO:44.8929612;-68.6626623
X-APPLE-STRUCTURED-LOCATION;VALUE=URI;X-ADDRESS=Versant Power Astronomy Center 167 Rangeley Rd Orono ME 04469 United States;X-APPLE-RADIUS=500;X-TITLE=167 Rangeley Rd:geo:-68.6626623,44.8929612
END:VEVENT
END:VCALENDAR