BEGIN:VCALENDAR
VERSION:2.0
PRODID:-//Versant Power Astronomy Center and Maynard Jordan Planetarium - ECPv6.15.17.1//NONSGML v1.0//EN
CALSCALE:GREGORIAN
METHOD:PUBLISH
X-WR-CALNAME:Versant Power Astronomy Center and Maynard Jordan Planetarium
X-ORIGINAL-URL:https://astro.umaine.edu
X-WR-CALDESC:Events for Versant Power Astronomy Center and Maynard Jordan Planetarium
REFRESH-INTERVAL;VALUE=DURATION:PT1H
X-Robots-Tag:noindex
X-PUBLISHED-TTL:PT1H
BEGIN:VTIMEZONE
TZID:America/New_York
BEGIN:DAYLIGHT
TZOFFSETFROM:-0500
TZOFFSETTO:-0400
TZNAME:EDT
DTSTART:20170312T070000
END:DAYLIGHT
BEGIN:STANDARD
TZOFFSETFROM:-0400
TZOFFSETTO:-0500
TZNAME:EST
DTSTART:20171105T060000
END:STANDARD
BEGIN:DAYLIGHT
TZOFFSETFROM:-0500
TZOFFSETTO:-0400
TZNAME:EDT
DTSTART:20180311T070000
END:DAYLIGHT
BEGIN:STANDARD
TZOFFSETFROM:-0400
TZOFFSETTO:-0500
TZNAME:EST
DTSTART:20181104T060000
END:STANDARD
BEGIN:DAYLIGHT
TZOFFSETFROM:-0500
TZOFFSETTO:-0400
TZNAME:EDT
DTSTART:20190310T070000
END:DAYLIGHT
BEGIN:STANDARD
TZOFFSETFROM:-0400
TZOFFSETTO:-0500
TZNAME:EST
DTSTART:20191103T060000
END:STANDARD
END:VTIMEZONE
BEGIN:VEVENT
DTSTART;TZID=America/New_York:20180923T110000
DTEND;TZID=America/New_York:20180923T120000
DTSTAMP:20260421T063313
CREATED:20180613T183842Z
LAST-MODIFIED:20180613T183842Z
UID:10002391-1537700400-1537704000@astro.umaine.edu
SUMMARY:We Are Astronomers
DESCRIPTION:Do you know what an astronomer does? We Are Astronomers reveals the global collaboration\, technology and dedication required to answer the unresolved questions of the Universe. See how technologies such as the Large Hadron Collider\, the observatories of Chile and the Hubble Space Telescope work and how they are used by teams around the world in this entertaining planetarium show. This show is narrated by former Dr Who star David Tennant and accompanied with music by New Zealand composer Rhian Sheehan. We Are Astronomers provides a visually stunning tour of contemporary astronomy using beautiful 360° full dome imagery. \nTrailer \nTickets for planetarium programs are $6 for Adults\, $5 for UMaine Students/Veterans/Senior Citizens\, and $4 for children under 12. Click here to view our calendar. \nTickets may be purchased online\, by phone at 207.581.1341\, or at our ticket box office prior to the show.
URL:https://astro.umaine.edu/event/we-are-astronomers-3/
LOCATION:Versant Power Astronomy Center\, 167 Rangeley Rd\, Orono\, ME\, 04469\, United States
CATEGORIES:Public Program
ATTACH;FMTTYPE=image/jpeg:https://astro.umaine.edu/wp-content/uploads/sites/165/2018/04/WAA-1920x1080_00000.jpg
ORGANIZER;CN="Versant Power Astronomy Center":MAILTO:planetarium@maine.edu
GEO:44.8929612;-68.6626623
X-APPLE-STRUCTURED-LOCATION;VALUE=URI;X-ADDRESS=Versant Power Astronomy Center 167 Rangeley Rd Orono ME 04469 United States;X-APPLE-RADIUS=500;X-TITLE=167 Rangeley Rd:geo:-68.6626623,44.8929612
END:VEVENT
BEGIN:VEVENT
DTSTART;TZID=America/New_York:20180923T123000
DTEND;TZID=America/New_York:20180923T133000
DTSTAMP:20260421T063313
CREATED:20180613T184041Z
LAST-MODIFIED:20180613T184041Z
UID:10002393-1537705800-1537709400@astro.umaine.edu
SUMMARY:Mayan Archaeoastronomy: Observers of the Universe
DESCRIPTION:The night is an eye\, both dark and bright!  It forces us to look up and ask ourselves questions about our place in the Cosmos\, our origins\, and what is beyond the horizon.  Using spectacular visuals and stunning sound\, audiences tour six ancient Mayan temples: San Gervasio\, Chichen Itzá\, Uxmal\, Edzna\, Palenque\, and Bonampak. Along the way they dive into Mayan knowledge of the sky exploring the movement of the Sun\, the Moon and Venus. Find Balam the Jaguar constellation and explore how the Mayan’s created a calendar more accurate than the one we use in modern times. Journey back in time to explore how The Mayan’s used the sky to understand their world and their place in it! \nTickets for planetarium programs are $6 for Adults\, $5 for UMaine Students/Veterans/Senior Citizens\, and $4 for children under 12. Click here to view our calendar. \nTickets may be purchased online\, by phone at 207.581.1341\, or at our ticket box office prior to the show.
URL:https://astro.umaine.edu/event/mayan-archaeoastronomy-observers-universe-2/
LOCATION:Versant Power Astronomy Center\, 167 Rangeley Rd\, Orono\, ME\, 04469\, United States
CATEGORIES:Public Program
ATTACH;FMTTYPE=image/jpeg:https://astro.umaine.edu/wp-content/uploads/sites/165/2017/09/MayanArcheoastronomy_16x9.jpg
ORGANIZER;CN="Versant Power Astronomy Center":MAILTO:planetarium@maine.edu
GEO:44.8929612;-68.6626623
X-APPLE-STRUCTURED-LOCATION;VALUE=URI;X-ADDRESS=Versant Power Astronomy Center 167 Rangeley Rd Orono ME 04469 United States;X-APPLE-RADIUS=500;X-TITLE=167 Rangeley Rd:geo:-68.6626623,44.8929612
END:VEVENT
BEGIN:VEVENT
DTSTART;TZID=America/New_York:20180923T140000
DTEND;TZID=America/New_York:20180923T150000
DTSTAMP:20260421T063313
CREATED:20180402T193535Z
LAST-MODIFIED:20180402T193535Z
UID:10002348-1537711200-1537714800@astro.umaine.edu
SUMMARY:Polaris: Mystery of the Polar Night
DESCRIPTION:A traveling penguin from the South Pole and a funny polar bear from the North pole meet on arctic sea ice.  They become friends observing the night sky together and wondering why night is so long at the poles of the Earth. This mystery leads them on a scientific adventure by building an improvised spaceship to travel around the Earth to learn about seasons\, visit Mars and Saturn to learn about ice in the solar system and how planets have similarities and differences which make them unique. \nTickets for planetarium programs are $6 for Adults\, $5 for UMaine Students/Veterans/Senior Citizens\, and $4 for children under 12. Click here to view our calendar. \nTickets may be purchased online\, by phone at 207.581.1341\, or at our ticket box office prior to the show.
URL:https://astro.umaine.edu/event/polaris-mystery-polar-night-4/2018-09-23/
LOCATION:Versant Power Astronomy Center\, 167 Rangeley Rd\, Orono\, ME\, 04469\, United States
CATEGORIES:Public Program
ATTACH;FMTTYPE=image/jpeg:https://astro.umaine.edu/wp-content/uploads/sites/165/2017/02/polaris16x9.jpg
ORGANIZER;CN="Versant Power Astronomy Center":MAILTO:planetarium@maine.edu
GEO:44.8929612;-68.6626623
X-APPLE-STRUCTURED-LOCATION;VALUE=URI;X-ADDRESS=Versant Power Astronomy Center 167 Rangeley Rd Orono ME 04469 United States;X-APPLE-RADIUS=500;X-TITLE=167 Rangeley Rd:geo:-68.6626623,44.8929612
END:VEVENT
END:VCALENDAR