BEGIN:VCALENDAR
VERSION:2.0
PRODID:-//Versant Power Astronomy Center and Maynard Jordan Planetarium - ECPv6.15.17.1//NONSGML v1.0//EN
CALSCALE:GREGORIAN
METHOD:PUBLISH
X-WR-CALNAME:Versant Power Astronomy Center and Maynard Jordan Planetarium
X-ORIGINAL-URL:https://astro.umaine.edu
X-WR-CALDESC:Events for Versant Power Astronomy Center and Maynard Jordan Planetarium
REFRESH-INTERVAL;VALUE=DURATION:PT1H
X-Robots-Tag:noindex
X-PUBLISHED-TTL:PT1H
BEGIN:VTIMEZONE
TZID:America/New_York
BEGIN:DAYLIGHT
TZOFFSETFROM:-0500
TZOFFSETTO:-0400
TZNAME:EDT
DTSTART:20180311T070000
END:DAYLIGHT
BEGIN:STANDARD
TZOFFSETFROM:-0400
TZOFFSETTO:-0500
TZNAME:EST
DTSTART:20181104T060000
END:STANDARD
BEGIN:DAYLIGHT
TZOFFSETFROM:-0500
TZOFFSETTO:-0400
TZNAME:EDT
DTSTART:20190310T070000
END:DAYLIGHT
BEGIN:STANDARD
TZOFFSETFROM:-0400
TZOFFSETTO:-0500
TZNAME:EST
DTSTART:20191103T060000
END:STANDARD
BEGIN:DAYLIGHT
TZOFFSETFROM:-0500
TZOFFSETTO:-0400
TZNAME:EDT
DTSTART:20200308T070000
END:DAYLIGHT
BEGIN:STANDARD
TZOFFSETFROM:-0400
TZOFFSETTO:-0500
TZNAME:EST
DTSTART:20201101T060000
END:STANDARD
END:VTIMEZONE
BEGIN:VEVENT
DTSTART;TZID=America/New_York:20191217T083000
DTEND;TZID=America/New_York:20191217T210000
DTSTAMP:20260420T024439
CREATED:20191213T220626Z
LAST-MODIFIED:20191213T221417Z
UID:10002676-1576571400-1576616400@astro.umaine.edu
SUMMARY:Guided Meditation Program
DESCRIPTION:Enjoy a guided meditation experience at Emera Astronomy Center’s planetarium.  View an amazing sunset as you travel from the Grand Canyon to the North Pole. Then relax under a night sky filled with stars and glimpses of the Northern Lights.    Meditation is a powerful tool for maintaining psychological health and resilience. Since the planetarium offers a dark and quiet space for relaxation\, it is the perfect place for meditation. Come de-stress from finals and the semester at the planetarium in this 30 minute experience.  Admission is free. No reservation is necessary\, and seating is available on a first-come\, first-served basis.
URL:https://astro.umaine.edu/event/guided-meditation-program/2019-12-17/1/
LOCATION:Versant Power Astronomy Center\, 167 Rangeley Rd\, Orono\, ME\, 04469\, United States
CATEGORIES:Public Program
ORGANIZER;CN="Versant Power Astronomy Center":MAILTO:planetarium@maine.edu
GEO:44.8929612;-68.6626623
X-APPLE-STRUCTURED-LOCATION;VALUE=URI;X-ADDRESS=Versant Power Astronomy Center 167 Rangeley Rd Orono ME 04469 United States;X-APPLE-RADIUS=500;X-TITLE=167 Rangeley Rd:geo:-68.6626623,44.8929612
END:VEVENT
BEGIN:VEVENT
DTSTART;TZID=America/New_York:20191217T113000
DTEND;TZID=America/New_York:20191217T120000
DTSTAMP:20260420T024439
CREATED:20191213T220626Z
LAST-MODIFIED:20191213T221417Z
UID:10002677-1576582200-1576584000@astro.umaine.edu
SUMMARY:Guided Meditation Program
DESCRIPTION:Enjoy a guided meditation experience at Emera Astronomy Center’s planetarium.  View an amazing sunset as you travel from the Grand Canyon to the North Pole. Then relax under a night sky filled with stars and glimpses of the Northern Lights.    Meditation is a powerful tool for maintaining psychological health and resilience. Since the planetarium offers a dark and quiet space for relaxation\, it is the perfect place for meditation. Come de-stress from finals and the semester at the planetarium in this 30 minute experience.  Admission is free. No reservation is necessary\, and seating is available on a first-come\, first-served basis.
URL:https://astro.umaine.edu/event/guided-meditation-program/2019-12-17/2/
LOCATION:Versant Power Astronomy Center\, 167 Rangeley Rd\, Orono\, ME\, 04469\, United States
CATEGORIES:Public Program
ORGANIZER;CN="Versant Power Astronomy Center":MAILTO:planetarium@maine.edu
GEO:44.8929612;-68.6626623
X-APPLE-STRUCTURED-LOCATION;VALUE=URI;X-ADDRESS=Versant Power Astronomy Center 167 Rangeley Rd Orono ME 04469 United States;X-APPLE-RADIUS=500;X-TITLE=167 Rangeley Rd:geo:-68.6626623,44.8929612
END:VEVENT
BEGIN:VEVENT
DTSTART;TZID=America/New_York:20191217T140000
DTEND;TZID=America/New_York:20191217T143000
DTSTAMP:20260420T024439
CREATED:20191213T220626Z
LAST-MODIFIED:20191213T221417Z
UID:10002678-1576591200-1576593000@astro.umaine.edu
SUMMARY:Guided Meditation Program
DESCRIPTION:Enjoy a guided meditation experience at Emera Astronomy Center’s planetarium.  View an amazing sunset as you travel from the Grand Canyon to the North Pole. Then relax under a night sky filled with stars and glimpses of the Northern Lights.    Meditation is a powerful tool for maintaining psychological health and resilience. Since the planetarium offers a dark and quiet space for relaxation\, it is the perfect place for meditation. Come de-stress from finals and the semester at the planetarium in this 30 minute experience.  Admission is free. No reservation is necessary\, and seating is available on a first-come\, first-served basis.
URL:https://astro.umaine.edu/event/guided-meditation-program/2019-12-17/3/
LOCATION:Versant Power Astronomy Center\, 167 Rangeley Rd\, Orono\, ME\, 04469\, United States
CATEGORIES:Public Program
ORGANIZER;CN="Versant Power Astronomy Center":MAILTO:planetarium@maine.edu
GEO:44.8929612;-68.6626623
X-APPLE-STRUCTURED-LOCATION;VALUE=URI;X-ADDRESS=Versant Power Astronomy Center 167 Rangeley Rd Orono ME 04469 United States;X-APPLE-RADIUS=500;X-TITLE=167 Rangeley Rd:geo:-68.6626623,44.8929612
END:VEVENT
END:VCALENDAR