BEGIN:VCALENDAR
VERSION:2.0
PRODID:-//Versant Power Astronomy Center and Maynard Jordan Planetarium - ECPv6.15.17.1//NONSGML v1.0//EN
CALSCALE:GREGORIAN
METHOD:PUBLISH
X-WR-CALNAME:Versant Power Astronomy Center and Maynard Jordan Planetarium
X-ORIGINAL-URL:https://astro.umaine.edu
X-WR-CALDESC:Events for Versant Power Astronomy Center and Maynard Jordan Planetarium
REFRESH-INTERVAL;VALUE=DURATION:PT1H
X-Robots-Tag:noindex
X-PUBLISHED-TTL:PT1H
BEGIN:VTIMEZONE
TZID:America/New_York
BEGIN:DAYLIGHT
TZOFFSETFROM:-0500
TZOFFSETTO:-0400
TZNAME:EDT
DTSTART:20200308T070000
END:DAYLIGHT
BEGIN:STANDARD
TZOFFSETFROM:-0400
TZOFFSETTO:-0500
TZNAME:EST
DTSTART:20201101T060000
END:STANDARD
BEGIN:DAYLIGHT
TZOFFSETFROM:-0500
TZOFFSETTO:-0400
TZNAME:EDT
DTSTART:20210314T070000
END:DAYLIGHT
BEGIN:STANDARD
TZOFFSETFROM:-0400
TZOFFSETTO:-0500
TZNAME:EST
DTSTART:20211107T060000
END:STANDARD
BEGIN:DAYLIGHT
TZOFFSETFROM:-0500
TZOFFSETTO:-0400
TZNAME:EDT
DTSTART:20220313T070000
END:DAYLIGHT
BEGIN:STANDARD
TZOFFSETFROM:-0400
TZOFFSETTO:-0500
TZNAME:EST
DTSTART:20221106T060000
END:STANDARD
END:VTIMEZONE
BEGIN:VEVENT
DTSTART;TZID=America/New_York:20210924T190000
DTEND;TZID=America/New_York:20210924T200000
DTSTAMP:20260421T075526
CREATED:20210627T233708Z
LAST-MODIFIED:20210731T042740Z
UID:10002795-1632510000-1632513600@astro.umaine.edu
SUMMARY:Expedition Reef
DESCRIPTION:Explore the secrets of the “rainforests of the sea” and embark on an oceanic safari to the world’s most vibrant and endangered marine ecosystems – coral reefs.  Discover how corals grow\, feed\, reproduce\, and support over 25% of all marine life on Earth — while facing unprecedented threats from climate change\, habitat destruction\, and overfishing.  Although they line about a third of tropical coastlines\, reefs comprise less than one percent of the world’s ocean environments\, showing how precious and fragile these systems are.  Thousands of tropical fish and colorful corals thrive in one of the largest and deepest indoor displays of living corals.  Narrated by Tony Award® winner Lea Salonga\, Expedition Reef will immerse audiences in an undersea adventure. This fulldome planetarium show provides an up-close look at a part of our planet many people have never experienced. \nWatch the trailer here. \n\nTickets for planetarium programs are $7 for Adults\, $6 for UMaine Students/Veterans/Senior Citizens\, and $5 for children under 12. Click here to view our calendar. \nTickets may be purchased online\, by phone at 207.581.1341\, or at our ticket box office prior to the show.
URL:https://astro.umaine.edu/event/expedition-reef-8/2021-09-24/
LOCATION:Versant Power Astronomy Center\, 167 Rangeley Rd\, Orono\, ME\, 04469\, United States
CATEGORIES:Public Program
ATTACH;FMTTYPE=image/jpeg:https://astro.umaine.edu/wp-content/uploads/sites/165/2018/08/expedition-reef-16x9.jpg
ORGANIZER;CN="Versant Power Astronomy Center":MAILTO:planetarium@maine.edu
GEO:44.8929612;-68.6626623
X-APPLE-STRUCTURED-LOCATION;VALUE=URI;X-ADDRESS=Versant Power Astronomy Center 167 Rangeley Rd Orono ME 04469 United States;X-APPLE-RADIUS=500;X-TITLE=167 Rangeley Rd:geo:-68.6626623,44.8929612
END:VEVENT
BEGIN:VEVENT
DTSTART;TZID=America/New_York:20210924T210000
DTEND;TZID=America/New_York:20210924T220000
DTSTAMP:20260421T075526
CREATED:20210731T212226Z
LAST-MODIFIED:20210731T212226Z
UID:10002872-1632517200-1632520800@astro.umaine.edu
SUMMARY:Pink Floyd: Wish You Were Here
DESCRIPTION:The album “Wish You Were Here\,” is Pink Floyd’s second themed work featuring classic songs such as “Shine On You Crazy Diamond” with its nine-part opus\, “Have a Cigar\,” “Welcome to the Machine\,” and the title track\, “Wish You Were Here.” It has been consistently ranked as being among the best albums of all time by a variety of sources.  Check out this incredible work set to stunning psychedelic full dome visuals. \nTickets are $9 for general admission. \nMusic programs may contain explicit lyrics\, and are intended for adult audiences. All music programs may contain bright flashing lights and fast-moving images\, which have been known to trigger seizures with those with photosensitive epilepsy. Viewer discretion is advised. \nTickets may be purchased online\, by phone at 207.581.1341\, or at our ticket box office prior to the show.
URL:https://astro.umaine.edu/event/pink-floyd-wish-you-were-here/2021-09-24/
LOCATION:Versant Power Astronomy Center\, 167 Rangeley Rd\, Orono\, ME\, 04469\, United States
CATEGORIES:Music Show,Public Program
ATTACH;FMTTYPE=image/jpeg:https://astro.umaine.edu/wp-content/uploads/sites/165/2021/07/Wish-You-Were-Here-e1627745284692.jpg
ORGANIZER;CN="Versant Power Astronomy Center":MAILTO:planetarium@maine.edu
GEO:44.8929612;-68.6626623
X-APPLE-STRUCTURED-LOCATION;VALUE=URI;X-ADDRESS=Versant Power Astronomy Center 167 Rangeley Rd Orono ME 04469 United States;X-APPLE-RADIUS=500;X-TITLE=167 Rangeley Rd:geo:-68.6626623,44.8929612
END:VEVENT
END:VCALENDAR