BEGIN:VCALENDAR
VERSION:2.0
PRODID:-//Versant Power Astronomy Center and Maynard Jordan Planetarium - ECPv6.15.17.1//NONSGML v1.0//EN
CALSCALE:GREGORIAN
METHOD:PUBLISH
X-WR-CALNAME:Versant Power Astronomy Center and Maynard Jordan Planetarium
X-ORIGINAL-URL:https://astro.umaine.edu
X-WR-CALDESC:Events for Versant Power Astronomy Center and Maynard Jordan Planetarium
REFRESH-INTERVAL;VALUE=DURATION:PT1H
X-Robots-Tag:noindex
X-PUBLISHED-TTL:PT1H
BEGIN:VTIMEZONE
TZID:America/New_York
BEGIN:DAYLIGHT
TZOFFSETFROM:-0500
TZOFFSETTO:-0400
TZNAME:EDT
DTSTART:20200308T070000
END:DAYLIGHT
BEGIN:STANDARD
TZOFFSETFROM:-0400
TZOFFSETTO:-0500
TZNAME:EST
DTSTART:20201101T060000
END:STANDARD
BEGIN:DAYLIGHT
TZOFFSETFROM:-0500
TZOFFSETTO:-0400
TZNAME:EDT
DTSTART:20210314T070000
END:DAYLIGHT
BEGIN:STANDARD
TZOFFSETFROM:-0400
TZOFFSETTO:-0500
TZNAME:EST
DTSTART:20211107T060000
END:STANDARD
BEGIN:DAYLIGHT
TZOFFSETFROM:-0500
TZOFFSETTO:-0400
TZNAME:EDT
DTSTART:20220313T070000
END:DAYLIGHT
BEGIN:STANDARD
TZOFFSETFROM:-0400
TZOFFSETTO:-0500
TZNAME:EST
DTSTART:20221106T060000
END:STANDARD
END:VTIMEZONE
BEGIN:VEVENT
DTSTART;TZID=America/New_York:20211014T190000
DTEND;TZID=America/New_York:20211014T200000
DTSTAMP:20260419T235807
CREATED:20210909T012553Z
LAST-MODIFIED:20210909T012651Z
UID:10002804-1634238000-1634241600@astro.umaine.edu
SUMMARY:Science Lecture Series: Dr. Neil Comins
DESCRIPTION:Dr. Neil Comins\nWhat If the Moon Didn’t Exist\n\n\n\nThursday\, October 14 at 7:00 pm \n\n\n\n  \nThe Moon is a vibrant part of our lives and has been celebrated for centuries in art\, literature and of course science.  We find it easily at night and if we look hard enough\, also during the day.  Most people have learned that it contributes to our tides and that it has been the goal of spaceflights since the late 1950s.  What would the Earth be like today if the Moon had never existed?  Certainly\, the tides would be different (yes\, they would still be here) and we wouldn’t have the Moon’s light to help illuminate the night.  But those are only the tip of the metaphorical iceberg.  Indeed\, the changes to Earth and life without a Moon are “breathtaking.”  Join Dr. Neil F Comins as he takes us on a virtual trip to the Moon to explore it and its importance to humanity. \n  \n   \n  \n  \nDr. Neil F Comins is professor of physics and astronomy at the University of Maine\, Orono.  He teaches classes ranging from introductory astronomy to general relativity.  He is the author of 21 astronomy trade and textbooks.  His book What if the Moon didn’t exist? has been the basis of planetarium\, radio\, TV\, and theater shows around the world. It was the theme of Mitsubishi’s pavilion at the 2005 World Expo.  His research in general relativity was cited in Subrahmanyan Chandrasekhar’s 1983 Nobel Prize lecture.  For the past 17 years he has been a cartoon character in Japan. \n  \n\n\n\n\n\n\n\n\n\n  \nThe Science Lecture Series at Versant Power Astronomy Center will take place on the second Thursday of each month and is a partnership project with the Maine Science Festival and will feature research from a variety of science disciplines from around our state and use the digital planetarium to visualize these discoveries in a new dramatic and immersive way. \nTickets for planetarium programs are $7 for Adults\, $6 for UMaine Students/Veterans/Senior Citizens\, and $5 for children under 12. Click here to view our calendar. \nTickets are available online at http://astro.umaine.edu\, by calling 581-1341\, or at the box office.
URL:https://astro.umaine.edu/event/science-lecture-series-dr-neil-comins/
LOCATION:Versant Power Astronomy Center\, 167 Rangeley Rd\, Orono\, ME\, 04469\, United States
CATEGORIES:Public Program,Science Lecture Series
ORGANIZER;CN="Versant Power Astronomy Center":MAILTO:planetarium@maine.edu
GEO:44.8929612;-68.6626623
X-APPLE-STRUCTURED-LOCATION;VALUE=URI;X-ADDRESS=Versant Power Astronomy Center 167 Rangeley Rd Orono ME 04469 United States;X-APPLE-RADIUS=500;X-TITLE=167 Rangeley Rd:geo:-68.6626623,44.8929612
END:VEVENT
END:VCALENDAR