BEGIN:VCALENDAR
VERSION:2.0
PRODID:-//Versant Power Astronomy Center and Maynard Jordan Planetarium - ECPv6.15.17.1//NONSGML v1.0//EN
CALSCALE:GREGORIAN
METHOD:PUBLISH
X-WR-CALNAME:Versant Power Astronomy Center and Maynard Jordan Planetarium
X-ORIGINAL-URL:https://astro.umaine.edu
X-WR-CALDESC:Events for Versant Power Astronomy Center and Maynard Jordan Planetarium
REFRESH-INTERVAL;VALUE=DURATION:PT1H
X-Robots-Tag:noindex
X-PUBLISHED-TTL:PT1H
BEGIN:VTIMEZONE
TZID:America/New_York
BEGIN:DAYLIGHT
TZOFFSETFROM:-0500
TZOFFSETTO:-0400
TZNAME:EDT
DTSTART:20210314T070000
END:DAYLIGHT
BEGIN:STANDARD
TZOFFSETFROM:-0400
TZOFFSETTO:-0500
TZNAME:EST
DTSTART:20211107T060000
END:STANDARD
BEGIN:DAYLIGHT
TZOFFSETFROM:-0500
TZOFFSETTO:-0400
TZNAME:EDT
DTSTART:20220313T070000
END:DAYLIGHT
BEGIN:STANDARD
TZOFFSETFROM:-0400
TZOFFSETTO:-0500
TZNAME:EST
DTSTART:20221106T060000
END:STANDARD
BEGIN:DAYLIGHT
TZOFFSETFROM:-0500
TZOFFSETTO:-0400
TZNAME:EDT
DTSTART:20230312T070000
END:DAYLIGHT
BEGIN:STANDARD
TZOFFSETFROM:-0400
TZOFFSETTO:-0500
TZNAME:EST
DTSTART:20231105T060000
END:STANDARD
END:VTIMEZONE
BEGIN:VEVENT
DTSTART;TZID=America/New_York:20220205T160000
DTEND;TZID=America/New_York:20220205T170000
DTSTAMP:20260421T130651
CREATED:20220105T154302Z
LAST-MODIFIED:20220105T154802Z
UID:10002889-1644076800-1644080400@astro.umaine.edu
SUMMARY:Telescopes\, Binoculars\, and Stargazing
DESCRIPTION:  \nDid you get a telescope or binoculars for Christmas?  Have questions on how they work or how to get started using them?  Join two experienced observers and planetarium directors on Saturday\, February 5th at 4:00 pm at the Versant Power Astronomy Center to get started on your celestial journey.   Shawn Laatsch and John Meader will guide participants on how binoculars and telescopes work\, ways to set them up\, and how to find objects in Maine’s night sky.  They will share a variety of resources for stargazing from books to websites to aps and more. Bring your binoculars and telescopes with you\, and weather permitting we will set up outside and do observing following the presentation. \n  \nJohn Meader is the owner and director of Northern Stars Planetarium\, a portable planetarium business that has served Maine schools for over 30 years. He is an avid sky observer\, astro-photographer\, and Registered Maine Guide. John serves as the vice president for Dark Sky Maine – a non-profit organization dedicated to preserving the night skies.  He loves canoeing\, hiking\, and the outdoors. John is also a UMaine grad who got his start as student director of the old planetarium in Wingate Hall in 1979. \n  \nShawn Laatsch is director of the Versant Power Astronomy Center at the University of Maine.  He has over 30 years of experience in planetariums and sharing the night sky with people of all ages.  He built his first telescope in 1985 for observing Haley’s Comet.  Shawn is a former president of the International Planetarium Society and currently serves as treasurer for Dark Sky Maine. \n  \nTickets are $10 a person. Tickets may be purchased online\, or by phone at 207.581.1341. \n 
URL:https://astro.umaine.edu/event/telescopes-binoculars-and-stargazing/
LOCATION:Versant Power Astronomy Center\, 167 Rangeley Rd\, Orono\, ME\, 04469\, United States
CATEGORIES:Public Event
ATTACH;FMTTYPE=image/jpeg:https://astro.umaine.edu/wp-content/uploads/sites/165/2022/01/JTM-_-SL2300.jpg
ORGANIZER;CN="Versant Power Astronomy Center":MAILTO:planetarium@maine.edu
GEO:44.8929612;-68.6626623
X-APPLE-STRUCTURED-LOCATION;VALUE=URI;X-ADDRESS=Versant Power Astronomy Center 167 Rangeley Rd Orono ME 04469 United States;X-APPLE-RADIUS=500;X-TITLE=167 Rangeley Rd:geo:-68.6626623,44.8929612
END:VEVENT
END:VCALENDAR