BEGIN:VCALENDAR
VERSION:2.0
PRODID:-//Versant Power Astronomy Center and Maynard Jordan Planetarium - ECPv6.15.17.1//NONSGML v1.0//EN
CALSCALE:GREGORIAN
METHOD:PUBLISH
X-WR-CALNAME:Versant Power Astronomy Center and Maynard Jordan Planetarium
X-ORIGINAL-URL:https://astro.umaine.edu
X-WR-CALDESC:Events for Versant Power Astronomy Center and Maynard Jordan Planetarium
REFRESH-INTERVAL;VALUE=DURATION:PT1H
X-Robots-Tag:noindex
X-PUBLISHED-TTL:PT1H
BEGIN:VTIMEZONE
TZID:America/New_York
BEGIN:DAYLIGHT
TZOFFSETFROM:-0500
TZOFFSETTO:-0400
TZNAME:EDT
DTSTART:20210314T070000
END:DAYLIGHT
BEGIN:STANDARD
TZOFFSETFROM:-0400
TZOFFSETTO:-0500
TZNAME:EST
DTSTART:20211107T060000
END:STANDARD
BEGIN:DAYLIGHT
TZOFFSETFROM:-0500
TZOFFSETTO:-0400
TZNAME:EDT
DTSTART:20220313T070000
END:DAYLIGHT
BEGIN:STANDARD
TZOFFSETFROM:-0400
TZOFFSETTO:-0500
TZNAME:EST
DTSTART:20221106T060000
END:STANDARD
BEGIN:DAYLIGHT
TZOFFSETFROM:-0500
TZOFFSETTO:-0400
TZNAME:EDT
DTSTART:20230312T070000
END:DAYLIGHT
BEGIN:STANDARD
TZOFFSETFROM:-0400
TZOFFSETTO:-0500
TZNAME:EST
DTSTART:20231105T060000
END:STANDARD
END:VTIMEZONE
BEGIN:VEVENT
DTSTART;TZID=America/New_York:20220424T140000
DTEND;TZID=America/New_York:20220424T150000
DTSTAMP:20260420T151521
CREATED:20211130T165643Z
LAST-MODIFIED:20220402T195428Z
UID:10002849-1650808800-1650812400@astro.umaine.edu
SUMMARY:Earth\, Moon\, and Sun with Skywatcher Special Event
DESCRIPTION:Earth\, Moon\, & Sun is a fast-paced full dome demonstration of lunar phases\, eclipses\, day and night\, the sun and other puzzling events with the help of a confused coyote. This program beautifully illustrates basic concepts like moon phases and seasons. Based on the trickster of Native American lore\, Coyote is constantly corrected in his misunderstandings of how things work. A live tour of the Maine sky and its beautiful constellations completes this micro-unit of astronomy. \nTrailer \nFollowing the show\, join Maine author and illustrator Jamie Hogan for a reading and signing of her new book children’s book SKYWATCHER at the planetarium! \nSKYWATCHER celebrates the beauty of our night skies and invites families to enjoy and appreciate nature at its best. Hogan’s story showcases the bond between mother and son and the discoveries that come with adventure\, while asking readers to consider dark nights as our window on the universe and seeing beyond ourselves. \nJamie Hogan is an award-winning illustrator and educator. Her illustrations have appeared in numerous books and magazines. Learn more about her here: https://www.jamiehogan.com/ \n\n  \nTickets for planetarium programs are $7 for Adults\, $6 for UMaine Students/Veterans/Senior Citizens\, and $5 for children under 12. Click here to view our calendar. \nTickets may be purchased online\, by phone at (207) 581-1341\, or at our ticket box office prior to the show.
URL:https://astro.umaine.edu/event/earth-moon-and-sun-16-2022-04-24/
LOCATION:Versant Power Astronomy Center\, 167 Rangeley Rd\, Orono\, ME\, 04469\, United States
CATEGORIES:Public Program
ORGANIZER;CN="Versant Power Astronomy Center":MAILTO:planetarium@maine.edu
GEO:44.8929612;-68.6626623
X-APPLE-STRUCTURED-LOCATION;VALUE=URI;X-ADDRESS=Versant Power Astronomy Center 167 Rangeley Rd Orono ME 04469 United States;X-APPLE-RADIUS=500;X-TITLE=167 Rangeley Rd:geo:-68.6626623,44.8929612
END:VEVENT
BEGIN:VEVENT
DTSTART;TZID=America/New_York:20220424T160000
DTEND;TZID=America/New_York:20220424T170000
DTSTAMP:20260420T151521
CREATED:20211130T143259Z
LAST-MODIFIED:20220301T160331Z
UID:10002424-1650816000-1650819600@astro.umaine.edu
SUMMARY:The Rolling Stones: Living in a Ghost Town
DESCRIPTION:The quintessential music of the Rolling Stones defined the generation that first heard them\, now comes to the planetarium. Such songs as Paint It\, Black\, Gimme Shelter\, and You Can’t Always Get What You Want alongside visuals are rolling into the planetarium! \nTickets are $9 for general admission. \nMusic programs may contain explicit lyrics\, and are intended for adult audiences. All music programs may contain bright flashing lights and fast-moving images\, which have been known to trigger seizures with those with photosensitive epilepsy. Viewer discretion is advised. \nTickets may be purchased online\, by phone at 207.581.1341\, or at our ticket box office prior to the show.
URL:https://astro.umaine.edu/event/the-rolling-stones/2022-04-24/
LOCATION:Versant Power Astronomy Center\, 167 Rangeley Rd\, Orono\, ME\, 04469\, United States
CATEGORIES:Music Show,Public Program
ATTACH;FMTTYPE=image/jpeg:https://astro.umaine.edu/wp-content/uploads/sites/165/2021/11/Rolling-Stones.jpg
ORGANIZER;CN="Versant Power Astronomy Center":MAILTO:planetarium@maine.edu
GEO:44.8929612;-68.6626623
X-APPLE-STRUCTURED-LOCATION;VALUE=URI;X-ADDRESS=Versant Power Astronomy Center 167 Rangeley Rd Orono ME 04469 United States;X-APPLE-RADIUS=500;X-TITLE=167 Rangeley Rd:geo:-68.6626623,44.8929612
END:VEVENT
END:VCALENDAR