BEGIN:VCALENDAR
VERSION:2.0
PRODID:-//Versant Power Astronomy Center and Maynard Jordan Planetarium - ECPv6.15.17.1//NONSGML v1.0//EN
CALSCALE:GREGORIAN
METHOD:PUBLISH
X-WR-CALNAME:Versant Power Astronomy Center and Maynard Jordan Planetarium
X-ORIGINAL-URL:https://astro.umaine.edu
X-WR-CALDESC:Events for Versant Power Astronomy Center and Maynard Jordan Planetarium
REFRESH-INTERVAL;VALUE=DURATION:PT1H
X-Robots-Tag:noindex
X-PUBLISHED-TTL:PT1H
BEGIN:VTIMEZONE
TZID:America/New_York
BEGIN:DAYLIGHT
TZOFFSETFROM:-0500
TZOFFSETTO:-0400
TZNAME:EDT
DTSTART:20230312T070000
END:DAYLIGHT
BEGIN:STANDARD
TZOFFSETFROM:-0400
TZOFFSETTO:-0500
TZNAME:EST
DTSTART:20231105T060000
END:STANDARD
BEGIN:DAYLIGHT
TZOFFSETFROM:-0500
TZOFFSETTO:-0400
TZNAME:EDT
DTSTART:20240310T070000
END:DAYLIGHT
BEGIN:STANDARD
TZOFFSETFROM:-0400
TZOFFSETTO:-0500
TZNAME:EST
DTSTART:20241103T060000
END:STANDARD
BEGIN:DAYLIGHT
TZOFFSETFROM:-0500
TZOFFSETTO:-0400
TZNAME:EDT
DTSTART:20250309T070000
END:DAYLIGHT
BEGIN:STANDARD
TZOFFSETFROM:-0400
TZOFFSETTO:-0500
TZNAME:EST
DTSTART:20251102T060000
END:STANDARD
END:VTIMEZONE
BEGIN:VEVENT
DTSTART;TZID=America/New_York:20241102T153000
DTEND;TZID=America/New_York:20241102T163000
DTSTAMP:20260421T130638
CREATED:20241028T130019Z
LAST-MODIFIED:20241028T130019Z
UID:10003554-1730561400-1730565000@astro.umaine.edu
SUMMARY:SPARK: The Universe in Us
DESCRIPTION:From the oxygen we breathe to the uranium that warms our planet’s core\, we owe everything to the stars. SPARK: The Universe in Us is about our deep connection not just to Earth\, but to stars millions of light years away—and billions of years in the past. Discover the celestial origins of the elements we all have in common. Along the way\, you’ll enter the core of a giant star just before it implodes\, experience the quiet demise of a star like the Sun\, and see how colliding stars seed the Universe with the building blocks of life. Narrated by Diego Luna. \n  \n\n  \nTickets for planetarium programs are $7 for Adults\, $6 for UMaine Students/Veterans/Senior Citizens\, and $5 for children under 12. Click here to view our calendar. \nTickets may be purchased online\, by phone at 207.581.1341\, or at our ticket box office prior to the show.
URL:https://astro.umaine.edu/event/spark-the-universe-in-us-2/
LOCATION:Versant Power Astronomy Center\, 167 Rangeley Rd\, Orono\, ME\, 04469\, United States
CATEGORIES:Public Program
ATTACH;FMTTYPE=image/jpeg:https://astro.umaine.edu/wp-content/uploads/sites/165/2024/09/spark_web.jpg
ORGANIZER;CN="Versant Power Astronomy Center":MAILTO:planetarium@maine.edu
GEO:44.8929612;-68.6626623
X-APPLE-STRUCTURED-LOCATION;VALUE=URI;X-ADDRESS=Versant Power Astronomy Center 167 Rangeley Rd Orono ME 04469 United States;X-APPLE-RADIUS=500;X-TITLE=167 Rangeley Rd:geo:-68.6626623,44.8929612
END:VEVENT
BEGIN:VEVENT
DTSTART;TZID=America/New_York:20241102T170000
DTEND;TZID=America/New_York:20241102T180000
DTSTAMP:20260421T130638
CREATED:20241028T130257Z
LAST-MODIFIED:20241028T130257Z
UID:10003555-1730566800-1730570400@astro.umaine.edu
SUMMARY:Worlds Beyond Earth
DESCRIPTION:Take an exhilarating journey to the worlds that orbit our Sun and the unique conditions that make life on our planet Earth possible. Celebrate the extraordinary Age of Exploration carried out by robotic explorers\, over the past 50 years with imagery from NASA\, European Space Agency (ESA)\, and Japan Aerospace Exploration (JAXA) missions.  Audiences will go on an epic adventure across the solar system\, from our Moon\, Mars and Venus to beyond the asteroid belt\, to Jupiter and Saturn.  Produced by the American Museum of Natural History in New York and narrated by Academy Award winner Lupita Nyong’o. \nWatch the trailer here! \n  \n\n  \nTickets for planetarium programs are $7 for Adults\, $6 for UMaine Students/Veterans/Senior Citizens\, and $5 for children under 12. Click here to view our calendar. \nTickets may be purchased online\, by phone at (207) 581-1341\, or at our ticket box office prior to the show.
URL:https://astro.umaine.edu/event/worlds-beyond-earth-7/
LOCATION:Versant Power Astronomy Center\, 167 Rangeley Rd\, Orono\, ME\, 04469\, United States
CATEGORIES:Public Program
ATTACH;FMTTYPE=image/jpeg:https://astro.umaine.edu/wp-content/uploads/sites/165/2022/10/Worlds-Beyond-Earth-16x9-1.jpg
ORGANIZER;CN="Versant Power Astronomy Center":MAILTO:planetarium@maine.edu
GEO:44.8929612;-68.6626623
X-APPLE-STRUCTURED-LOCATION;VALUE=URI;X-ADDRESS=Versant Power Astronomy Center 167 Rangeley Rd Orono ME 04469 United States;X-APPLE-RADIUS=500;X-TITLE=167 Rangeley Rd:geo:-68.6626623,44.8929612
END:VEVENT
BEGIN:VEVENT
DTSTART;TZID=America/New_York:20241102T193000
DTEND;TZID=America/New_York:20241102T203000
DTSTAMP:20260421T130638
CREATED:20241028T130529Z
LAST-MODIFIED:20241028T130529Z
UID:10003556-1730575800-1730579400@astro.umaine.edu
SUMMARY:Dark Side of the Moon: 50 Years in a Heartbeat
DESCRIPTION:Pink Floyd’s iconic album The Dark Side Of The Moon\, originally released in March 1973\, turns 50\, and what more fitting a place to celebrate it and experience it than in a Planetarium\, through the music set to visuals? With the help of modern technology\, the idea of a show combining breath-taking views of the solar system and beyond\, played out to 42 minutes of The Dark Side Of The Moon in surround sound\, has been embraced by the band. NSC Creative have led the visual production efforts\, working closely with Pink Floyd’s long time creative collaborator Aubrey Powell from Hipgnosis. \nEach song has a different theme; some futuristically looking forward and some a retro acknowledgment to Pink Floyd’s visual history\, all relating to a time and space experience\, embracing up to the minute technology that only a Planetarium can offer. A truly immersive and all-encompassing surround sound and visual treat that will transcend reality and take you way beyond the realms of 2D experience. \nTickets are $9 for general admission. \nMusic programs may contain explicit lyrics\, and are intended for adult audiences. All music programs may contain bright flashing lights and fast-moving images\, which have been known to trigger seizures with those with photosensitive epilepsy. Viewer discretion is advised. \nTickets may be purchased online\, by phone at 207.581.1341\, or at our ticket box office prior to the show.
URL:https://astro.umaine.edu/event/dark-side-of-the-moon-50-years-in-a-heartbeat-7/
LOCATION:Versant Power Astronomy Center\, 167 Rangeley Rd\, Orono\, ME\, 04469\, United States
CATEGORIES:Music Show,Public Program
ATTACH;FMTTYPE=image/png:https://astro.umaine.edu/wp-content/uploads/sites/165/2023/01/Dark-Side-of-the-Moon-16x9-1.png
ORGANIZER;CN="Versant Power Astronomy Center":MAILTO:planetarium@maine.edu
GEO:44.8929612;-68.6626623
X-APPLE-STRUCTURED-LOCATION;VALUE=URI;X-ADDRESS=Versant Power Astronomy Center 167 Rangeley Rd Orono ME 04469 United States;X-APPLE-RADIUS=500;X-TITLE=167 Rangeley Rd:geo:-68.6626623,44.8929612
END:VEVENT
END:VCALENDAR