BEGIN:VCALENDAR
VERSION:2.0
PRODID:-//Versant Power Astronomy Center and Maynard Jordan Planetarium - ECPv6.15.17.1//NONSGML v1.0//EN
CALSCALE:GREGORIAN
METHOD:PUBLISH
X-WR-CALNAME:Versant Power Astronomy Center and Maynard Jordan Planetarium
X-ORIGINAL-URL:https://astro.umaine.edu
X-WR-CALDESC:Events for Versant Power Astronomy Center and Maynard Jordan Planetarium
REFRESH-INTERVAL;VALUE=DURATION:PT1H
X-Robots-Tag:noindex
X-PUBLISHED-TTL:PT1H
BEGIN:VTIMEZONE
TZID:America/New_York
BEGIN:DAYLIGHT
TZOFFSETFROM:-0500
TZOFFSETTO:-0400
TZNAME:EDT
DTSTART:20160313T070000
END:DAYLIGHT
BEGIN:STANDARD
TZOFFSETFROM:-0400
TZOFFSETTO:-0500
TZNAME:EST
DTSTART:20161106T060000
END:STANDARD
BEGIN:DAYLIGHT
TZOFFSETFROM:-0500
TZOFFSETTO:-0400
TZNAME:EDT
DTSTART:20170312T070000
END:DAYLIGHT
BEGIN:STANDARD
TZOFFSETFROM:-0400
TZOFFSETTO:-0500
TZNAME:EST
DTSTART:20171105T060000
END:STANDARD
BEGIN:DAYLIGHT
TZOFFSETFROM:-0500
TZOFFSETTO:-0400
TZNAME:EDT
DTSTART:20180311T070000
END:DAYLIGHT
BEGIN:STANDARD
TZOFFSETFROM:-0400
TZOFFSETTO:-0500
TZNAME:EST
DTSTART:20181104T060000
END:STANDARD
END:VTIMEZONE
BEGIN:VEVENT
DTSTART;TZID=America/New_York:20171005T190000
DTEND;TZID=America/New_York:20171005T200000
DTSTAMP:20260421T002526
CREATED:20170922T131703Z
LAST-MODIFIED:20170922T131703Z
UID:10002242-1507230000-1507233600@astro.umaine.edu
SUMMARY:Science Lecture Series: Dr. Michaela Reagan
DESCRIPTION:Potential Cancer Cures Leveraging 3D Tissue Engineering and Bone Marrow Models\nThursday\, October 5 at 7:00 pm \nJoin us as we explore new ways to develop 3D models of cancer and bone marrow cells. Experience how fluorescent imaging of cells and biomaterials can bring biomedical research to life. Fly through confocal microscopy images of 3D silk scaffolds supporting bone marrow adipose tissue and cancer cells. Get a better sense of how cells look and act in 3D. Learn about the types of relationships cells have in the bone marrow and how researchers are leveraging these to design new ways of stopping cancer growth. \n  \nDr. Michaela Reagan is a Faculty Scientist at the Maine Medical Center Research Institute\, an Assistant Professor at the Tufts Sackler School of Graduate Biomedical Sciences\, and a Graduate Faculty Member at U. Maine in the GSBSE program. She obtained her BS in Engineering from Harvey Mudd College and her PhD in Biomedical Engineering from Tufts University. Dr. Reagan performed her post-doctoral fellowship research at the Dana-Farber Cancer Institute/Harvard Medical School. Dr. Reagan runs the Bioengineering Core at MMCRI and her research group is focused on developing better 3D in vitro models of cancer in the bone\, designing nanomedicine to target bone cancers\, and elucidating the biological mechanisms behind the interactions of bone cells and tumor cells. Her goal is to make novel discoveries that lead to new therapies that stop cancer disease progression. \n \nThe Science Lecture Series at Emera Astronomy Center will take place the first Thursdays of each month and is a partnership project with the Maine Science Festival and will feature research from a variety of science disciplines from around our state and use the digital planetarium to visualize these discoveries in a new dramatic and immersive way. \nTickets for planetarium programs are $6 for Adults\, $5 for UMaine Students/Veterans/Senior Citizens\, and $4 for children under 12. Click here to view our calendar. \nTickets may be purchased online\, by phone at 207.581.1341\, or at our ticket box office prior to the show.
URL:https://astro.umaine.edu/event/science-lecture-series-dr-michaela-reagan/
LOCATION:Versant Power Astronomy Center\, 167 Rangeley Rd\, Orono\, ME\, 04469\, United States
CATEGORIES:Public Event,Public Program,Science Lecture Series
GEO:44.8929612;-68.6626623
X-APPLE-STRUCTURED-LOCATION;VALUE=URI;X-ADDRESS=Versant Power Astronomy Center 167 Rangeley Rd Orono ME 04469 United States;X-APPLE-RADIUS=500;X-TITLE=167 Rangeley Rd:geo:-68.6626623,44.8929612
END:VEVENT
END:VCALENDAR