BEGIN:VCALENDAR
VERSION:2.0
PRODID:-//Versant Power Astronomy Center and Maynard Jordan Planetarium - ECPv6.15.17.1//NONSGML v1.0//EN
CALSCALE:GREGORIAN
METHOD:PUBLISH
X-WR-CALNAME:Versant Power Astronomy Center and Maynard Jordan Planetarium
X-ORIGINAL-URL:https://astro.umaine.edu
X-WR-CALDESC:Events for Versant Power Astronomy Center and Maynard Jordan Planetarium
REFRESH-INTERVAL;VALUE=DURATION:PT1H
X-Robots-Tag:noindex
X-PUBLISHED-TTL:PT1H
BEGIN:VTIMEZONE
TZID:America/New_York
BEGIN:DAYLIGHT
TZOFFSETFROM:-0500
TZOFFSETTO:-0400
TZNAME:EDT
DTSTART:20230312T070000
END:DAYLIGHT
BEGIN:STANDARD
TZOFFSETFROM:-0400
TZOFFSETTO:-0500
TZNAME:EST
DTSTART:20231105T060000
END:STANDARD
BEGIN:DAYLIGHT
TZOFFSETFROM:-0500
TZOFFSETTO:-0400
TZNAME:EDT
DTSTART:20240310T070000
END:DAYLIGHT
BEGIN:STANDARD
TZOFFSETFROM:-0400
TZOFFSETTO:-0500
TZNAME:EST
DTSTART:20241103T060000
END:STANDARD
BEGIN:DAYLIGHT
TZOFFSETFROM:-0500
TZOFFSETTO:-0400
TZNAME:EDT
DTSTART:20250309T070000
END:DAYLIGHT
BEGIN:STANDARD
TZOFFSETFROM:-0400
TZOFFSETTO:-0500
TZNAME:EST
DTSTART:20251102T060000
END:STANDARD
END:VTIMEZONE
BEGIN:VEVENT
DTSTART;TZID=America/New_York:20240928T160000
DTEND;TZID=America/New_York:20240928T210000
DTSTAMP:20260424T161654
CREATED:20240904T190624Z
LAST-MODIFIED:20240904T191526Z
UID:10003516-1727539200-1727557200@astro.umaine.edu
SUMMARY:Stars Over Katahdin 2024
DESCRIPTION:Celebrate the darkest skies east of the Mississippi and the first International Dark Sky Sanctuary in New England! \nEnjoy guided stargazing led by expert astronomers\, educational campfire chats\, and a variety of fun activities designed for all ages. The event is free\, but please register. For more information or to register\, please visit www.friendsofkww.org/stars/
URL:https://astro.umaine.edu/event/stars-over-katahdin-2024/
LOCATION:Private: Lumbermen’s Museum\, 61 Shin Pond Road\, Patten\, ME\, 04765\, United States
CATEGORIES:Public Event
ATTACH;FMTTYPE=image/jpeg:https://astro.umaine.edu/wp-content/uploads/sites/165/2024/09/2024-SOK-Half-Page-Flyer-e1725477156543.jpg
END:VEVENT
END:VCALENDAR