BEGIN:VCALENDAR
VERSION:2.0
PRODID:-//Versant Power Astronomy Center and Maynard Jordan Planetarium - ECPv6.15.17.1//NONSGML v1.0//EN
CALSCALE:GREGORIAN
METHOD:PUBLISH
X-ORIGINAL-URL:https://astro.umaine.edu
X-WR-CALDESC:Events for Versant Power Astronomy Center and Maynard Jordan Planetarium
REFRESH-INTERVAL;VALUE=DURATION:PT1H
X-Robots-Tag:noindex
X-PUBLISHED-TTL:PT1H
BEGIN:VTIMEZONE
TZID:America/New_York
BEGIN:DAYLIGHT
TZOFFSETFROM:-0500
TZOFFSETTO:-0400
TZNAME:EDT
DTSTART:20200308T070000
END:DAYLIGHT
BEGIN:STANDARD
TZOFFSETFROM:-0400
TZOFFSETTO:-0500
TZNAME:EST
DTSTART:20201101T060000
END:STANDARD
BEGIN:DAYLIGHT
TZOFFSETFROM:-0500
TZOFFSETTO:-0400
TZNAME:EDT
DTSTART:20210314T070000
END:DAYLIGHT
BEGIN:STANDARD
TZOFFSETFROM:-0400
TZOFFSETTO:-0500
TZNAME:EST
DTSTART:20211107T060000
END:STANDARD
BEGIN:DAYLIGHT
TZOFFSETFROM:-0500
TZOFFSETTO:-0400
TZNAME:EDT
DTSTART:20220313T070000
END:DAYLIGHT
BEGIN:STANDARD
TZOFFSETFROM:-0400
TZOFFSETTO:-0500
TZNAME:EST
DTSTART:20221106T060000
END:STANDARD
END:VTIMEZONE
BEGIN:VEVENT
DTSTART;TZID=America/New_York:20210418T160000
DTEND;TZID=America/New_York:20210418T170000
DTSTAMP:20260420T204128
CREATED:20230823T150207Z
LAST-MODIFIED:20230823T150207Z
UID:10002755-1618761600-1618765200@astro.umaine.edu
SUMMARY:Pink Floyd: Dark Side of the Moon
DESCRIPTION:Pink Floyd: Dark Side of the Moon immerses theatergoers on a journey of our universe centralized on sensational visuals and artistic interpretation. Experience music from this internationally acclaimed rock band at the Versant Power Astronomy Center! \nTickets are $8 for general admission. \nMusic programs may contain explicit lyrics\, and are intended for adult audiences. All music programs may contain bright flashing lights and fast-moving images\, which have been known to trigger seizures with those with photosensitive epilepsy. Viewer discretion is advised. \nTickets must be purchased in advance online\, or by phone at 207.581.1341. \nPlease plan to arrive a minimum of 10 to 15 minutes in advance of the show to be seated by our ushers.  This is part of our COVID safety protocols.
URL:https://astro.umaine.edu/event/pink-floyd-dark-side-of-the-moon-3/2021-04-18/
LOCATION:Versant Power Astronomy Center\, 167 Rangeley Rd\, Orono\, ME\, 04469\, United States
CATEGORIES:Music Show,Public Program
ATTACH;FMTTYPE=image/png:https://astro.umaine.edu/wp-content/uploads/sites/165/2019/06/DarkSide.png
ORGANIZER;CN="Versant Power Astronomy Center":MAILTO:planetarium@maine.edu
GEO:44.8929612;-68.6626623
X-APPLE-STRUCTURED-LOCATION;VALUE=URI;X-ADDRESS=Versant Power Astronomy Center 167 Rangeley Rd Orono ME 04469 United States;X-APPLE-RADIUS=500;X-TITLE=167 Rangeley Rd:geo:-68.6626623,44.8929612
END:VEVENT
END:VCALENDAR