BEGIN:VCALENDAR
VERSION:2.0
PRODID:-//Versant Power Astronomy Center and Maynard Jordan Planetarium - ECPv6.15.17.1//NONSGML v1.0//EN
CALSCALE:GREGORIAN
METHOD:PUBLISH
X-ORIGINAL-URL:https://astro.umaine.edu
X-WR-CALDESC:Events for Versant Power Astronomy Center and Maynard Jordan Planetarium
REFRESH-INTERVAL;VALUE=DURATION:PT1H
X-Robots-Tag:noindex
X-PUBLISHED-TTL:PT1H
BEGIN:VTIMEZONE
TZID:America/New_York
BEGIN:DAYLIGHT
TZOFFSETFROM:-0500
TZOFFSETTO:-0400
TZNAME:EDT
DTSTART:20220313T070000
END:DAYLIGHT
BEGIN:STANDARD
TZOFFSETFROM:-0400
TZOFFSETTO:-0500
TZNAME:EST
DTSTART:20221106T060000
END:STANDARD
BEGIN:DAYLIGHT
TZOFFSETFROM:-0500
TZOFFSETTO:-0400
TZNAME:EDT
DTSTART:20230312T070000
END:DAYLIGHT
BEGIN:STANDARD
TZOFFSETFROM:-0400
TZOFFSETTO:-0500
TZNAME:EST
DTSTART:20231105T060000
END:STANDARD
BEGIN:DAYLIGHT
TZOFFSETFROM:-0500
TZOFFSETTO:-0400
TZNAME:EDT
DTSTART:20240310T070000
END:DAYLIGHT
BEGIN:STANDARD
TZOFFSETFROM:-0400
TZOFFSETTO:-0500
TZNAME:EST
DTSTART:20241103T060000
END:STANDARD
END:VTIMEZONE
BEGIN:VEVENT
DTSTART;TZID=America/New_York:20230714T140000
DTEND;TZID=America/New_York:20230714T150000
DTSTAMP:20260420T213248
CREATED:20230526T154751Z
LAST-MODIFIED:20230526T155723Z
UID:10003093-1689343200-1689346800@astro.umaine.edu
SUMMARY:Discover the Sky with Galileo
DESCRIPTION:In ancient times\, Greek astronomers understood that planets are not like the stars\, because they move in a different way in our skies. Why do they move the way they do? What are they made of? And what about the Moon? Is it really a perfect object with a smooth surface? To answer these questions\, we have the need to give a closer look to the sky using something that can make our sight sharper and deeper. It’s from this need that our story begins. \n  \n \n  \nThis is a special presentation from Ms. Elena Lazzaretto. Ms. Lazzaretto began her career as Scientific Communicator with the Italian National Institute for Astrophysics (www.inaf.it) and began working at the Planetarium of Padova in 2011 where she is the planetarium astronomer and an educator with extensive knowledge about full-dome live show scripting\, computer graphics\, sound design and event organization. She is also a Freelance Scientific Communicator and teaches Math and Physics at High Schools in Padova\, Italy. \n  \n\n  \nTickets for planetarium programs are $7 for Adults\, $6 for UMaine Students/Veterans/Senior Citizens\, and $5 for children under 12. Click here to view our calendar. \nTickets may be purchased online\, by phone at 207.581.1341\, or at our ticket box office prior to the show.
URL:https://astro.umaine.edu/event/discover-the-sky-with-galileo/2023-07-14/
LOCATION:Versant Power Astronomy Center\, 167 Rangeley Rd\, Orono\, ME\, 04469\, United States
CATEGORIES:Public Event,Summer Afternoon Show
ATTACH;FMTTYPE=image/png:https://astro.umaine.edu/wp-content/uploads/sites/165/2023/05/Galileo-and-Telescope-16x9-1.png
ORGANIZER;CN="Versant Power Astronomy Center":MAILTO:planetarium@maine.edu
GEO:44.8929612;-68.6626623
X-APPLE-STRUCTURED-LOCATION;VALUE=URI;X-ADDRESS=Versant Power Astronomy Center 167 Rangeley Rd Orono ME 04469 United States;X-APPLE-RADIUS=500;X-TITLE=167 Rangeley Rd:geo:-68.6626623,44.8929612
END:VEVENT
BEGIN:VEVENT
DTSTART;TZID=America/New_York:20230714T190000
DTEND;TZID=America/New_York:20230714T200000
DTSTAMP:20260420T213248
CREATED:20230627T185437Z
LAST-MODIFIED:20230627T191647Z
UID:10003193-1689361200-1689364800@astro.umaine.edu
SUMMARY:From Galileo to JWST: Uncovering the Universe
DESCRIPTION:From Galileo’s simple telescopes in the 17th century to the James Webb Space Telescope (JWST) launched in 2021\, each new generation of telescopes has brought us closer to unlocking the mysteries of the cosmos. These amazing instruments have played a critical role in our understanding of our place in the universe. From the discovery of the moons of Jupiter by Galileo to the incredible images captured by the James Webb Space Telescope\, each new generation of telescopes has expanded our knowledge of the sky above. \n  \nJoin Elena Lazzaretto\, planetarium astronomer from Planetario di Padova and Shawn Laatsch\, Director of the Versant Power Astronomy Center as they share a bit about the journey from Galileo to JWST and reveal one of the most recent JWST images. \n  \n\n  \nTickets for planetarium programs are $7 for Adults\, $6 for UMaine Students/Veterans/Senior Citizens\, and $5 for children under 12. Click here to view our calendar. \nTickets may be purchased online\, by phone at 207.581.1341\, or at our ticket box office prior to the show.
URL:https://astro.umaine.edu/event/from-galileo-to-jwst-uncovering-the-universe/
LOCATION:Versant Power Astronomy Center\, 167 Rangeley Rd\, Orono\, ME\, 04469\, United States
CATEGORIES:Public Program
ATTACH;FMTTYPE=image/jpeg:https://astro.umaine.edu/wp-content/uploads/sites/165/2023/06/Galileo-to-JWST.jpg
ORGANIZER;CN="Versant Power Astronomy Center":MAILTO:planetarium@maine.edu
GEO:44.8929612;-68.6626623
X-APPLE-STRUCTURED-LOCATION;VALUE=URI;X-ADDRESS=Versant Power Astronomy Center 167 Rangeley Rd Orono ME 04469 United States;X-APPLE-RADIUS=500;X-TITLE=167 Rangeley Rd:geo:-68.6626623,44.8929612
END:VEVENT
END:VCALENDAR