BEGIN:VCALENDAR
VERSION:2.0
PRODID:-//Versant Power Astronomy Center and Maynard Jordan Planetarium - ECPv6.15.17.1//NONSGML v1.0//EN
CALSCALE:GREGORIAN
METHOD:PUBLISH
X-WR-CALNAME:Versant Power Astronomy Center and Maynard Jordan Planetarium
X-ORIGINAL-URL:https://astro.umaine.edu
X-WR-CALDESC:Events for Versant Power Astronomy Center and Maynard Jordan Planetarium
REFRESH-INTERVAL;VALUE=DURATION:PT1H
X-Robots-Tag:noindex
X-PUBLISHED-TTL:PT1H
BEGIN:VTIMEZONE
TZID:America/New_York
BEGIN:DAYLIGHT
TZOFFSETFROM:-0500
TZOFFSETTO:-0400
TZNAME:EDT
DTSTART:20200308T070000
END:DAYLIGHT
BEGIN:STANDARD
TZOFFSETFROM:-0400
TZOFFSETTO:-0500
TZNAME:EST
DTSTART:20201101T060000
END:STANDARD
BEGIN:DAYLIGHT
TZOFFSETFROM:-0500
TZOFFSETTO:-0400
TZNAME:EDT
DTSTART:20210314T070000
END:DAYLIGHT
BEGIN:STANDARD
TZOFFSETFROM:-0400
TZOFFSETTO:-0500
TZNAME:EST
DTSTART:20211107T060000
END:STANDARD
BEGIN:DAYLIGHT
TZOFFSETFROM:-0500
TZOFFSETTO:-0400
TZNAME:EDT
DTSTART:20220313T070000
END:DAYLIGHT
BEGIN:STANDARD
TZOFFSETFROM:-0400
TZOFFSETTO:-0500
TZNAME:EST
DTSTART:20221106T060000
END:STANDARD
END:VTIMEZONE
BEGIN:VEVENT
DTSTART;TZID=America/New_York:20210801T160000
DTEND;TZID=America/New_York:20210801T170000
DTSTAMP:20260421T132057
CREATED:20210627T232401Z
LAST-MODIFIED:20210731T042028Z
UID:10002787-1627833600-1627837200@astro.umaine.edu
SUMMARY:Coldplay: Sky Full of Stars
DESCRIPTION:Using the cutting-edge capabilities of the planetarium\, Coldplay: A Sky Full of Stars fuses the sounds of energetic rock with stunning and inventive visuals.  This musical experience engages audiences in a sensory journey full of innovation\, artistry\, and imagination set to the pulsating soundtrack of an internationally renowned band.  Featuring songs such as Speed of Sound\, Clocks\, Paradise\, Viva la Vida\, and many other hits this show will thrill Coldplay fans. \nTickets are $9 for general admission. \nMusic programs may contain explicit lyrics\, and are intended for adult audiences. All music programs may contain bright flashing lights and fast-moving images\, which have been known to trigger seizures with those with photosensitive epilepsy. Viewer discretion is advised. \nTickets may be purchased online\, by phone at 207.581.1341\, or at our ticket box office prior to the show.
URL:https://astro.umaine.edu/event/coldplay-sky-full-of-stars-2/2021-08-01/
LOCATION:Versant Power Astronomy Center\, 167 Rangeley Rd\, Orono\, ME\, 04469\, United States
CATEGORIES:Music Show,Public Program
ATTACH;FMTTYPE=image/png:https://astro.umaine.edu/wp-content/uploads/sites/165/2021/07/Coldplay-New-e1627745602526.png
ORGANIZER;CN="Versant Power Astronomy Center":MAILTO:planetarium@maine.edu
GEO:44.8929612;-68.6626623
X-APPLE-STRUCTURED-LOCATION;VALUE=URI;X-ADDRESS=Versant Power Astronomy Center 167 Rangeley Rd Orono ME 04469 United States;X-APPLE-RADIUS=500;X-TITLE=167 Rangeley Rd:geo:-68.6626623,44.8929612
END:VEVENT
BEGIN:VEVENT
DTSTART;TZID=America/New_York:20210808T160000
DTEND;TZID=America/New_York:20210808T170000
DTSTAMP:20260421T132057
CREATED:20210627T232401Z
LAST-MODIFIED:20210731T042028Z
UID:10002788-1628438400-1628442000@astro.umaine.edu
SUMMARY:Coldplay: Sky Full of Stars
DESCRIPTION:Using the cutting-edge capabilities of the planetarium\, Coldplay: A Sky Full of Stars fuses the sounds of energetic rock with stunning and inventive visuals.  This musical experience engages audiences in a sensory journey full of innovation\, artistry\, and imagination set to the pulsating soundtrack of an internationally renowned band.  Featuring songs such as Speed of Sound\, Clocks\, Paradise\, Viva la Vida\, and many other hits this show will thrill Coldplay fans. \nTickets are $9 for general admission. \nMusic programs may contain explicit lyrics\, and are intended for adult audiences. All music programs may contain bright flashing lights and fast-moving images\, which have been known to trigger seizures with those with photosensitive epilepsy. Viewer discretion is advised. \nTickets may be purchased online\, by phone at 207.581.1341\, or at our ticket box office prior to the show.
URL:https://astro.umaine.edu/event/coldplay-sky-full-of-stars-2/2021-08-08/
LOCATION:Versant Power Astronomy Center\, 167 Rangeley Rd\, Orono\, ME\, 04469\, United States
CATEGORIES:Music Show,Public Program
ATTACH;FMTTYPE=image/png:https://astro.umaine.edu/wp-content/uploads/sites/165/2021/07/Coldplay-New-e1627745602526.png
ORGANIZER;CN="Versant Power Astronomy Center":MAILTO:planetarium@maine.edu
GEO:44.8929612;-68.6626623
X-APPLE-STRUCTURED-LOCATION;VALUE=URI;X-ADDRESS=Versant Power Astronomy Center 167 Rangeley Rd Orono ME 04469 United States;X-APPLE-RADIUS=500;X-TITLE=167 Rangeley Rd:geo:-68.6626623,44.8929612
END:VEVENT
BEGIN:VEVENT
DTSTART;TZID=America/New_York:20210814T173000
DTEND;TZID=America/New_York:20210814T183000
DTSTAMP:20260421T132057
CREATED:20210731T012327Z
LAST-MODIFIED:20210731T012327Z
UID:10002388-1628962200-1628965800@astro.umaine.edu
SUMMARY:Pink Floyd: Dark Side of the Moon
DESCRIPTION:Pink Floyd: Dark Side of the Moon immerses theatergoers on a journey of our universe centralized on sensational visuals and artistic interpretation. Experience music from this internationally acclaimed rock band at the Versant Power Astronomy Center! \nTickets are $9 for general admission. \nMusic programs may contain explicit lyrics\, and are intended for adult audiences. All music programs may contain bright flashing lights and fast-moving images\, which have been known to trigger seizures with those with photosensitive epilepsy. Viewer discretion is advised. \nTickets must be purchased in advance online\, by phone at 207.581.1341\, or at our ticket office box prior to the show. \n 
URL:https://astro.umaine.edu/event/pink-floyd-dark-side-of-the-moon-4/
LOCATION:Versant Power Astronomy Center\, 167 Rangeley Rd\, Orono\, ME\, 04469\, United States
CATEGORIES:Music Show,Public Program
ATTACH;FMTTYPE=image/png:https://astro.umaine.edu/wp-content/uploads/sites/165/2019/06/DarkSide.png
ORGANIZER;CN="Versant Power Astronomy Center":MAILTO:planetarium@maine.edu
GEO:44.8929612;-68.6626623
X-APPLE-STRUCTURED-LOCATION;VALUE=URI;X-ADDRESS=Versant Power Astronomy Center 167 Rangeley Rd Orono ME 04469 United States;X-APPLE-RADIUS=500;X-TITLE=167 Rangeley Rd:geo:-68.6626623,44.8929612
END:VEVENT
BEGIN:VEVENT
DTSTART;TZID=America/New_York:20210815T160000
DTEND;TZID=America/New_York:20210815T170000
DTSTAMP:20260421T132057
CREATED:20210627T232401Z
LAST-MODIFIED:20210731T042028Z
UID:10002789-1629043200-1629046800@astro.umaine.edu
SUMMARY:Coldplay: Sky Full of Stars
DESCRIPTION:Using the cutting-edge capabilities of the planetarium\, Coldplay: A Sky Full of Stars fuses the sounds of energetic rock with stunning and inventive visuals.  This musical experience engages audiences in a sensory journey full of innovation\, artistry\, and imagination set to the pulsating soundtrack of an internationally renowned band.  Featuring songs such as Speed of Sound\, Clocks\, Paradise\, Viva la Vida\, and many other hits this show will thrill Coldplay fans. \nTickets are $9 for general admission. \nMusic programs may contain explicit lyrics\, and are intended for adult audiences. All music programs may contain bright flashing lights and fast-moving images\, which have been known to trigger seizures with those with photosensitive epilepsy. Viewer discretion is advised. \nTickets may be purchased online\, by phone at 207.581.1341\, or at our ticket box office prior to the show.
URL:https://astro.umaine.edu/event/coldplay-sky-full-of-stars-2/2021-08-15/
LOCATION:Versant Power Astronomy Center\, 167 Rangeley Rd\, Orono\, ME\, 04469\, United States
CATEGORIES:Music Show,Public Program
ATTACH;FMTTYPE=image/png:https://astro.umaine.edu/wp-content/uploads/sites/165/2021/07/Coldplay-New-e1627745602526.png
ORGANIZER;CN="Versant Power Astronomy Center":MAILTO:planetarium@maine.edu
GEO:44.8929612;-68.6626623
X-APPLE-STRUCTURED-LOCATION;VALUE=URI;X-ADDRESS=Versant Power Astronomy Center 167 Rangeley Rd Orono ME 04469 United States;X-APPLE-RADIUS=500;X-TITLE=167 Rangeley Rd:geo:-68.6626623,44.8929612
END:VEVENT
BEGIN:VEVENT
DTSTART;TZID=America/New_York:20210822T160000
DTEND;TZID=America/New_York:20210822T170000
DTSTAMP:20260421T132057
CREATED:20210627T232401Z
LAST-MODIFIED:20210731T042028Z
UID:10002790-1629648000-1629651600@astro.umaine.edu
SUMMARY:Coldplay: Sky Full of Stars
DESCRIPTION:Using the cutting-edge capabilities of the planetarium\, Coldplay: A Sky Full of Stars fuses the sounds of energetic rock with stunning and inventive visuals.  This musical experience engages audiences in a sensory journey full of innovation\, artistry\, and imagination set to the pulsating soundtrack of an internationally renowned band.  Featuring songs such as Speed of Sound\, Clocks\, Paradise\, Viva la Vida\, and many other hits this show will thrill Coldplay fans. \nTickets are $9 for general admission. \nMusic programs may contain explicit lyrics\, and are intended for adult audiences. All music programs may contain bright flashing lights and fast-moving images\, which have been known to trigger seizures with those with photosensitive epilepsy. Viewer discretion is advised. \nTickets may be purchased online\, by phone at 207.581.1341\, or at our ticket box office prior to the show.
URL:https://astro.umaine.edu/event/coldplay-sky-full-of-stars-2/2021-08-22/
LOCATION:Versant Power Astronomy Center\, 167 Rangeley Rd\, Orono\, ME\, 04469\, United States
CATEGORIES:Music Show,Public Program
ATTACH;FMTTYPE=image/png:https://astro.umaine.edu/wp-content/uploads/sites/165/2021/07/Coldplay-New-e1627745602526.png
ORGANIZER;CN="Versant Power Astronomy Center":MAILTO:planetarium@maine.edu
GEO:44.8929612;-68.6626623
X-APPLE-STRUCTURED-LOCATION;VALUE=URI;X-ADDRESS=Versant Power Astronomy Center 167 Rangeley Rd Orono ME 04469 United States;X-APPLE-RADIUS=500;X-TITLE=167 Rangeley Rd:geo:-68.6626623,44.8929612
END:VEVENT
BEGIN:VEVENT
DTSTART;TZID=America/New_York:20210827T210000
DTEND;TZID=America/New_York:20210827T220000
DTSTAMP:20260421T132057
CREATED:20210731T013655Z
LAST-MODIFIED:20210731T013655Z
UID:10002392-1630098000-1630101600@astro.umaine.edu
SUMMARY:Coldplay: A Sky Full of Stars
DESCRIPTION:Using the cutting-edge capabilities of the planetarium\, Coldplay: A Sky Full of Stars fuses the sounds of energetic rock with stunning and inventive visuals.  This musical experience engages audiences in a sensory journey full of innovation\, artistry\, and imagination set to the pulsating soundtrack of an internationally renowned band.  Featuring songs such as Speed of Sound\, Clocks\, Paradise\, Viva la Vida\, and many other hits this show will thrill Coldplay fans. \nTickets are $9 for general admission. \nMusic programs may contain explicit lyrics\, and are intended for adult audiences. All music programs may contain bright flashing lights and fast-moving images\, which have been known to trigger seizures with those with photosensitive epilepsy. Viewer discretion is advised. \nTickets may be purchased online\, by phone at 207.581.1341\, or at our ticket box office prior to the show.
URL:https://astro.umaine.edu/event/coldplay-a-sky-full-of-stars/
LOCATION:Versant Power Astronomy Center\, 167 Rangeley Rd\, Orono\, ME\, 04469\, United States
CATEGORIES:Music Show,Public Program
ATTACH;FMTTYPE=image/png:https://astro.umaine.edu/wp-content/uploads/sites/165/2021/07/Coldplay-New-e1627745602526.png
ORGANIZER;CN="Versant Power Astronomy Center":MAILTO:planetarium@maine.edu
GEO:44.8929612;-68.6626623
X-APPLE-STRUCTURED-LOCATION;VALUE=URI;X-ADDRESS=Versant Power Astronomy Center 167 Rangeley Rd Orono ME 04469 United States;X-APPLE-RADIUS=500;X-TITLE=167 Rangeley Rd:geo:-68.6626623,44.8929612
END:VEVENT
BEGIN:VEVENT
DTSTART;TZID=America/New_York:20210829T160000
DTEND;TZID=America/New_York:20210829T170000
DTSTAMP:20260421T132057
CREATED:20210627T232401Z
LAST-MODIFIED:20210731T042028Z
UID:10002791-1630252800-1630256400@astro.umaine.edu
SUMMARY:Coldplay: Sky Full of Stars
DESCRIPTION:Using the cutting-edge capabilities of the planetarium\, Coldplay: A Sky Full of Stars fuses the sounds of energetic rock with stunning and inventive visuals.  This musical experience engages audiences in a sensory journey full of innovation\, artistry\, and imagination set to the pulsating soundtrack of an internationally renowned band.  Featuring songs such as Speed of Sound\, Clocks\, Paradise\, Viva la Vida\, and many other hits this show will thrill Coldplay fans. \nTickets are $9 for general admission. \nMusic programs may contain explicit lyrics\, and are intended for adult audiences. All music programs may contain bright flashing lights and fast-moving images\, which have been known to trigger seizures with those with photosensitive epilepsy. Viewer discretion is advised. \nTickets may be purchased online\, by phone at 207.581.1341\, or at our ticket box office prior to the show.
URL:https://astro.umaine.edu/event/coldplay-sky-full-of-stars-2/2021-08-29/
LOCATION:Versant Power Astronomy Center\, 167 Rangeley Rd\, Orono\, ME\, 04469\, United States
CATEGORIES:Music Show,Public Program
ATTACH;FMTTYPE=image/png:https://astro.umaine.edu/wp-content/uploads/sites/165/2021/07/Coldplay-New-e1627745602526.png
ORGANIZER;CN="Versant Power Astronomy Center":MAILTO:planetarium@maine.edu
GEO:44.8929612;-68.6626623
X-APPLE-STRUCTURED-LOCATION;VALUE=URI;X-ADDRESS=Versant Power Astronomy Center 167 Rangeley Rd Orono ME 04469 United States;X-APPLE-RADIUS=500;X-TITLE=167 Rangeley Rd:geo:-68.6626623,44.8929612
END:VEVENT
END:VCALENDAR