BEGIN:VCALENDAR
VERSION:2.0
PRODID:-//Versant Power Astronomy Center and Maynard Jordan Planetarium - ECPv6.15.17.1//NONSGML v1.0//EN
CALSCALE:GREGORIAN
METHOD:PUBLISH
X-WR-CALNAME:Versant Power Astronomy Center and Maynard Jordan Planetarium
X-ORIGINAL-URL:https://astro.umaine.edu
X-WR-CALDESC:Events for Versant Power Astronomy Center and Maynard Jordan Planetarium
REFRESH-INTERVAL;VALUE=DURATION:PT1H
X-Robots-Tag:noindex
X-PUBLISHED-TTL:PT1H
BEGIN:VTIMEZONE
TZID:America/New_York
BEGIN:DAYLIGHT
TZOFFSETFROM:-0500
TZOFFSETTO:-0400
TZNAME:EDT
DTSTART:20210314T070000
END:DAYLIGHT
BEGIN:STANDARD
TZOFFSETFROM:-0400
TZOFFSETTO:-0500
TZNAME:EST
DTSTART:20211107T060000
END:STANDARD
BEGIN:DAYLIGHT
TZOFFSETFROM:-0500
TZOFFSETTO:-0400
TZNAME:EDT
DTSTART:20220313T070000
END:DAYLIGHT
BEGIN:STANDARD
TZOFFSETFROM:-0400
TZOFFSETTO:-0500
TZNAME:EST
DTSTART:20221106T060000
END:STANDARD
BEGIN:DAYLIGHT
TZOFFSETFROM:-0500
TZOFFSETTO:-0400
TZNAME:EDT
DTSTART:20230312T070000
END:DAYLIGHT
BEGIN:STANDARD
TZOFFSETFROM:-0400
TZOFFSETTO:-0500
TZNAME:EST
DTSTART:20231105T060000
END:STANDARD
END:VTIMEZONE
BEGIN:VEVENT
DTSTART;TZID=America/New_York:20221001T190000
DTEND;TZID=America/New_York:20221001T200000
DTSTAMP:20260421T151213
CREATED:20220908T022743Z
LAST-MODIFIED:20220908T022743Z
UID:10003017-1664650800-1664654400@astro.umaine.edu
SUMMARY:Pink Floyd: Dark Side of the Moon
DESCRIPTION:Pink Floyd: Dark Side of the Moon immerses theatergoers on a journey of our universe centralized on sensational visuals and artistic interpretation. Experience music from this internationally acclaimed rock band at the Versant Power Astronomy Center! \nTickets are $9 for general admission. \nMusic programs may contain explicit lyrics\, and are intended for adult audiences. All music programs may contain bright flashing lights and fast-moving images\, which have been known to trigger seizures with those with photosensitive epilepsy. Viewer discretion is advised. \nTickets may be purchased online\, by phone at 207.581.1341\, or at our ticket box office prior to the show.
URL:https://astro.umaine.edu/event/pink-floyd-dark-side-of-the-moon-6/
LOCATION:Versant Power Astronomy Center\, 167 Rangeley Rd\, Orono\, ME\, 04469\, United States
CATEGORIES:Music Show,Public Program
ATTACH;FMTTYPE=image/png:https://astro.umaine.edu/wp-content/uploads/sites/165/2019/06/DarkSide.png
ORGANIZER;CN="Versant Power Astronomy Center":MAILTO:planetarium@maine.edu
GEO:44.8929612;-68.6626623
X-APPLE-STRUCTURED-LOCATION;VALUE=URI;X-ADDRESS=Versant Power Astronomy Center 167 Rangeley Rd Orono ME 04469 United States;X-APPLE-RADIUS=500;X-TITLE=167 Rangeley Rd:geo:-68.6626623,44.8929612
END:VEVENT
BEGIN:VEVENT
DTSTART;TZID=America/New_York:20221002T160000
DTEND;TZID=America/New_York:20221002T170000
DTSTAMP:20260421T151213
CREATED:20220908T022117Z
LAST-MODIFIED:20220908T022207Z
UID:10002978-1664726400-1664730000@astro.umaine.edu
SUMMARY:Monster Mash: A Halloween Spooktacular!
DESCRIPTION:You do not have to wait until 3 a.m. to experience the true terror of the witching hour! Take your “Spooky Scary Skeletons” out of the closet and join us at the Versant Power Astronomy Center for a month-long “Monster Mash”!  We will “Put a Spell on You” for the entire month of October with a menacing myriad of modern and classic Halloween tunes set to planetarium visuals that will surely haunt the very depths of your soul!  Muahahahaha! \nTickets are $9 for general admission. \nMusic programs may contain explicit lyrics\, and are intended for adult audiences. All music programs may contain bright flashing lights and fast-moving images\, which have been known to trigger seizures with those with photosensitive epilepsy. Viewer discretion is advised. \nTickets may be purchased online\, by phone at 207.581.1341\, or at our ticket box office prior to the show. \n \n 
URL:https://astro.umaine.edu/event/monster-mash-a-halloween-spooktacular/2022-10-02/
LOCATION:Versant Power Astronomy Center\, 167 Rangeley Rd\, Orono\, ME\, 04469\, United States
CATEGORIES:Music Show,Public Program
ORGANIZER;CN="Versant Power Astronomy Center":MAILTO:planetarium@maine.edu
GEO:44.8929612;-68.6626623
X-APPLE-STRUCTURED-LOCATION;VALUE=URI;X-ADDRESS=Versant Power Astronomy Center 167 Rangeley Rd Orono ME 04469 United States;X-APPLE-RADIUS=500;X-TITLE=167 Rangeley Rd:geo:-68.6626623,44.8929612
END:VEVENT
BEGIN:VEVENT
DTSTART;TZID=America/New_York:20221009T160000
DTEND;TZID=America/New_York:20221009T170000
DTSTAMP:20260421T151213
CREATED:20220908T022117Z
LAST-MODIFIED:20220908T022207Z
UID:10002979-1665331200-1665334800@astro.umaine.edu
SUMMARY:Monster Mash: A Halloween Spooktacular!
DESCRIPTION:You do not have to wait until 3 a.m. to experience the true terror of the witching hour! Take your “Spooky Scary Skeletons” out of the closet and join us at the Versant Power Astronomy Center for a month-long “Monster Mash”!  We will “Put a Spell on You” for the entire month of October with a menacing myriad of modern and classic Halloween tunes set to planetarium visuals that will surely haunt the very depths of your soul!  Muahahahaha! \nTickets are $9 for general admission. \nMusic programs may contain explicit lyrics\, and are intended for adult audiences. All music programs may contain bright flashing lights and fast-moving images\, which have been known to trigger seizures with those with photosensitive epilepsy. Viewer discretion is advised. \nTickets may be purchased online\, by phone at 207.581.1341\, or at our ticket box office prior to the show. \n \n 
URL:https://astro.umaine.edu/event/monster-mash-a-halloween-spooktacular/2022-10-09/
LOCATION:Versant Power Astronomy Center\, 167 Rangeley Rd\, Orono\, ME\, 04469\, United States
CATEGORIES:Music Show,Public Program
ORGANIZER;CN="Versant Power Astronomy Center":MAILTO:planetarium@maine.edu
GEO:44.8929612;-68.6626623
X-APPLE-STRUCTURED-LOCATION;VALUE=URI;X-ADDRESS=Versant Power Astronomy Center 167 Rangeley Rd Orono ME 04469 United States;X-APPLE-RADIUS=500;X-TITLE=167 Rangeley Rd:geo:-68.6626623,44.8929612
END:VEVENT
BEGIN:VEVENT
DTSTART;TZID=America/New_York:20221016T160000
DTEND;TZID=America/New_York:20221016T170000
DTSTAMP:20260421T151213
CREATED:20220908T022117Z
LAST-MODIFIED:20220908T022207Z
UID:10002980-1665936000-1665939600@astro.umaine.edu
SUMMARY:Monster Mash: A Halloween Spooktacular!
DESCRIPTION:You do not have to wait until 3 a.m. to experience the true terror of the witching hour! Take your “Spooky Scary Skeletons” out of the closet and join us at the Versant Power Astronomy Center for a month-long “Monster Mash”!  We will “Put a Spell on You” for the entire month of October with a menacing myriad of modern and classic Halloween tunes set to planetarium visuals that will surely haunt the very depths of your soul!  Muahahahaha! \nTickets are $9 for general admission. \nMusic programs may contain explicit lyrics\, and are intended for adult audiences. All music programs may contain bright flashing lights and fast-moving images\, which have been known to trigger seizures with those with photosensitive epilepsy. Viewer discretion is advised. \nTickets may be purchased online\, by phone at 207.581.1341\, or at our ticket box office prior to the show. \n \n 
URL:https://astro.umaine.edu/event/monster-mash-a-halloween-spooktacular/2022-10-16/
LOCATION:Versant Power Astronomy Center\, 167 Rangeley Rd\, Orono\, ME\, 04469\, United States
CATEGORIES:Music Show,Public Program
ORGANIZER;CN="Versant Power Astronomy Center":MAILTO:planetarium@maine.edu
GEO:44.8929612;-68.6626623
X-APPLE-STRUCTURED-LOCATION;VALUE=URI;X-ADDRESS=Versant Power Astronomy Center 167 Rangeley Rd Orono ME 04469 United States;X-APPLE-RADIUS=500;X-TITLE=167 Rangeley Rd:geo:-68.6626623,44.8929612
END:VEVENT
BEGIN:VEVENT
DTSTART;TZID=America/New_York:20221023T160000
DTEND;TZID=America/New_York:20221023T170000
DTSTAMP:20260421T151213
CREATED:20220908T022117Z
LAST-MODIFIED:20220908T022207Z
UID:10002981-1666540800-1666544400@astro.umaine.edu
SUMMARY:Monster Mash: A Halloween Spooktacular!
DESCRIPTION:You do not have to wait until 3 a.m. to experience the true terror of the witching hour! Take your “Spooky Scary Skeletons” out of the closet and join us at the Versant Power Astronomy Center for a month-long “Monster Mash”!  We will “Put a Spell on You” for the entire month of October with a menacing myriad of modern and classic Halloween tunes set to planetarium visuals that will surely haunt the very depths of your soul!  Muahahahaha! \nTickets are $9 for general admission. \nMusic programs may contain explicit lyrics\, and are intended for adult audiences. All music programs may contain bright flashing lights and fast-moving images\, which have been known to trigger seizures with those with photosensitive epilepsy. Viewer discretion is advised. \nTickets may be purchased online\, by phone at 207.581.1341\, or at our ticket box office prior to the show. \n \n 
URL:https://astro.umaine.edu/event/monster-mash-a-halloween-spooktacular/2022-10-23/
LOCATION:Versant Power Astronomy Center\, 167 Rangeley Rd\, Orono\, ME\, 04469\, United States
CATEGORIES:Music Show,Public Program
ORGANIZER;CN="Versant Power Astronomy Center":MAILTO:planetarium@maine.edu
GEO:44.8929612;-68.6626623
X-APPLE-STRUCTURED-LOCATION;VALUE=URI;X-ADDRESS=Versant Power Astronomy Center 167 Rangeley Rd Orono ME 04469 United States;X-APPLE-RADIUS=500;X-TITLE=167 Rangeley Rd:geo:-68.6626623,44.8929612
END:VEVENT
BEGIN:VEVENT
DTSTART;TZID=America/New_York:20221030T160000
DTEND;TZID=America/New_York:20221030T170000
DTSTAMP:20260421T151213
CREATED:20220908T022117Z
LAST-MODIFIED:20220908T022207Z
UID:10002982-1667145600-1667149200@astro.umaine.edu
SUMMARY:Monster Mash: A Halloween Spooktacular!
DESCRIPTION:You do not have to wait until 3 a.m. to experience the true terror of the witching hour! Take your “Spooky Scary Skeletons” out of the closet and join us at the Versant Power Astronomy Center for a month-long “Monster Mash”!  We will “Put a Spell on You” for the entire month of October with a menacing myriad of modern and classic Halloween tunes set to planetarium visuals that will surely haunt the very depths of your soul!  Muahahahaha! \nTickets are $9 for general admission. \nMusic programs may contain explicit lyrics\, and are intended for adult audiences. All music programs may contain bright flashing lights and fast-moving images\, which have been known to trigger seizures with those with photosensitive epilepsy. Viewer discretion is advised. \nTickets may be purchased online\, by phone at 207.581.1341\, or at our ticket box office prior to the show. \n \n 
URL:https://astro.umaine.edu/event/monster-mash-a-halloween-spooktacular/2022-10-30/
LOCATION:Versant Power Astronomy Center\, 167 Rangeley Rd\, Orono\, ME\, 04469\, United States
CATEGORIES:Music Show,Public Program
ORGANIZER;CN="Versant Power Astronomy Center":MAILTO:planetarium@maine.edu
GEO:44.8929612;-68.6626623
X-APPLE-STRUCTURED-LOCATION;VALUE=URI;X-ADDRESS=Versant Power Astronomy Center 167 Rangeley Rd Orono ME 04469 United States;X-APPLE-RADIUS=500;X-TITLE=167 Rangeley Rd:geo:-68.6626623,44.8929612
END:VEVENT
END:VCALENDAR