BEGIN:VCALENDAR
VERSION:2.0
PRODID:-//Versant Power Astronomy Center and Maynard Jordan Planetarium - ECPv6.15.17.1//NONSGML v1.0//EN
CALSCALE:GREGORIAN
METHOD:PUBLISH
X-WR-CALNAME:Versant Power Astronomy Center and Maynard Jordan Planetarium
X-ORIGINAL-URL:https://astro.umaine.edu
X-WR-CALDESC:Events for Versant Power Astronomy Center and Maynard Jordan Planetarium
REFRESH-INTERVAL;VALUE=DURATION:PT1H
X-Robots-Tag:noindex
X-PUBLISHED-TTL:PT1H
BEGIN:VTIMEZONE
TZID:America/New_York
BEGIN:DAYLIGHT
TZOFFSETFROM:-0500
TZOFFSETTO:-0400
TZNAME:EDT
DTSTART:20240310T070000
END:DAYLIGHT
BEGIN:STANDARD
TZOFFSETFROM:-0400
TZOFFSETTO:-0500
TZNAME:EST
DTSTART:20241103T060000
END:STANDARD
BEGIN:DAYLIGHT
TZOFFSETFROM:-0500
TZOFFSETTO:-0400
TZNAME:EDT
DTSTART:20250309T070000
END:DAYLIGHT
BEGIN:STANDARD
TZOFFSETFROM:-0400
TZOFFSETTO:-0500
TZNAME:EST
DTSTART:20251102T060000
END:STANDARD
BEGIN:DAYLIGHT
TZOFFSETFROM:-0500
TZOFFSETTO:-0400
TZNAME:EDT
DTSTART:20260308T070000
END:DAYLIGHT
BEGIN:STANDARD
TZOFFSETFROM:-0400
TZOFFSETTO:-0500
TZNAME:EST
DTSTART:20261101T060000
END:STANDARD
END:VTIMEZONE
BEGIN:VEVENT
DTSTART;TZID=America/New_York:20250202T160000
DTEND;TZID=America/New_York:20250202T170000
DTSTAMP:20260421T140626
CREATED:20241213T154835Z
LAST-MODIFIED:20250218T181645Z
UID:10003580-1738512000-1738515600@astro.umaine.edu
SUMMARY:The Wall - Pink Floyd
DESCRIPTION:Pink Floyd’s progressive 8th album is put to stunning visuals that will send you to the moon. The album remained on Billboard charts for an amazing 741 weeks\, longer than any other record in history. Experience “The Wall” like never before. The character Pink is the world-weary focus of this concept album as he slowly isolates himself from society\, represented by the metaphorical “Wall” of the album title. Rock out with this all time classic album! \nTickets are $9 for general admission. \nMusic programs may contain explicit lyrics\, and are intended for adult audiences. All music programs may contain bright flashing lights and fast-moving images\, which have been known to trigger seizures with those with photosensitive epilepsy. Viewer discretion is advised. \nTickets may be purchased online\, by phone at 207.581.1341\, or at our ticket box office prior to the show.
URL:https://astro.umaine.edu/event/the-wall-pink-floyd-6/2025-02-02/
LOCATION:Versant Power Astronomy Center\, 167 Rangeley Rd\, Orono\, ME\, 04469\, United States
CATEGORIES:Music Show,Public Program
ATTACH;FMTTYPE=image/jpeg:https://astro.umaine.edu/wp-content/uploads/sites/165/2019/12/TheWall16x9.jpg
ORGANIZER;CN="Versant Power Astronomy Center":MAILTO:planetarium@maine.edu
GEO:44.8929612;-68.6626623
X-APPLE-STRUCTURED-LOCATION;VALUE=URI;X-ADDRESS=Versant Power Astronomy Center 167 Rangeley Rd Orono ME 04469 United States;X-APPLE-RADIUS=500;X-TITLE=167 Rangeley Rd:geo:-68.6626623,44.8929612
END:VEVENT
BEGIN:VEVENT
DTSTART;TZID=America/New_York:20250209T160000
DTEND;TZID=America/New_York:20250209T170000
DTSTAMP:20260421T140626
CREATED:20241213T154835Z
LAST-MODIFIED:20250218T181645Z
UID:10003581-1739116800-1739120400@astro.umaine.edu
SUMMARY:The Wall - Pink Floyd
DESCRIPTION:Pink Floyd’s progressive 8th album is put to stunning visuals that will send you to the moon. The album remained on Billboard charts for an amazing 741 weeks\, longer than any other record in history. Experience “The Wall” like never before. The character Pink is the world-weary focus of this concept album as he slowly isolates himself from society\, represented by the metaphorical “Wall” of the album title. Rock out with this all time classic album! \nTickets are $9 for general admission. \nMusic programs may contain explicit lyrics\, and are intended for adult audiences. All music programs may contain bright flashing lights and fast-moving images\, which have been known to trigger seizures with those with photosensitive epilepsy. Viewer discretion is advised. \nTickets may be purchased online\, by phone at 207.581.1341\, or at our ticket box office prior to the show.
URL:https://astro.umaine.edu/event/the-wall-pink-floyd-6/2025-02-09/
LOCATION:Versant Power Astronomy Center\, 167 Rangeley Rd\, Orono\, ME\, 04469\, United States
CATEGORIES:Music Show,Public Program
ATTACH;FMTTYPE=image/jpeg:https://astro.umaine.edu/wp-content/uploads/sites/165/2019/12/TheWall16x9.jpg
ORGANIZER;CN="Versant Power Astronomy Center":MAILTO:planetarium@maine.edu
GEO:44.8929612;-68.6626623
X-APPLE-STRUCTURED-LOCATION;VALUE=URI;X-ADDRESS=Versant Power Astronomy Center 167 Rangeley Rd Orono ME 04469 United States;X-APPLE-RADIUS=500;X-TITLE=167 Rangeley Rd:geo:-68.6626623,44.8929612
END:VEVENT
BEGIN:VEVENT
DTSTART;TZID=America/New_York:20250214T203000
DTEND;TZID=America/New_York:20250214T213000
DTSTAMP:20260421T140626
CREATED:20250202T032859Z
LAST-MODIFIED:20250202T032919Z
UID:10003604-1739565000-1739568600@astro.umaine.edu
SUMMARY:Cosmic Love: A Stellar Valentine's Day Musical Experience
DESCRIPTION:Celebrate romance with us in the planetarium on Valentine’s Day with a variety of “Stellar” love songs set to stunning visuals in the planetarium dome!  Cosmic Love features artists Prince\, Rihanna\, Madonna\, Fleetwood Mac\, Taylor Swift and many others.  A great way to celebrate an evening out with your special someone! \nTickets are $9 for general admission. \nMusic programs may contain explicit lyrics\, and are intended for adult audiences. All music programs may contain bright flashing lights and fast-moving images\, which have been known to trigger seizures with those with photosensitive epilepsy. Viewer discretion is advised. \nTickets may be purchased online\, by phone at 207.581.1341\, or at our ticket box office prior to the show.
URL:https://astro.umaine.edu/event/cosmic-love/
LOCATION:Versant Power Astronomy Center\, 167 Rangeley Rd\, Orono\, ME\, 04469\, United States
CATEGORIES:Music Show,Public Program
ATTACH;FMTTYPE=image/jpeg:https://astro.umaine.edu/wp-content/uploads/sites/165/2025/02/Valentines-Ad-scaled.jpg
ORGANIZER;CN="Versant Power Astronomy Center":MAILTO:planetarium@maine.edu
GEO:44.8929612;-68.6626623
X-APPLE-STRUCTURED-LOCATION;VALUE=URI;X-ADDRESS=Versant Power Astronomy Center 167 Rangeley Rd Orono ME 04469 United States;X-APPLE-RADIUS=500;X-TITLE=167 Rangeley Rd:geo:-68.6626623,44.8929612
END:VEVENT
BEGIN:VEVENT
DTSTART;TZID=America/New_York:20250216T160000
DTEND;TZID=America/New_York:20250216T170000
DTSTAMP:20260421T140626
CREATED:20241213T154835Z
LAST-MODIFIED:20250218T181645Z
UID:10003582-1739721600-1739725200@astro.umaine.edu
SUMMARY:The Wall - Pink Floyd
DESCRIPTION:Pink Floyd’s progressive 8th album is put to stunning visuals that will send you to the moon. The album remained on Billboard charts for an amazing 741 weeks\, longer than any other record in history. Experience “The Wall” like never before. The character Pink is the world-weary focus of this concept album as he slowly isolates himself from society\, represented by the metaphorical “Wall” of the album title. Rock out with this all time classic album! \nTickets are $9 for general admission. \nMusic programs may contain explicit lyrics\, and are intended for adult audiences. All music programs may contain bright flashing lights and fast-moving images\, which have been known to trigger seizures with those with photosensitive epilepsy. Viewer discretion is advised. \nTickets may be purchased online\, by phone at 207.581.1341\, or at our ticket box office prior to the show.
URL:https://astro.umaine.edu/event/the-wall-pink-floyd-6/2025-02-16/
LOCATION:Versant Power Astronomy Center\, 167 Rangeley Rd\, Orono\, ME\, 04469\, United States
CATEGORIES:Music Show,Public Program
ATTACH;FMTTYPE=image/jpeg:https://astro.umaine.edu/wp-content/uploads/sites/165/2019/12/TheWall16x9.jpg
ORGANIZER;CN="Versant Power Astronomy Center":MAILTO:planetarium@maine.edu
GEO:44.8929612;-68.6626623
X-APPLE-STRUCTURED-LOCATION;VALUE=URI;X-ADDRESS=Versant Power Astronomy Center 167 Rangeley Rd Orono ME 04469 United States;X-APPLE-RADIUS=500;X-TITLE=167 Rangeley Rd:geo:-68.6626623,44.8929612
END:VEVENT
BEGIN:VEVENT
DTSTART;TZID=America/New_York:20250223T160000
DTEND;TZID=America/New_York:20250223T170000
DTSTAMP:20260421T140626
CREATED:20241213T154835Z
LAST-MODIFIED:20250218T181645Z
UID:10003583-1740326400-1740330000@astro.umaine.edu
SUMMARY:The Wall - Pink Floyd
DESCRIPTION:Pink Floyd’s progressive 8th album is put to stunning visuals that will send you to the moon. The album remained on Billboard charts for an amazing 741 weeks\, longer than any other record in history. Experience “The Wall” like never before. The character Pink is the world-weary focus of this concept album as he slowly isolates himself from society\, represented by the metaphorical “Wall” of the album title. Rock out with this all time classic album! \nTickets are $9 for general admission. \nMusic programs may contain explicit lyrics\, and are intended for adult audiences. All music programs may contain bright flashing lights and fast-moving images\, which have been known to trigger seizures with those with photosensitive epilepsy. Viewer discretion is advised. \nTickets may be purchased online\, by phone at 207.581.1341\, or at our ticket box office prior to the show.
URL:https://astro.umaine.edu/event/the-wall-pink-floyd-6/2025-02-23/1/
LOCATION:Versant Power Astronomy Center\, 167 Rangeley Rd\, Orono\, ME\, 04469\, United States
CATEGORIES:Music Show,Public Program
ATTACH;FMTTYPE=image/jpeg:https://astro.umaine.edu/wp-content/uploads/sites/165/2019/12/TheWall16x9.jpg
ORGANIZER;CN="Versant Power Astronomy Center":MAILTO:planetarium@maine.edu
GEO:44.8929612;-68.6626623
X-APPLE-STRUCTURED-LOCATION;VALUE=URI;X-ADDRESS=Versant Power Astronomy Center 167 Rangeley Rd Orono ME 04469 United States;X-APPLE-RADIUS=500;X-TITLE=167 Rangeley Rd:geo:-68.6626623,44.8929612
END:VEVENT
BEGIN:VEVENT
DTSTART;TZID=America/New_York:20250223T171500
DTEND;TZID=America/New_York:20250223T181500
DTSTAMP:20260421T140626
CREATED:20241213T154835Z
LAST-MODIFIED:20250218T181645Z
UID:10003605-1740330900-1740334500@astro.umaine.edu
SUMMARY:The Wall - Pink Floyd
DESCRIPTION:Pink Floyd’s progressive 8th album is put to stunning visuals that will send you to the moon. The album remained on Billboard charts for an amazing 741 weeks\, longer than any other record in history. Experience “The Wall” like never before. The character Pink is the world-weary focus of this concept album as he slowly isolates himself from society\, represented by the metaphorical “Wall” of the album title. Rock out with this all time classic album! \nTickets are $9 for general admission. \nMusic programs may contain explicit lyrics\, and are intended for adult audiences. All music programs may contain bright flashing lights and fast-moving images\, which have been known to trigger seizures with those with photosensitive epilepsy. Viewer discretion is advised. \nTickets may be purchased online\, by phone at 207.581.1341\, or at our ticket box office prior to the show.
URL:https://astro.umaine.edu/event/the-wall-pink-floyd-6/2025-02-23/2/
LOCATION:Versant Power Astronomy Center\, 167 Rangeley Rd\, Orono\, ME\, 04469\, United States
CATEGORIES:Music Show,Public Program
ATTACH;FMTTYPE=image/jpeg:https://astro.umaine.edu/wp-content/uploads/sites/165/2019/12/TheWall16x9.jpg
ORGANIZER;CN="Versant Power Astronomy Center":MAILTO:planetarium@maine.edu
GEO:44.8929612;-68.6626623
X-APPLE-STRUCTURED-LOCATION;VALUE=URI;X-ADDRESS=Versant Power Astronomy Center 167 Rangeley Rd Orono ME 04469 United States;X-APPLE-RADIUS=500;X-TITLE=167 Rangeley Rd:geo:-68.6626623,44.8929612
END:VEVENT
END:VCALENDAR