BEGIN:VCALENDAR
VERSION:2.0
PRODID:-//Versant Power Astronomy Center and Maynard Jordan Planetarium - ECPv6.15.17.1//NONSGML v1.0//EN
CALSCALE:GREGORIAN
METHOD:PUBLISH
X-WR-CALNAME:Versant Power Astronomy Center and Maynard Jordan Planetarium
X-ORIGINAL-URL:https://astro.umaine.edu
X-WR-CALDESC:Events for Versant Power Astronomy Center and Maynard Jordan Planetarium
REFRESH-INTERVAL;VALUE=DURATION:PT1H
X-Robots-Tag:noindex
X-PUBLISHED-TTL:PT1H
BEGIN:VTIMEZONE
TZID:America/New_York
BEGIN:DAYLIGHT
TZOFFSETFROM:-0500
TZOFFSETTO:-0400
TZNAME:EDT
DTSTART:20160313T070000
END:DAYLIGHT
BEGIN:STANDARD
TZOFFSETFROM:-0400
TZOFFSETTO:-0500
TZNAME:EST
DTSTART:20161106T060000
END:STANDARD
BEGIN:DAYLIGHT
TZOFFSETFROM:-0500
TZOFFSETTO:-0400
TZNAME:EDT
DTSTART:20170312T070000
END:DAYLIGHT
BEGIN:STANDARD
TZOFFSETFROM:-0400
TZOFFSETTO:-0500
TZNAME:EST
DTSTART:20171105T060000
END:STANDARD
BEGIN:DAYLIGHT
TZOFFSETFROM:-0500
TZOFFSETTO:-0400
TZNAME:EDT
DTSTART:20180311T070000
END:DAYLIGHT
BEGIN:STANDARD
TZOFFSETFROM:-0400
TZOFFSETTO:-0500
TZNAME:EST
DTSTART:20181104T060000
END:STANDARD
END:VTIMEZONE
BEGIN:VEVENT
DTSTART;TZID=America/New_York:20170202T190000
DTEND;TZID=America/New_York:20170202T200000
DTSTAMP:20260419T203904
CREATED:20161129T184124Z
LAST-MODIFIED:20161129T184124Z
UID:10002065-1486062000-1486065600@astro.umaine.edu
SUMMARY:Science Lecture Series: Dr. Dean Astumian
DESCRIPTION:How molecular motors work – insights from the machinist’s toolbox\nThursday\, February 2nd at 7:00 pm \nThe Nobel prize in Chemistry for 2016 was awarded to Jean Pierre Sauvage\, Sir James Fraser Stoddart\, and Bernard (Ben) Feringa for their contributions to the design and synthesis of molecular machines. While this field is still in its infancy there is tremendous potential of molecular machines to revolutionize technologies we use in our everyday lives. How do molecular machines provide insights into the mechanisms by which molecular motors\, including biological motors function? The ability to “tinker” with separate components of molecular machines allows asking\, and answering\, specific questions about mechanism\, particularly with regard to light-driven vs. chemistry driven molecular machines is very interesting. In this lecture\, Dr. Dean Astumian will use dramatic full dome visualizations to show examples of molecular machines and their basic workings. This program is in partnership with the Maine Science Festival. \n \nDean Astumian received his Ph.D. from the University of Texas at Arlington\, where he was named a distinguished alumnus in 2000. Following staff positions at NIH and NIST he moved to the University of Chicago as Assistant then Associate Professor\, and then as Full Professor to the University of Maine. He is a fellow of the American Physical Society (APS) and of the American Association for the Advancement of Science (AAAS). He was awarded the Galvani Prize of the Bio-electrochemical Society\, a Humboldt Prize in 2009\, and the Feynman Prize in 2011. His research focus is on kinetic mechanisms and thermodynamics of molecular motors. \n \nThe Science Lecture Series at Emera Astronomy Center will take place the first Thursdays of each month and is a partnership project with the Maine Science Festival and will feature research from a variety of science disciplines from around our state and use the digital planetarium to visualize these discoveries in a new dramatic and immersive way. \nTickets for planetarium programs are $6 for Adults\, $5 for UMaine Students/Veterans/Senior Citizens\, and $4 for children under 12. Click here to view our calendar. \nTickets may be purchased online\, by phone at 207.581.1341\, or at our ticket box office prior to the show.
URL:https://astro.umaine.edu/event/science-lecture-series-dr-dean-astumian/
LOCATION:Versant Power Astronomy Center\, 167 Rangeley Rd\, Orono\, ME\, 04469\, United States
CATEGORIES:Public Program,Science Lecture Series
ORGANIZER;CN="Versant Power Astronomy Center":MAILTO:planetarium@maine.edu
GEO:44.8929612;-68.6626623
X-APPLE-STRUCTURED-LOCATION;VALUE=URI;X-ADDRESS=Versant Power Astronomy Center 167 Rangeley Rd Orono ME 04469 United States;X-APPLE-RADIUS=500;X-TITLE=167 Rangeley Rd:geo:-68.6626623,44.8929612
END:VEVENT
BEGIN:VEVENT
DTSTART;TZID=America/New_York:20170203T190000
DTEND;TZID=America/New_York:20170203T200000
DTSTAMP:20260419T203904
CREATED:20161026T185638Z
LAST-MODIFIED:20161028T174341Z
UID:10001939-1486148400-1486152000@astro.umaine.edu
SUMMARY:Stars
DESCRIPTION:Every star has a story. Some are as old as time\, faint and almost forgotten. Others burn bright and end their lives in powerful explosions. New stars are created every day\, born of vast clouds of gas and dust. Through every phase of their existence\, stars release the energy that lights the Universe. Journey to the furthest reaches of our galaxy and experience both the awesome beauty and destructive power of stars. \nTrailer \nTickets for planetarium programs are $6 for Adults\, $5 for UMaine Students/Veterans/Senior Citizens\, and $4 for children under 12. Click here to view our calendar. \nTickets may be purchased online\, by phone at 207.581.1341\, or at our ticket box office prior to the show.
URL:https://astro.umaine.edu/event/stars-11/2017-02-03/
LOCATION:Versant Power Astronomy Center\, 167 Rangeley Rd\, Orono\, ME\, 04469\, United States
CATEGORIES:Public Program
ATTACH;FMTTYPE=image/jpeg:https://astro.umaine.edu/wp-content/uploads/sites/165/2016/05/STZ_16x9.jpg
ORGANIZER;CN="Versant Power Astronomy Center":MAILTO:planetarium@maine.edu
GEO:44.8929612;-68.6626623
X-APPLE-STRUCTURED-LOCATION;VALUE=URI;X-ADDRESS=Versant Power Astronomy Center 167 Rangeley Rd Orono ME 04469 United States;X-APPLE-RADIUS=500;X-TITLE=167 Rangeley Rd:geo:-68.6626623,44.8929612
END:VEVENT
BEGIN:VEVENT
DTSTART;TZID=America/New_York:20170205T140000
DTEND;TZID=America/New_York:20170205T150000
DTSTAMP:20260419T203904
CREATED:20161026T185733Z
LAST-MODIFIED:20161028T174631Z
UID:10001943-1486303200-1486306800@astro.umaine.edu
SUMMARY:Little Star that Could
DESCRIPTION:It’s hard to be a little star in a big universe! Join a medium sized\, yellow star as he makes his way through space. In his travels\, he meets many different types of stars and learns about some of the other things that make our universe so interesting. After meeting stars\, nebulas\, and galaxies\, the little star takes a good look at himself and finds that he\, too\, is special. He has nine planets that depend on him for warmth and light. Along with the little star\, audiences learn the ways each planet is special. \nTrailer \nTickets for planetarium programs are $6 for Adults\, $5 for UMaine Students/Veterans/Senior Citizens\, and $4 for children under 12. Click here to view our calendar. \nTickets may be purchased online\, by phone at 207.581.1341\, or at our ticket box office prior to the show.
URL:https://astro.umaine.edu/event/little-star-that-could-7/2017-02-05/
LOCATION:Versant Power Astronomy Center\, 167 Rangeley Rd\, Orono\, ME\, 04469\, United States
CATEGORIES:Public Program
ATTACH;FMTTYPE=image/jpeg:https://astro.umaine.edu/wp-content/uploads/sites/165/2016/05/LSC_16x9.jpg
ORGANIZER;CN="Versant Power Astronomy Center":MAILTO:planetarium@maine.edu
GEO:44.8929612;-68.6626623
X-APPLE-STRUCTURED-LOCATION;VALUE=URI;X-ADDRESS=Versant Power Astronomy Center 167 Rangeley Rd Orono ME 04469 United States;X-APPLE-RADIUS=500;X-TITLE=167 Rangeley Rd:geo:-68.6626623,44.8929612
END:VEVENT
BEGIN:VEVENT
DTSTART;TZID=America/New_York:20170207T100000
DTEND;TZID=America/New_York:20170207T110000
DTSTAMP:20260419T203904
CREATED:20161028T175534Z
LAST-MODIFIED:20170110T161400Z
UID:10002060-1486461600-1486465200@astro.umaine.edu
SUMMARY:Earth\, Moon\, & Sun
DESCRIPTION:Earth\, Moon\, & Sun is a fast-paced full dome demonstration of lunar phases\, eclipses\, day and night\, the sun and other puzzling events with the help of a confused coyote. This program beautifully illustrates basic concepts like moon phases and seasons. Based on the trickster of Native American lore\, Coyote is constantly corrected in his misunderstandings of how things work. A live tour of the Maine sky and its beautiful constellations completes this micro-unit of astronomy. \nTrailer \nTickets for planetarium programs are $6 for Adults\, $5 for UMaine Students/Veterans/Senior Citizens\, and $4 for children under 12. Click here to view our calendar. \nTickets may be purchased online\, by phone at 207.581.1341\, or at our ticket box office prior to the show.
URL:https://astro.umaine.edu/event/earth-moon-sun-10/
LOCATION:Versant Power Astronomy Center\, 167 Rangeley Rd\, Orono\, ME\, 04469\, United States
CATEGORIES:Homeschool Show,Public Program
ATTACH;FMTTYPE=image/jpeg:https://astro.umaine.edu/wp-content/uploads/sites/165/2016/05/EMS_16x9.jpg
ORGANIZER;CN="Versant Power Astronomy Center":MAILTO:planetarium@maine.edu
GEO:44.8929612;-68.6626623
X-APPLE-STRUCTURED-LOCATION;VALUE=URI;X-ADDRESS=Versant Power Astronomy Center 167 Rangeley Rd Orono ME 04469 United States;X-APPLE-RADIUS=500;X-TITLE=167 Rangeley Rd:geo:-68.6626623,44.8929612
END:VEVENT
BEGIN:VEVENT
DTSTART;TZID=America/New_York:20170210T190000
DTEND;TZID=America/New_York:20170210T200000
DTSTAMP:20260419T203904
CREATED:20161026T185638Z
LAST-MODIFIED:20161028T174341Z
UID:10001940-1486753200-1486756800@astro.umaine.edu
SUMMARY:Stars
DESCRIPTION:Every star has a story. Some are as old as time\, faint and almost forgotten. Others burn bright and end their lives in powerful explosions. New stars are created every day\, born of vast clouds of gas and dust. Through every phase of their existence\, stars release the energy that lights the Universe. Journey to the furthest reaches of our galaxy and experience both the awesome beauty and destructive power of stars. \nTrailer \nTickets for planetarium programs are $6 for Adults\, $5 for UMaine Students/Veterans/Senior Citizens\, and $4 for children under 12. Click here to view our calendar. \nTickets may be purchased online\, by phone at 207.581.1341\, or at our ticket box office prior to the show.
URL:https://astro.umaine.edu/event/stars-11/2017-02-10/
LOCATION:Versant Power Astronomy Center\, 167 Rangeley Rd\, Orono\, ME\, 04469\, United States
CATEGORIES:Public Program
ATTACH;FMTTYPE=image/jpeg:https://astro.umaine.edu/wp-content/uploads/sites/165/2016/05/STZ_16x9.jpg
ORGANIZER;CN="Versant Power Astronomy Center":MAILTO:planetarium@maine.edu
GEO:44.8929612;-68.6626623
X-APPLE-STRUCTURED-LOCATION;VALUE=URI;X-ADDRESS=Versant Power Astronomy Center 167 Rangeley Rd Orono ME 04469 United States;X-APPLE-RADIUS=500;X-TITLE=167 Rangeley Rd:geo:-68.6626623,44.8929612
END:VEVENT
BEGIN:VEVENT
DTSTART;TZID=America/New_York:20170212T140000
DTEND;TZID=America/New_York:20170212T150000
DTSTAMP:20260419T203904
CREATED:20161026T185733Z
LAST-MODIFIED:20161028T174631Z
UID:10001944-1486908000-1486911600@astro.umaine.edu
SUMMARY:Little Star that Could
DESCRIPTION:It’s hard to be a little star in a big universe! Join a medium sized\, yellow star as he makes his way through space. In his travels\, he meets many different types of stars and learns about some of the other things that make our universe so interesting. After meeting stars\, nebulas\, and galaxies\, the little star takes a good look at himself and finds that he\, too\, is special. He has nine planets that depend on him for warmth and light. Along with the little star\, audiences learn the ways each planet is special. \nTrailer \nTickets for planetarium programs are $6 for Adults\, $5 for UMaine Students/Veterans/Senior Citizens\, and $4 for children under 12. Click here to view our calendar. \nTickets may be purchased online\, by phone at 207.581.1341\, or at our ticket box office prior to the show.
URL:https://astro.umaine.edu/event/little-star-that-could-7/2017-02-12/
LOCATION:Versant Power Astronomy Center\, 167 Rangeley Rd\, Orono\, ME\, 04469\, United States
CATEGORIES:Public Program
ATTACH;FMTTYPE=image/jpeg:https://astro.umaine.edu/wp-content/uploads/sites/165/2016/05/LSC_16x9.jpg
ORGANIZER;CN="Versant Power Astronomy Center":MAILTO:planetarium@maine.edu
GEO:44.8929612;-68.6626623
X-APPLE-STRUCTURED-LOCATION;VALUE=URI;X-ADDRESS=Versant Power Astronomy Center 167 Rangeley Rd Orono ME 04469 United States;X-APPLE-RADIUS=500;X-TITLE=167 Rangeley Rd:geo:-68.6626623,44.8929612
END:VEVENT
BEGIN:VEVENT
DTSTART;TZID=America/New_York:20170217T190000
DTEND;TZID=America/New_York:20170217T200000
DTSTAMP:20260419T203904
CREATED:20161026T185638Z
LAST-MODIFIED:20161028T174341Z
UID:10001941-1487358000-1487361600@astro.umaine.edu
SUMMARY:Stars
DESCRIPTION:Every star has a story. Some are as old as time\, faint and almost forgotten. Others burn bright and end their lives in powerful explosions. New stars are created every day\, born of vast clouds of gas and dust. Through every phase of their existence\, stars release the energy that lights the Universe. Journey to the furthest reaches of our galaxy and experience both the awesome beauty and destructive power of stars. \nTrailer \nTickets for planetarium programs are $6 for Adults\, $5 for UMaine Students/Veterans/Senior Citizens\, and $4 for children under 12. Click here to view our calendar. \nTickets may be purchased online\, by phone at 207.581.1341\, or at our ticket box office prior to the show.
URL:https://astro.umaine.edu/event/stars-11/2017-02-17/
LOCATION:Versant Power Astronomy Center\, 167 Rangeley Rd\, Orono\, ME\, 04469\, United States
CATEGORIES:Public Program
ATTACH;FMTTYPE=image/jpeg:https://astro.umaine.edu/wp-content/uploads/sites/165/2016/05/STZ_16x9.jpg
ORGANIZER;CN="Versant Power Astronomy Center":MAILTO:planetarium@maine.edu
GEO:44.8929612;-68.6626623
X-APPLE-STRUCTURED-LOCATION;VALUE=URI;X-ADDRESS=Versant Power Astronomy Center 167 Rangeley Rd Orono ME 04469 United States;X-APPLE-RADIUS=500;X-TITLE=167 Rangeley Rd:geo:-68.6626623,44.8929612
END:VEVENT
BEGIN:VEVENT
DTSTART;TZID=America/New_York:20170219T140000
DTEND;TZID=America/New_York:20170219T150000
DTSTAMP:20260419T203904
CREATED:20161026T185733Z
LAST-MODIFIED:20161028T174631Z
UID:10001945-1487512800-1487516400@astro.umaine.edu
SUMMARY:Little Star that Could
DESCRIPTION:It’s hard to be a little star in a big universe! Join a medium sized\, yellow star as he makes his way through space. In his travels\, he meets many different types of stars and learns about some of the other things that make our universe so interesting. After meeting stars\, nebulas\, and galaxies\, the little star takes a good look at himself and finds that he\, too\, is special. He has nine planets that depend on him for warmth and light. Along with the little star\, audiences learn the ways each planet is special. \nTrailer \nTickets for planetarium programs are $6 for Adults\, $5 for UMaine Students/Veterans/Senior Citizens\, and $4 for children under 12. Click here to view our calendar. \nTickets may be purchased online\, by phone at 207.581.1341\, or at our ticket box office prior to the show.
URL:https://astro.umaine.edu/event/little-star-that-could-7/2017-02-19/
LOCATION:Versant Power Astronomy Center\, 167 Rangeley Rd\, Orono\, ME\, 04469\, United States
CATEGORIES:Public Program
ATTACH;FMTTYPE=image/jpeg:https://astro.umaine.edu/wp-content/uploads/sites/165/2016/05/LSC_16x9.jpg
ORGANIZER;CN="Versant Power Astronomy Center":MAILTO:planetarium@maine.edu
GEO:44.8929612;-68.6626623
X-APPLE-STRUCTURED-LOCATION;VALUE=URI;X-ADDRESS=Versant Power Astronomy Center 167 Rangeley Rd Orono ME 04469 United States;X-APPLE-RADIUS=500;X-TITLE=167 Rangeley Rd:geo:-68.6626623,44.8929612
END:VEVENT
BEGIN:VEVENT
DTSTART;TZID=America/New_York:20170220T140000
DTEND;TZID=America/New_York:20170220T150000
DTSTAMP:20260419T203904
CREATED:20170127T144536Z
LAST-MODIFIED:20170127T144536Z
UID:10002028-1487599200-1487602800@astro.umaine.edu
SUMMARY:Origins of Life
DESCRIPTION:Tour the far reaches of the universe and our Earth as the evolution of life is examined in this fully immersive space experience. From the Big Bang to new life on Earth\, from great extinctions to the search for life beyond our planet\, Origins of Life is an inspirational journey through time and a celebration of life near and very\, very far. \nTickets for planetarium programs are $6 for Adults\, $5 for UMaine Students/Veterans/Senior Citizens\, and $4 for children under 12. Click here to view our calendar. \nTickets may be purchased online\, by phone at 207.581.1341\, or at our ticket box office prior to the show.
URL:https://astro.umaine.edu/event/origins-of-life-5/
LOCATION:Versant Power Astronomy Center\, 167 Rangeley Rd\, Orono\, ME\, 04469\, United States
CATEGORIES:Public Program
ATTACH;FMTTYPE=image/jpeg:https://astro.umaine.edu/wp-content/uploads/sites/165/2016/05/ORL_16x9.jpg
GEO:44.8929612;-68.6626623
X-APPLE-STRUCTURED-LOCATION;VALUE=URI;X-ADDRESS=Versant Power Astronomy Center 167 Rangeley Rd Orono ME 04469 United States;X-APPLE-RADIUS=500;X-TITLE=167 Rangeley Rd:geo:-68.6626623,44.8929612
END:VEVENT
BEGIN:VEVENT
DTSTART;TZID=America/New_York:20170221T140000
DTEND;TZID=America/New_York:20170221T150000
DTSTAMP:20260419T203904
CREATED:20170127T144728Z
LAST-MODIFIED:20170127T144728Z
UID:10002000-1487685600-1487689200@astro.umaine.edu
SUMMARY:One World\, One Sky: Big Bird's Adventure
DESCRIPTION:Explore the night sky with your favorite friends from Sesame Street in One World\, One Sky: Big Bird’s Adventure. Follow along with Big Bird\, Elmo and their friend from China\, Hu Hu Zhu\, as they take an imaginary trip from Sesame Street to the moon\, where they discover how different it is from Earth. They explore the day and night sky\, learn about the Big Dipper\, the North Star\, the Sun and the Moon.  Along the way\, they learn how the sky we see is shared by many people around the world. Children attending the show can interact as they watch\, drawing constellations and counting the time it takes the sun to set. \nTickets for planetarium programs are $6 for Adults\, $5 for UMaine Students/Veterans/Senior Citizens\, and $4 for children under 12. Click here to view our calendar. \nTickets may be purchased online\, by phone at 207.581.1341\, or at our ticket box office prior to the show.
URL:https://astro.umaine.edu/event/one-world-one-sky-big-birds-adventure-3/
LOCATION:Versant Power Astronomy Center\, 167 Rangeley Rd\, Orono\, ME\, 04469\, United States
CATEGORIES:Public Program
ATTACH;FMTTYPE=image/jpeg:https://astro.umaine.edu/wp-content/uploads/sites/165/2016/05/OWOS_16x9.jpg
GEO:44.8929612;-68.6626623
X-APPLE-STRUCTURED-LOCATION;VALUE=URI;X-ADDRESS=Versant Power Astronomy Center 167 Rangeley Rd Orono ME 04469 United States;X-APPLE-RADIUS=500;X-TITLE=167 Rangeley Rd:geo:-68.6626623,44.8929612
END:VEVENT
BEGIN:VEVENT
DTSTART;TZID=America/New_York:20170222T140000
DTEND;TZID=America/New_York:20170222T150000
DTSTAMP:20260419T203904
CREATED:20170127T144912Z
LAST-MODIFIED:20170127T144912Z
UID:10002001-1487772000-1487775600@astro.umaine.edu
SUMMARY:Dynamic Earth
DESCRIPTION:Explore the inner workings of Earth’s climate system with visualizations based on satellite monitoring data and advanced supercomputer simulations. This exciting program follows a trail of energy that flows from the Sun into the interlocking systems that shape our climate: the atmosphere\, oceans\, and the biosphere. Audiences will ride along on swirling ocean and wind currents\, dive into the heart of a monster hurricane\, come face-to-face with sharks and gigantic whales\, and fly into roiling volcanoes. We explore the relationship between Earth and the Sun\, life and the carbon cycle\, Earth’s climate control system\, and how human activities are changing our planet. Come learn how dynamic planet Earth really is! \nTickets for planetarium programs are $6 for Adults\, $5 for UMaine Students/Veterans/Senior Citizens\, and $4 for children under 12. Click here to view our calendar. \nTickets may be purchased online\, by phone at 207.581.1341\, or at our ticket box office prior to the show.
URL:https://astro.umaine.edu/event/dynamic-earth-4/
LOCATION:Versant Power Astronomy Center\, 167 Rangeley Rd\, Orono\, ME\, 04469\, United States
CATEGORIES:Public Program
ATTACH;FMTTYPE=image/jpeg:https://astro.umaine.edu/wp-content/uploads/sites/165/2016/09/event_pl_dynamic-earth-7.jpg
GEO:44.8929612;-68.6626623
X-APPLE-STRUCTURED-LOCATION;VALUE=URI;X-ADDRESS=Versant Power Astronomy Center 167 Rangeley Rd Orono ME 04469 United States;X-APPLE-RADIUS=500;X-TITLE=167 Rangeley Rd:geo:-68.6626623,44.8929612
END:VEVENT
BEGIN:VEVENT
DTSTART;TZID=America/New_York:20170223T140000
DTEND;TZID=America/New_York:20170223T150000
DTSTAMP:20260419T203904
CREATED:20170127T145047Z
LAST-MODIFIED:20170127T145047Z
UID:10001803-1487858400-1487862000@astro.umaine.edu
SUMMARY:Life of Trees
DESCRIPTION:In The Life of Trees\, a cheeky ladybug called Dolores and a quirky firefly called Mike take the audience on an adventurous journey of exploration into the wondrous world of trees. Attend the Creepy Crawlies Educational Institution to find out how trees live and their importance to the wider environment.\nOn the excursion\, Delores and Mike zip around a tree\, and in doing so\, playfully learn its secrets: How do plants get their food from the Sun? How do they grow? How does water get from the roots to the top of the crown? And how does all this make life on our earth possible?\nThe Life of Trees is a perfect planetarium show for the whole family that raises the awareness of protecting the natural environment in which we live. \nTickets for planetarium programs are $6 for Adults\, $5 for UMaine Students/Veterans/Senior Citizens\, and $4 for children under 12. Click here to view our calendar. \nTickets may be purchased online\, by phone at 207.581.1341\, or at our ticket box office prior to the show.
URL:https://astro.umaine.edu/event/life-of-trees-3/
LOCATION:Versant Power Astronomy Center\, 167 Rangeley Rd\, Orono\, ME\, 04469\, United States
CATEGORIES:Public Program
ATTACH;FMTTYPE=image/jpeg:https://astro.umaine.edu/wp-content/uploads/sites/165/2016/05/LOT_16x9.jpg
GEO:44.8929612;-68.6626623
X-APPLE-STRUCTURED-LOCATION;VALUE=URI;X-ADDRESS=Versant Power Astronomy Center 167 Rangeley Rd Orono ME 04469 United States;X-APPLE-RADIUS=500;X-TITLE=167 Rangeley Rd:geo:-68.6626623,44.8929612
END:VEVENT
BEGIN:VEVENT
DTSTART;TZID=America/New_York:20170224T140000
DTEND;TZID=America/New_York:20170224T150000
DTSTAMP:20260419T203904
CREATED:20170127T145305Z
LAST-MODIFIED:20170127T145305Z
UID:10001805-1487944800-1487948400@astro.umaine.edu
SUMMARY:Natural Selection
DESCRIPTION:Join the young Charles Darwin on an adventurous voyage of exploration circumnavigating the World with the HMS Beagle. In the 19th century in Victorian times many physical phenomena were already discovered and described by natural laws\, but life’s most eloquent mechanism was still unknown: How could new species arise to replace those lost in extinction? Darwin explored the explanation for how life evolved and the factors which have shaped its development here on planet Earth. Come explore how he used evidence and reason to come up with the theory of Natural Selection. \nTickets for planetarium programs are $6 for Adults\, $5 for UMaine Students/Veterans/Senior Citizens\, and $4 for children under 12. Click here to view our calendar. \nTickets may be purchased online\, by phone at 207.581.1341\, or at our ticket box office prior to the show.
URL:https://astro.umaine.edu/event/natural-selection-2/
LOCATION:Versant Power Astronomy Center\, 167 Rangeley Rd\, Orono\, ME\, 04469\, United States
CATEGORIES:Public Program
ATTACH;FMTTYPE=image/jpeg:https://astro.umaine.edu/wp-content/uploads/sites/165/2016/05/NaturalSelection_16x9.jpg
GEO:44.8929612;-68.6626623
X-APPLE-STRUCTURED-LOCATION;VALUE=URI;X-ADDRESS=Versant Power Astronomy Center 167 Rangeley Rd Orono ME 04469 United States;X-APPLE-RADIUS=500;X-TITLE=167 Rangeley Rd:geo:-68.6626623,44.8929612
END:VEVENT
BEGIN:VEVENT
DTSTART;TZID=America/New_York:20170224T190000
DTEND;TZID=America/New_York:20170224T200000
DTSTAMP:20260419T203904
CREATED:20161026T185638Z
LAST-MODIFIED:20161028T174341Z
UID:10001942-1487962800-1487966400@astro.umaine.edu
SUMMARY:Stars
DESCRIPTION:Every star has a story. Some are as old as time\, faint and almost forgotten. Others burn bright and end their lives in powerful explosions. New stars are created every day\, born of vast clouds of gas and dust. Through every phase of their existence\, stars release the energy that lights the Universe. Journey to the furthest reaches of our galaxy and experience both the awesome beauty and destructive power of stars. \nTrailer \nTickets for planetarium programs are $6 for Adults\, $5 for UMaine Students/Veterans/Senior Citizens\, and $4 for children under 12. Click here to view our calendar. \nTickets may be purchased online\, by phone at 207.581.1341\, or at our ticket box office prior to the show.
URL:https://astro.umaine.edu/event/stars-11/2017-02-24/
LOCATION:Versant Power Astronomy Center\, 167 Rangeley Rd\, Orono\, ME\, 04469\, United States
CATEGORIES:Public Program
ATTACH;FMTTYPE=image/jpeg:https://astro.umaine.edu/wp-content/uploads/sites/165/2016/05/STZ_16x9.jpg
ORGANIZER;CN="Versant Power Astronomy Center":MAILTO:planetarium@maine.edu
GEO:44.8929612;-68.6626623
X-APPLE-STRUCTURED-LOCATION;VALUE=URI;X-ADDRESS=Versant Power Astronomy Center 167 Rangeley Rd Orono ME 04469 United States;X-APPLE-RADIUS=500;X-TITLE=167 Rangeley Rd:geo:-68.6626623,44.8929612
END:VEVENT
BEGIN:VEVENT
DTSTART;TZID=America/New_York:20170224T200000
DTEND;TZID=America/New_York:20170224T210000
DTSTAMP:20260419T203904
CREATED:20170223T222553Z
LAST-MODIFIED:20170223T222553Z
UID:10001809-1487966400-1487970000@astro.umaine.edu
SUMMARY:Stars
DESCRIPTION:Every star has a story. Some are as old as time\, faint and almost forgotten. Others burn bright and end their lives in powerful explosions. New stars are created every day\, born of vast clouds of gas and dust. Through every phase of their existence\, stars release the energy that lights the Universe. Journey to the furthest reaches of our galaxy and experience both the awesome beauty and destructive power of stars. \nTrailer \nTickets for planetarium programs are $6 for Adults\, $5 for UMaine Students/Veterans/Senior Citizens\, and $4 for children under 12. Click here to view our calendar. \nTickets may be purchased online\, by phone at 207.581.1341\, or at our ticket box office prior to the show.
URL:https://astro.umaine.edu/event/stars-12/
LOCATION:Versant Power Astronomy Center\, 167 Rangeley Rd\, Orono\, ME\, 04469\, United States
CATEGORIES:Public Program
ATTACH;FMTTYPE=image/jpeg:https://astro.umaine.edu/wp-content/uploads/sites/165/2016/05/STZ_16x9.jpg
ORGANIZER;CN="Versant Power Astronomy Center":MAILTO:planetarium@maine.edu
GEO:44.8929612;-68.6626623
X-APPLE-STRUCTURED-LOCATION;VALUE=URI;X-ADDRESS=Versant Power Astronomy Center 167 Rangeley Rd Orono ME 04469 United States;X-APPLE-RADIUS=500;X-TITLE=167 Rangeley Rd:geo:-68.6626623,44.8929612
END:VEVENT
BEGIN:VEVENT
DTSTART;TZID=America/New_York:20170226T140000
DTEND;TZID=America/New_York:20170226T150000
DTSTAMP:20260419T203904
CREATED:20161026T185733Z
LAST-MODIFIED:20161028T174631Z
UID:10001946-1488117600-1488121200@astro.umaine.edu
SUMMARY:Little Star that Could
DESCRIPTION:It’s hard to be a little star in a big universe! Join a medium sized\, yellow star as he makes his way through space. In his travels\, he meets many different types of stars and learns about some of the other things that make our universe so interesting. After meeting stars\, nebulas\, and galaxies\, the little star takes a good look at himself and finds that he\, too\, is special. He has nine planets that depend on him for warmth and light. Along with the little star\, audiences learn the ways each planet is special. \nTrailer \nTickets for planetarium programs are $6 for Adults\, $5 for UMaine Students/Veterans/Senior Citizens\, and $4 for children under 12. Click here to view our calendar. \nTickets may be purchased online\, by phone at 207.581.1341\, or at our ticket box office prior to the show.
URL:https://astro.umaine.edu/event/little-star-that-could-7/2017-02-26/
LOCATION:Versant Power Astronomy Center\, 167 Rangeley Rd\, Orono\, ME\, 04469\, United States
CATEGORIES:Public Program
ATTACH;FMTTYPE=image/jpeg:https://astro.umaine.edu/wp-content/uploads/sites/165/2016/05/LSC_16x9.jpg
ORGANIZER;CN="Versant Power Astronomy Center":MAILTO:planetarium@maine.edu
GEO:44.8929612;-68.6626623
X-APPLE-STRUCTURED-LOCATION;VALUE=URI;X-ADDRESS=Versant Power Astronomy Center 167 Rangeley Rd Orono ME 04469 United States;X-APPLE-RADIUS=500;X-TITLE=167 Rangeley Rd:geo:-68.6626623,44.8929612
END:VEVENT
END:VCALENDAR