BEGIN:VCALENDAR
VERSION:2.0
PRODID:-//Versant Power Astronomy Center and Maynard Jordan Planetarium - ECPv6.15.17.1//NONSGML v1.0//EN
CALSCALE:GREGORIAN
METHOD:PUBLISH
X-WR-CALNAME:Versant Power Astronomy Center and Maynard Jordan Planetarium
X-ORIGINAL-URL:https://astro.umaine.edu
X-WR-CALDESC:Events for Versant Power Astronomy Center and Maynard Jordan Planetarium
REFRESH-INTERVAL;VALUE=DURATION:PT1H
X-Robots-Tag:noindex
X-PUBLISHED-TTL:PT1H
BEGIN:VTIMEZONE
TZID:America/New_York
BEGIN:DAYLIGHT
TZOFFSETFROM:-0500
TZOFFSETTO:-0400
TZNAME:EDT
DTSTART:20250309T070000
END:DAYLIGHT
BEGIN:STANDARD
TZOFFSETFROM:-0400
TZOFFSETTO:-0500
TZNAME:EST
DTSTART:20251102T060000
END:STANDARD
BEGIN:DAYLIGHT
TZOFFSETFROM:-0500
TZOFFSETTO:-0400
TZNAME:EDT
DTSTART:20260308T070000
END:DAYLIGHT
BEGIN:STANDARD
TZOFFSETFROM:-0400
TZOFFSETTO:-0500
TZNAME:EST
DTSTART:20261101T060000
END:STANDARD
BEGIN:DAYLIGHT
TZOFFSETFROM:-0500
TZOFFSETTO:-0400
TZNAME:EDT
DTSTART:20270314T070000
END:DAYLIGHT
BEGIN:STANDARD
TZOFFSETFROM:-0400
TZOFFSETTO:-0500
TZNAME:EST
DTSTART:20271107T060000
END:STANDARD
END:VTIMEZONE
BEGIN:VEVENT
DTSTART;TZID=America/New_York:20260503T140000
DTEND;TZID=America/New_York:20260503T150000
DTSTAMP:20260421T165110
CREATED:20260125T233334Z
LAST-MODIFIED:20260125T233334Z
UID:10004577-1777816800-1777820400@astro.umaine.edu
SUMMARY:H2O - The Cosmic States of Water
DESCRIPTION:H2O – The Cosmic States of Water \nIn the icy northern waters\, a little sea otter named Sedna spends her days playing\, fishing\, and diving with her fellow otters. Sedna dreams of travelling to distant places…\nAnd on this day\, like every year\, she is on the lookout for Toklo\, a mercurial and wily cormorant due back from his long southward migration. Thanks to H2O\, Sedna will go on an extraordinary journey to discover the water cycle on Earth. Then\, buoyed by a fresh self-confidence and her newly gained knowledge\, she persuades Toklo to embark on an even more amazing journey. \nAges 5 and up \n  \nTickets for planetarium programs are $7 for Adults\, $6 for UMaine Students/Veterans/Senior Citizens\, and $5 for children under 12. Click here to view our calendar. \nTickets may be purchased online\, by phone at 207.581.1341\, or at our ticket box office prior to the show.
URL:https://astro.umaine.edu/event/h2o-the-cosmic-states-of-water/2026-05-03/
LOCATION:Versant Power Astronomy Center\, 167 Rangeley Rd\, Orono\, ME\, 04469\, United States
CATEGORIES:Public Program
ATTACH;FMTTYPE=image/png:https://astro.umaine.edu/wp-content/uploads/sites/165/2026/01/H20-Cosmic-Water.png
ORGANIZER;CN="Versant Power Astronomy Center":MAILTO:planetarium@maine.edu
GEO:44.8929612;-68.6626623
X-APPLE-STRUCTURED-LOCATION;VALUE=URI;X-ADDRESS=Versant Power Astronomy Center 167 Rangeley Rd Orono ME 04469 United States;X-APPLE-RADIUS=500;X-TITLE=167 Rangeley Rd:geo:-68.6626623,44.8929612
END:VEVENT
BEGIN:VEVENT
DTSTART;TZID=America/New_York:20260510T140000
DTEND;TZID=America/New_York:20260510T150000
DTSTAMP:20260421T165110
CREATED:20260125T233334Z
LAST-MODIFIED:20260125T233334Z
UID:10004578-1778421600-1778425200@astro.umaine.edu
SUMMARY:H2O - The Cosmic States of Water
DESCRIPTION:H2O – The Cosmic States of Water \nIn the icy northern waters\, a little sea otter named Sedna spends her days playing\, fishing\, and diving with her fellow otters. Sedna dreams of travelling to distant places…\nAnd on this day\, like every year\, she is on the lookout for Toklo\, a mercurial and wily cormorant due back from his long southward migration. Thanks to H2O\, Sedna will go on an extraordinary journey to discover the water cycle on Earth. Then\, buoyed by a fresh self-confidence and her newly gained knowledge\, she persuades Toklo to embark on an even more amazing journey. \nAges 5 and up \n  \nTickets for planetarium programs are $7 for Adults\, $6 for UMaine Students/Veterans/Senior Citizens\, and $5 for children under 12. Click here to view our calendar. \nTickets may be purchased online\, by phone at 207.581.1341\, or at our ticket box office prior to the show.
URL:https://astro.umaine.edu/event/h2o-the-cosmic-states-of-water/2026-05-10/
LOCATION:Versant Power Astronomy Center\, 167 Rangeley Rd\, Orono\, ME\, 04469\, United States
CATEGORIES:Public Program
ATTACH;FMTTYPE=image/png:https://astro.umaine.edu/wp-content/uploads/sites/165/2026/01/H20-Cosmic-Water.png
ORGANIZER;CN="Versant Power Astronomy Center":MAILTO:planetarium@maine.edu
GEO:44.8929612;-68.6626623
X-APPLE-STRUCTURED-LOCATION;VALUE=URI;X-ADDRESS=Versant Power Astronomy Center 167 Rangeley Rd Orono ME 04469 United States;X-APPLE-RADIUS=500;X-TITLE=167 Rangeley Rd:geo:-68.6626623,44.8929612
END:VEVENT
BEGIN:VEVENT
DTSTART;TZID=America/New_York:20260517T140000
DTEND;TZID=America/New_York:20260517T150000
DTSTAMP:20260421T165110
CREATED:20260125T233334Z
LAST-MODIFIED:20260125T233334Z
UID:10004579-1779026400-1779030000@astro.umaine.edu
SUMMARY:H2O - The Cosmic States of Water
DESCRIPTION:H2O – The Cosmic States of Water \nIn the icy northern waters\, a little sea otter named Sedna spends her days playing\, fishing\, and diving with her fellow otters. Sedna dreams of travelling to distant places…\nAnd on this day\, like every year\, she is on the lookout for Toklo\, a mercurial and wily cormorant due back from his long southward migration. Thanks to H2O\, Sedna will go on an extraordinary journey to discover the water cycle on Earth. Then\, buoyed by a fresh self-confidence and her newly gained knowledge\, she persuades Toklo to embark on an even more amazing journey. \nAges 5 and up \n  \nTickets for planetarium programs are $7 for Adults\, $6 for UMaine Students/Veterans/Senior Citizens\, and $5 for children under 12. Click here to view our calendar. \nTickets may be purchased online\, by phone at 207.581.1341\, or at our ticket box office prior to the show.
URL:https://astro.umaine.edu/event/h2o-the-cosmic-states-of-water/2026-05-17/
LOCATION:Versant Power Astronomy Center\, 167 Rangeley Rd\, Orono\, ME\, 04469\, United States
CATEGORIES:Public Program
ATTACH;FMTTYPE=image/png:https://astro.umaine.edu/wp-content/uploads/sites/165/2026/01/H20-Cosmic-Water.png
ORGANIZER;CN="Versant Power Astronomy Center":MAILTO:planetarium@maine.edu
GEO:44.8929612;-68.6626623
X-APPLE-STRUCTURED-LOCATION;VALUE=URI;X-ADDRESS=Versant Power Astronomy Center 167 Rangeley Rd Orono ME 04469 United States;X-APPLE-RADIUS=500;X-TITLE=167 Rangeley Rd:geo:-68.6626623,44.8929612
END:VEVENT
BEGIN:VEVENT
DTSTART;TZID=America/New_York:20260524T140000
DTEND;TZID=America/New_York:20260524T150000
DTSTAMP:20260421T165110
CREATED:20260125T233334Z
LAST-MODIFIED:20260125T233334Z
UID:10004580-1779631200-1779634800@astro.umaine.edu
SUMMARY:H2O - The Cosmic States of Water
DESCRIPTION:H2O – The Cosmic States of Water \nIn the icy northern waters\, a little sea otter named Sedna spends her days playing\, fishing\, and diving with her fellow otters. Sedna dreams of travelling to distant places…\nAnd on this day\, like every year\, she is on the lookout for Toklo\, a mercurial and wily cormorant due back from his long southward migration. Thanks to H2O\, Sedna will go on an extraordinary journey to discover the water cycle on Earth. Then\, buoyed by a fresh self-confidence and her newly gained knowledge\, she persuades Toklo to embark on an even more amazing journey. \nAges 5 and up \n  \nTickets for planetarium programs are $7 for Adults\, $6 for UMaine Students/Veterans/Senior Citizens\, and $5 for children under 12. Click here to view our calendar. \nTickets may be purchased online\, by phone at 207.581.1341\, or at our ticket box office prior to the show.
URL:https://astro.umaine.edu/event/h2o-the-cosmic-states-of-water/2026-05-24/
LOCATION:Versant Power Astronomy Center\, 167 Rangeley Rd\, Orono\, ME\, 04469\, United States
CATEGORIES:Public Program
ATTACH;FMTTYPE=image/png:https://astro.umaine.edu/wp-content/uploads/sites/165/2026/01/H20-Cosmic-Water.png
ORGANIZER;CN="Versant Power Astronomy Center":MAILTO:planetarium@maine.edu
GEO:44.8929612;-68.6626623
X-APPLE-STRUCTURED-LOCATION;VALUE=URI;X-ADDRESS=Versant Power Astronomy Center 167 Rangeley Rd Orono ME 04469 United States;X-APPLE-RADIUS=500;X-TITLE=167 Rangeley Rd:geo:-68.6626623,44.8929612
END:VEVENT
BEGIN:VEVENT
DTSTART;TZID=America/New_York:20260531T140000
DTEND;TZID=America/New_York:20260531T150000
DTSTAMP:20260421T165110
CREATED:20260125T233334Z
LAST-MODIFIED:20260125T233334Z
UID:10004581-1780236000-1780239600@astro.umaine.edu
SUMMARY:H2O - The Cosmic States of Water
DESCRIPTION:H2O – The Cosmic States of Water \nIn the icy northern waters\, a little sea otter named Sedna spends her days playing\, fishing\, and diving with her fellow otters. Sedna dreams of travelling to distant places…\nAnd on this day\, like every year\, she is on the lookout for Toklo\, a mercurial and wily cormorant due back from his long southward migration. Thanks to H2O\, Sedna will go on an extraordinary journey to discover the water cycle on Earth. Then\, buoyed by a fresh self-confidence and her newly gained knowledge\, she persuades Toklo to embark on an even more amazing journey. \nAges 5 and up \n  \nTickets for planetarium programs are $7 for Adults\, $6 for UMaine Students/Veterans/Senior Citizens\, and $5 for children under 12. Click here to view our calendar. \nTickets may be purchased online\, by phone at 207.581.1341\, or at our ticket box office prior to the show.
URL:https://astro.umaine.edu/event/h2o-the-cosmic-states-of-water/2026-05-31/
LOCATION:Versant Power Astronomy Center\, 167 Rangeley Rd\, Orono\, ME\, 04469\, United States
CATEGORIES:Public Program
ATTACH;FMTTYPE=image/png:https://astro.umaine.edu/wp-content/uploads/sites/165/2026/01/H20-Cosmic-Water.png
ORGANIZER;CN="Versant Power Astronomy Center":MAILTO:planetarium@maine.edu
GEO:44.8929612;-68.6626623
X-APPLE-STRUCTURED-LOCATION;VALUE=URI;X-ADDRESS=Versant Power Astronomy Center 167 Rangeley Rd Orono ME 04469 United States;X-APPLE-RADIUS=500;X-TITLE=167 Rangeley Rd:geo:-68.6626623,44.8929612
END:VEVENT
END:VCALENDAR