BEGIN:VCALENDAR
VERSION:2.0
PRODID:-//Versant Power Astronomy Center and Maynard Jordan Planetarium - ECPv6.15.17.1//NONSGML v1.0//EN
CALSCALE:GREGORIAN
METHOD:PUBLISH
X-WR-CALNAME:Versant Power Astronomy Center and Maynard Jordan Planetarium
X-ORIGINAL-URL:https://astro.umaine.edu
X-WR-CALDESC:Events for Versant Power Astronomy Center and Maynard Jordan Planetarium
REFRESH-INTERVAL;VALUE=DURATION:PT1H
X-Robots-Tag:noindex
X-PUBLISHED-TTL:PT1H
BEGIN:VTIMEZONE
TZID:America/New_York
BEGIN:DAYLIGHT
TZOFFSETFROM:-0500
TZOFFSETTO:-0400
TZNAME:EDT
DTSTART:20150308T070000
END:DAYLIGHT
BEGIN:STANDARD
TZOFFSETFROM:-0400
TZOFFSETTO:-0500
TZNAME:EST
DTSTART:20151101T060000
END:STANDARD
BEGIN:DAYLIGHT
TZOFFSETFROM:-0500
TZOFFSETTO:-0400
TZNAME:EDT
DTSTART:20160313T070000
END:DAYLIGHT
BEGIN:STANDARD
TZOFFSETFROM:-0400
TZOFFSETTO:-0500
TZNAME:EST
DTSTART:20161106T060000
END:STANDARD
BEGIN:DAYLIGHT
TZOFFSETFROM:-0500
TZOFFSETTO:-0400
TZNAME:EDT
DTSTART:20170312T070000
END:DAYLIGHT
BEGIN:STANDARD
TZOFFSETFROM:-0400
TZOFFSETTO:-0500
TZNAME:EST
DTSTART:20171105T060000
END:STANDARD
END:VTIMEZONE
BEGIN:VEVENT
DTSTART;TZID=America/New_York:20160724T140000
DTEND;TZID=America/New_York:20160724T150000
DTSTAMP:20260420T204753
CREATED:20160516T142255Z
LAST-MODIFIED:20160516T142255Z
UID:10001968-1469368800-1469372400@astro.umaine.edu
SUMMARY:Magic Tree House: Space Mission
DESCRIPTION:Travel with the brother-sister duo\, Jack and Annie\, in their Magic Tree House as they discover a note that asks them to answer a series of six questions about space. With the help of an astronomer\, the Internet\, an astronaut\, books and the writer of the mysterious note\, Jack and Annie are taken on a wondrous journey of adventure and learning. \nThis exciting voyage will carry visitors to the planets and far out into the Universe where Jack and Annie nearly get… Well\, we don’t want to give it away. The adventure is just beginning!\nBased on the popular book series by Mary Pope Osborne. \nTrailer \nTickets for planetarium programs are $6 for Adults\, $5 for UMaine Students/Veterans/Senior Citizens\, and $4 for children under 12. Click here to view our calendar. \nTickets may be purchased online\, by phone at 207.581.1341\, or at our ticket box office prior to the show.
URL:https://astro.umaine.edu/event/magic-tree-house-space-mission/2016-07-24/
LOCATION:Versant Power Astronomy Center\, 167 Rangeley Rd\, Orono\, ME\, 04469\, United States
CATEGORIES:Public Program
ATTACH;FMTTYPE=image/jpeg:https://astro.umaine.edu/wp-content/uploads/sites/165/2016/05/MTH_16x9.jpg
ORGANIZER;CN="Versant Power Astronomy Center":MAILTO:planetarium@maine.edu
GEO:44.8929612;-68.6626623
X-APPLE-STRUCTURED-LOCATION;VALUE=URI;X-ADDRESS=Versant Power Astronomy Center 167 Rangeley Rd Orono ME 04469 United States;X-APPLE-RADIUS=500;X-TITLE=167 Rangeley Rd:geo:-68.6626623,44.8929612
END:VEVENT
BEGIN:VEVENT
DTSTART;TZID=America/New_York:20160727T133000
DTEND;TZID=America/New_York:20160727T143000
DTSTAMP:20260420T204753
CREATED:20160516T150704Z
LAST-MODIFIED:20160516T150704Z
UID:10001894-1469626200-1469629800@astro.umaine.edu
SUMMARY:To Space and Back
DESCRIPTION:Space exploration\, our greatest adventure\, is having a big impact on our lives. It is helping us to discover a universe of unimaginable scale and beauty\, and it is reaching down into our world and influencing the way we live.\nTo Space & Back takes audiences on an incredible journey from the far reaches of our known universe to our own planet. It is an extraordinary story of human ingenuity and incredible engineering\, describing how the technology that transports us through space is paving the way for the devices and apps we use every day. What is happening above is coming back down to Earth! \nTrailer \nTickets for planetarium programs are $6 for Adults\, $5 for UMaine Students/Veterans/Senior Citizens\, and $4 for children under 12. Click here to view our calendar. \nTickets may be purchased online\, by phone at 207.581.1341\, or at our ticket box office prior to the show.
URL:https://astro.umaine.edu/event/space-back-2/
LOCATION:Versant Power Astronomy Center\, 167 Rangeley Rd\, Orono\, ME\, 04469\, United States
CATEGORIES:Public Program
ATTACH;FMTTYPE=image/jpeg:https://astro.umaine.edu/wp-content/uploads/sites/165/2013/04/space-and-back-e1713821471986.jpg
ORGANIZER;CN="Versant Power Astronomy Center":MAILTO:planetarium@maine.edu
GEO:44.8929612;-68.6626623
X-APPLE-STRUCTURED-LOCATION;VALUE=URI;X-ADDRESS=Versant Power Astronomy Center 167 Rangeley Rd Orono ME 04469 United States;X-APPLE-RADIUS=500;X-TITLE=167 Rangeley Rd:geo:-68.6626623,44.8929612
END:VEVENT
BEGIN:VEVENT
DTSTART;TZID=America/New_York:20160729T190000
DTEND;TZID=America/New_York:20160729T200000
DTSTAMP:20260420T204753
CREATED:20160516T142033Z
LAST-MODIFIED:20160707T174009Z
UID:10001961-1469818800-1469822400@astro.umaine.edu
SUMMARY:Back to the Moon for Good
DESCRIPTION:Immerse yourself in a race to return to the Moon 40 years after the historic Apollo landings. See how a competition among privately funded international teams is ushering in a new era of lunar exploration. Learn about the Moon’s resources and discover what humanity’s future on the Moon might hold. Narrated by Tim Allen\, Back To The Moon For Good presents the Google Lunar XPRIZE\, and the personal stories of competition and collaboration it inspires. \nTrailer \nTickets for planetarium programs are $6 for Adults\, $5 for UMaine Students/Veterans/Senior Citizens\, and $4 for children under 12. Click here to view our calendar. \nTickets may be purchased online\, by phone at 207.581.1341\, or at our ticket box office prior to the show.
URL:https://astro.umaine.edu/event/back-moon-good/2016-07-29/
LOCATION:Versant Power Astronomy Center\, 167 Rangeley Rd\, Orono\, ME\, 04469\, United States
CATEGORIES:Public Program
ORGANIZER;CN="Versant Power Astronomy Center":MAILTO:planetarium@maine.edu
GEO:44.8929612;-68.6626623
X-APPLE-STRUCTURED-LOCATION;VALUE=URI;X-ADDRESS=Versant Power Astronomy Center 167 Rangeley Rd Orono ME 04469 United States;X-APPLE-RADIUS=500;X-TITLE=167 Rangeley Rd:geo:-68.6626623,44.8929612
END:VEVENT
END:VCALENDAR