BEGIN:VCALENDAR
VERSION:2.0
PRODID:-//Versant Power Astronomy Center and Maynard Jordan Planetarium - ECPv6.15.17.1//NONSGML v1.0//EN
CALSCALE:GREGORIAN
METHOD:PUBLISH
X-WR-CALNAME:Versant Power Astronomy Center and Maynard Jordan Planetarium
X-ORIGINAL-URL:https://astro.umaine.edu
X-WR-CALDESC:Events for Versant Power Astronomy Center and Maynard Jordan Planetarium
REFRESH-INTERVAL;VALUE=DURATION:PT1H
X-Robots-Tag:noindex
X-PUBLISHED-TTL:PT1H
BEGIN:VTIMEZONE
TZID:America/New_York
BEGIN:DAYLIGHT
TZOFFSETFROM:-0500
TZOFFSETTO:-0400
TZNAME:EDT
DTSTART:20150308T070000
END:DAYLIGHT
BEGIN:STANDARD
TZOFFSETFROM:-0400
TZOFFSETTO:-0500
TZNAME:EST
DTSTART:20151101T060000
END:STANDARD
BEGIN:DAYLIGHT
TZOFFSETFROM:-0500
TZOFFSETTO:-0400
TZNAME:EDT
DTSTART:20160313T070000
END:DAYLIGHT
BEGIN:STANDARD
TZOFFSETFROM:-0400
TZOFFSETTO:-0500
TZNAME:EST
DTSTART:20161106T060000
END:STANDARD
BEGIN:DAYLIGHT
TZOFFSETFROM:-0500
TZOFFSETTO:-0400
TZNAME:EDT
DTSTART:20170312T070000
END:DAYLIGHT
BEGIN:STANDARD
TZOFFSETFROM:-0400
TZOFFSETTO:-0500
TZNAME:EST
DTSTART:20171105T060000
END:STANDARD
END:VTIMEZONE
BEGIN:VEVENT
DTSTART;TZID=America/New_York:20160828T123000
DTEND;TZID=America/New_York:20160828T133000
DTSTAMP:20260420T224033
CREATED:20160721T143126Z
LAST-MODIFIED:20160721T143514Z
UID:10001956-1472387400-1472391000@astro.umaine.edu
SUMMARY:To Space and Back
DESCRIPTION:Space exploration\, our greatest adventure\, is having a big impact on our lives. It is helping us to discover a universe of unimaginable scale and beauty\, and it is reaching down into our world and influencing the way we live.\nTo Space & Back takes audiences on an incredible journey from the far reaches of our known universe to our own planet. It is an extraordinary story of human ingenuity and incredible engineering\, describing how the technology that transports us through space is paving the way for the devices and apps we use every day. What is happening above is coming back down to Earth! \nTrailer \nTickets for planetarium programs are $6 for Adults\, $5 for UMaine Students/Veterans/Senior Citizens\, and $4 for children under 12. Click here to view our calendar. \nTickets may be purchased online\, by phone at 207.581.1341\, or at our ticket box office prior to the show.
URL:https://astro.umaine.edu/event/space-back-2-2/
LOCATION:Versant Power Astronomy Center\, 167 Rangeley Rd\, Orono\, ME\, 04469\, United States
CATEGORIES:Public Program
ATTACH;FMTTYPE=image/jpeg:https://astro.umaine.edu/wp-content/uploads/sites/165/2013/04/space-and-back-e1713821471986.jpg
ORGANIZER;CN="Versant Power Astronomy Center":MAILTO:planetarium@maine.edu
GEO:44.8929612;-68.6626623
X-APPLE-STRUCTURED-LOCATION;VALUE=URI;X-ADDRESS=Versant Power Astronomy Center 167 Rangeley Rd Orono ME 04469 United States;X-APPLE-RADIUS=500;X-TITLE=167 Rangeley Rd:geo:-68.6626623,44.8929612
END:VEVENT
BEGIN:VEVENT
DTSTART;TZID=America/New_York:20160828T140000
DTEND;TZID=America/New_York:20160828T150000
DTSTAMP:20260420T224033
CREATED:20160516T144931Z
LAST-MODIFIED:20160516T144931Z
UID:10001980-1472392800-1472396400@astro.umaine.edu
SUMMARY:Earth\, Moon\, & Sun
DESCRIPTION:Earth\, Moon\, & Sun is a fast-paced full dome demonstration of lunar phases\, eclipses\, day and night\, the sun and other puzzling events with the help of a confused coyote. This program beautifully illustrates basic concepts like moon phases and seasons. Based on the trickster of Native American lore\, Coyote is constantly corrected in his misunderstandings of how things work. A live tour of the Maine sky and its beautiful constellations completes this micro-unit of astronomy. \nTrailer \nTickets for planetarium programs are $6 for Adults\, $5 for UMaine Students/Veterans/Senior Citizens\, and $4 for children under 12. Click here to view our calendar. \nTickets may be purchased online\, by phone at 207.581.1341\, or at our ticket box office prior to the show.
URL:https://astro.umaine.edu/event/earth-moon-sun-7/2016-08-28/
LOCATION:Versant Power Astronomy Center\, 167 Rangeley Rd\, Orono\, ME\, 04469\, United States
CATEGORIES:Public Program
ATTACH;FMTTYPE=image/jpeg:https://astro.umaine.edu/wp-content/uploads/sites/165/2016/05/EMS_16x9.jpg
ORGANIZER;CN="Versant Power Astronomy Center":MAILTO:planetarium@maine.edu
GEO:44.8929612;-68.6626623
X-APPLE-STRUCTURED-LOCATION;VALUE=URI;X-ADDRESS=Versant Power Astronomy Center 167 Rangeley Rd Orono ME 04469 United States;X-APPLE-RADIUS=500;X-TITLE=167 Rangeley Rd:geo:-68.6626623,44.8929612
END:VEVENT
BEGIN:VEVENT
DTSTART;TZID=America/New_York:20160828T153000
DTEND;TZID=America/New_York:20160828T163000
DTSTAMP:20260420T224033
CREATED:20160721T144739Z
LAST-MODIFIED:20160721T144856Z
UID:10001954-1472398200-1472401800@astro.umaine.edu
SUMMARY:Black Holes
DESCRIPTION:The attraction of Black Holes is more than just gravitational. These mysterious graveyards of dead stars have fascinated generations. “Black Holes” explores the history\, physics\, and mystery of these reality-bending phenomena. Experience the bending of light\, the skewing of perception\, and the dizzying descent into a black hole. \nTrailer \nTickets for planetarium programs are $6 for Adults\, $5 for UMaine Students/Veterans/Senior Citizens\, and $4 for children under 12. Click here to view our calendar. \nTickets may be purchased online\, by phone at 207.581.1341\, or at our ticket box office prior to the show.
URL:https://astro.umaine.edu/event/black-holes-4/
LOCATION:Versant Power Astronomy Center\, 167 Rangeley Rd\, Orono\, ME\, 04469\, United States
CATEGORIES:Public Program
ATTACH;FMTTYPE=image/jpeg:https://astro.umaine.edu/wp-content/uploads/sites/165/2016/05/BHZ_16x9.jpg
ORGANIZER;CN="Versant Power Astronomy Center":MAILTO:planetarium@maine.edu
GEO:44.8929612;-68.6626623
X-APPLE-STRUCTURED-LOCATION;VALUE=URI;X-ADDRESS=Versant Power Astronomy Center 167 Rangeley Rd Orono ME 04469 United States;X-APPLE-RADIUS=500;X-TITLE=167 Rangeley Rd:geo:-68.6626623,44.8929612
END:VEVENT
BEGIN:VEVENT
DTSTART;TZID=America/New_York:20160901T190000
DTEND;TZID=America/New_York:20160901T200000
DTSTAMP:20260420T224033
CREATED:20160816T193630Z
LAST-MODIFIED:20160816T195414Z
UID:10001762-1472756400-1472760000@astro.umaine.edu
SUMMARY:Science Lecture Series: Dr. Elizabeth McGrath
DESCRIPTION:A Walk Among Giants: Building the Largest Galaxies in the Universe!\nThursday\, September 1 at 7:00 pm \n\nDr. Elizabeth McGrath will kick off our new Science Lecture Series here at the planetarium with her presentation on galaxies and how these objects help us understand the universe we live in.  She serves as the Clare Boothe Luce Assistant Professor of Physics and Astronomy at Colby College.  Dr. McGrath did her Ph. D. at the University of Hawaii focusing on the formation and evolution of massive galaxies and active galactic nuclei in the early universe.  She is a leader in the CANDELS survey on the Hubble Space Telescope and helping define the science goals for the planned Thirty Meter Telescope on Mauna Kea in Hawaii. \nDr. McGrath’s presentation will explore how the study of very massive galaxies is helping us understand key astrophysical questions about our universe.  Looking at how matter and radiation interact during energetic events such as star formation\, galaxy collisions\, and the formation of supermassive black holes help answer these questions\, and the next generation of telescopes will help in our observation and understanding of the origins of the universe. \n \nThe Science Lecture Series at Emera Astronomy Center will take place the first Thursdays of each month and is a partnership project with the Maine Science Festival and will feature research from a variety of science disciplines from around our state and use the digital planetarium to visualize these discoveries in a new dramatic and immersive way. \nTickets for planetarium programs are $6 for Adults\, $5 for UMaine Students/Veterans/Senior Citizens\, and $4 for children under 12. Click here to view our calendar. \nTickets may be purchased online\, by phone at 207.581.1341\, or at our ticket box office prior to the show.
URL:https://astro.umaine.edu/event/science-lecture-series-1/
LOCATION:Versant Power Astronomy Center\, 167 Rangeley Rd\, Orono\, ME\, 04469\, United States
CATEGORIES:Public Program,Science Lecture Series
ATTACH;FMTTYPE=image/jpeg:https://astro.umaine.edu/wp-content/uploads/sites/165/2016/08/uvudf_large16x9.jpg
ORGANIZER;CN="Versant Power Astronomy Center":MAILTO:planetarium@maine.edu
GEO:44.8929612;-68.6626623
X-APPLE-STRUCTURED-LOCATION;VALUE=URI;X-ADDRESS=Versant Power Astronomy Center 167 Rangeley Rd Orono ME 04469 United States;X-APPLE-RADIUS=500;X-TITLE=167 Rangeley Rd:geo:-68.6626623,44.8929612
END:VEVENT
BEGIN:VEVENT
DTSTART;TZID=America/New_York:20160902T190000
DTEND;TZID=America/New_York:20160902T200000
DTSTAMP:20260420T224033
CREATED:20160629T181610Z
LAST-MODIFIED:20160629T182404Z
UID:10001885-1472842800-1472846400@astro.umaine.edu
SUMMARY:Dark
DESCRIPTION:The search for Dark Matter is the most pressing astrophysical problem of our time – the solution to which will help us understand why the Universe is as it is\, where it came from\, and how it has evolved over billions of years – the unimaginable depths of deep time\, of which a human life is but a flickering instant. \nBut in that instant\, we can grasp its immensity and\, through science\, we can attempt to understand it. \nTrailer \nTickets for planetarium programs are $6 for Adults\, $5 for UMaine Students/Veterans/Senior Citizens\, and $4 for children under 12. Click here to view our calendar. \nTickets may be purchased online\, by phone at 207.581.1341\, or at our ticket box office prior to the show.
URL:https://astro.umaine.edu/event/dark/2016-09-02/
LOCATION:Versant Power Astronomy Center\, 167 Rangeley Rd\, Orono\, ME\, 04469\, United States
CATEGORIES:Public Program
ATTACH;FMTTYPE=image/jpeg:https://astro.umaine.edu/wp-content/uploads/sites/165/2016/05/Dark_16x9.jpg
GEO:44.8929612;-68.6626623
X-APPLE-STRUCTURED-LOCATION;VALUE=URI;X-ADDRESS=Versant Power Astronomy Center 167 Rangeley Rd Orono ME 04469 United States;X-APPLE-RADIUS=500;X-TITLE=167 Rangeley Rd:geo:-68.6626623,44.8929612
END:VEVENT
END:VCALENDAR