BEGIN:VCALENDAR
VERSION:2.0
PRODID:-//Versant Power Astronomy Center and Maynard Jordan Planetarium - ECPv6.15.17.1//NONSGML v1.0//EN
CALSCALE:GREGORIAN
METHOD:PUBLISH
X-WR-CALNAME:Versant Power Astronomy Center and Maynard Jordan Planetarium
X-ORIGINAL-URL:https://astro.umaine.edu
X-WR-CALDESC:Events for Versant Power Astronomy Center and Maynard Jordan Planetarium
REFRESH-INTERVAL;VALUE=DURATION:PT1H
X-Robots-Tag:noindex
X-PUBLISHED-TTL:PT1H
BEGIN:VTIMEZONE
TZID:America/New_York
BEGIN:DAYLIGHT
TZOFFSETFROM:-0500
TZOFFSETTO:-0400
TZNAME:EDT
DTSTART:20150308T070000
END:DAYLIGHT
BEGIN:STANDARD
TZOFFSETFROM:-0400
TZOFFSETTO:-0500
TZNAME:EST
DTSTART:20151101T060000
END:STANDARD
BEGIN:DAYLIGHT
TZOFFSETFROM:-0500
TZOFFSETTO:-0400
TZNAME:EDT
DTSTART:20160313T070000
END:DAYLIGHT
BEGIN:STANDARD
TZOFFSETFROM:-0400
TZOFFSETTO:-0500
TZNAME:EST
DTSTART:20161106T060000
END:STANDARD
BEGIN:DAYLIGHT
TZOFFSETFROM:-0500
TZOFFSETTO:-0400
TZNAME:EDT
DTSTART:20170312T070000
END:DAYLIGHT
BEGIN:STANDARD
TZOFFSETFROM:-0400
TZOFFSETTO:-0500
TZNAME:EST
DTSTART:20171105T060000
END:STANDARD
END:VTIMEZONE
BEGIN:VEVENT
DTSTART;TZID=America/New_York:20161002T140000
DTEND;TZID=America/New_York:20161002T150000
DTSTAMP:20260420T224030
CREATED:20160629T182731Z
LAST-MODIFIED:20160629T182731Z
UID:10001987-1475416800-1475420400@astro.umaine.edu
SUMMARY:Secret of the Cardboard Rocket
DESCRIPTION:Join two children on a magical journey through the Solar System\, aided by a talking astronomy book\, a cardboard rocket\, and a vivid imagination. During this imaginative show\, audiences will land on Venus\, fly through the rings of Saturn\, and discover the secrets of the Solar System. \nTrailer \nTickets for planetarium programs are $6 for Adults\, $5 for UMaine Students/Veterans/Senior Citizens\, and $4 for children under 12. Click here to view our calendar. \nTickets may be purchased online\, by phone at 207.581.1341\, or at our ticket box office prior to the show.
URL:https://astro.umaine.edu/event/secret-cardboard-rocket-5-2/2016-10-02/
LOCATION:Versant Power Astronomy Center\, 167 Rangeley Rd\, Orono\, ME\, 04469\, United States
CATEGORIES:Public Program
ATTACH;FMTTYPE=image/jpeg:https://astro.umaine.edu/wp-content/uploads/sites/165/2016/05/CBR_16x9.jpg
GEO:44.8929612;-68.6626623
X-APPLE-STRUCTURED-LOCATION;VALUE=URI;X-ADDRESS=Versant Power Astronomy Center 167 Rangeley Rd Orono ME 04469 United States;X-APPLE-RADIUS=500;X-TITLE=167 Rangeley Rd:geo:-68.6626623,44.8929612
END:VEVENT
BEGIN:VEVENT
DTSTART;TZID=America/New_York:20161004T100000
DTEND;TZID=America/New_York:20161004T110000
DTSTAMP:20260420T224030
CREATED:20160929T172718Z
LAST-MODIFIED:20160929T172718Z
UID:10001770-1475575200-1475578800@astro.umaine.edu
SUMMARY:Legends of the Night Sky: Perseus and Andromeda
DESCRIPTION:Perseus and Andromeda is a fun-filled retelling of the tale of the beautiful but unfortunate princess Andromeda\, who in divine punishment for her mother’s bragging\, is sacrificed to a sea monster—and rescued by the Greek hero Perseus. \nTrailer \nTickets for planetarium programs are $6 for Adults\, $5 for UMaine Students/Veterans/Senior Citizens\, and $4 for children under 12. Click here to view our calendar. \nTickets may be purchased online\, by phone at 207.581.1341\, or at our ticket box office prior to the show.
URL:https://astro.umaine.edu/event/legends-pa/
LOCATION:Versant Power Astronomy Center\, 167 Rangeley Rd\, Orono\, ME\, 04469\, United States
CATEGORIES:Homeschool Show
ATTACH;FMTTYPE=image/jpeg:https://astro.umaine.edu/wp-content/uploads/sites/165/2016/05/PerseusAndromeda_16x9.jpg
ORGANIZER;CN="Versant Power Astronomy Center":MAILTO:planetarium@maine.edu
GEO:44.8929612;-68.6626623
X-APPLE-STRUCTURED-LOCATION;VALUE=URI;X-ADDRESS=Versant Power Astronomy Center 167 Rangeley Rd Orono ME 04469 United States;X-APPLE-RADIUS=500;X-TITLE=167 Rangeley Rd:geo:-68.6626623,44.8929612
END:VEVENT
BEGIN:VEVENT
DTSTART;TZID=America/New_York:20161006T190000
DTEND;TZID=America/New_York:20161006T200000
DTSTAMP:20260420T224030
CREATED:20160921T193327Z
LAST-MODIFIED:20160922T181705Z
UID:10001763-1475780400-1475784000@astro.umaine.edu
SUMMARY:Science Lecture Series: Dr. Caitlin Howell
DESCRIPTION:Unlocking the Secrets of Proteins: The Rise of Cryo Electron Microscopy\nThursday\, October 6 at 7:00 pm \nProteins are an essential component of all living things\, allowing us to grow\, breathe\, eat\, and even sense our surroundings. However\, understanding how proteins are shaped and how they work can be one of the most elusive questions in molecular biology. Join us as we explore the mystery of protein structures\, and use the latest state-of-the-art technology: Cryo Electron Microscopy to unlock their secrets. Using dramatic full dome visuals and real-time models we will look at protein structures discovered by Cryo EM in new ways. The importance of knowing protein structures for both curing disease and creating new technologies will be discussed. \n \nDr. Caitlin Howell is a professor of Bioengineering in the Department of Chemical and Biological Engineering and the Graduate School of Biomedical Science and Engineering at the University of Maine. She completed her Ph.D. in Physical Chemistry as an NSF Graduate Research Fellow at the University of Heidelberg in Germany under the direction of Prof. Michael Grunze\, and her postdoc in Materials Science as a Technology Development Fellow with Joanna Aizenberg at the Wyss Institute for Biologically Inspired Engineering. At the University of Maine\, Dr. Howell and her group work to understand and ultimately control biological systems through the engineering and design of material interfaces. \n \nThe Science Lecture Series at Emera Astronomy Center will take place the first Thursdays of each month and is a partnership project with the Maine Science Festival and will feature research from a variety of science disciplines from around our state and use the digital planetarium to visualize these discoveries in a new dramatic and immersive way. \nTickets for planetarium programs are $6 for Adults\, $5 for UMaine Students/Veterans/Senior Citizens\, and $4 for children under 12. Click here to view our calendar. \nTickets may be purchased online\, by phone at 207.581.1341\, or at our ticket box office prior to the show.
URL:https://astro.umaine.edu/event/science-lecture-series-2/
LOCATION:Versant Power Astronomy Center\, 167 Rangeley Rd\, Orono\, ME\, 04469\, United States
CATEGORIES:Public Program,Science Lecture Series
ORGANIZER;CN="Versant Power Astronomy Center":MAILTO:planetarium@maine.edu
GEO:44.8929612;-68.6626623
X-APPLE-STRUCTURED-LOCATION;VALUE=URI;X-ADDRESS=Versant Power Astronomy Center 167 Rangeley Rd Orono ME 04469 United States;X-APPLE-RADIUS=500;X-TITLE=167 Rangeley Rd:geo:-68.6626623,44.8929612
END:VEVENT
BEGIN:VEVENT
DTSTART;TZID=America/New_York:20161007T190000
DTEND;TZID=America/New_York:20161007T200000
DTSTAMP:20260420T224030
CREATED:20160629T180230Z
LAST-MODIFIED:20160906T175518Z
UID:10001881-1475866800-1475870400@astro.umaine.edu
SUMMARY:The To-Night Show at the Emera Astronomy Center
DESCRIPTION:In this all-live late night talk show styled planetarium program\, your host will bring you the latest and greatest in astronomy news including NASA missions\, new discoveries\, and plenty of (bad) jokes. Starring 4-time Emmy watching host Scott Mitchell\, the legally and creatively distinct To-night Show offers fun and entertainment\, while definitely not infringing on the copyright of NBC. The guest stars here are a lot brighter than your usual fare. Come check it out! \nPraise for the To-Night Show: \n“Isn’t there something more important you should be doing?” ~ Dr. David Batuski\, Physics dept. Chair \n“Please stop calling me” ~ Bill Nye\, the Science Guy \n“I didn’t see it” ~ Julia Sell\, Graduate Researcher\, University of Maryland \n“I thought you were very handsome” ~ Scott’s Grandmother \nWARNING: MAY CONTAIN CHILDISH HUMOR \nIntended ages: 10 and up \nTickets for planetarium programs are $6 for Adults\, $5 for UMaine Students/Veterans/Senior Citizens\, and $4 for children under 12. Click here to view our calendar. \nTickets may be purchased online\, by phone at 207.581.1341\, or at our ticket box office prior to the show.
URL:https://astro.umaine.edu/event/night-show-emera-astronomy-center/2016-10-07/
LOCATION:Versant Power Astronomy Center\, 167 Rangeley Rd\, Orono\, ME\, 04469\, United States
CATEGORIES:Public Program
GEO:44.8929612;-68.6626623
X-APPLE-STRUCTURED-LOCATION;VALUE=URI;X-ADDRESS=Versant Power Astronomy Center 167 Rangeley Rd Orono ME 04469 United States;X-APPLE-RADIUS=500;X-TITLE=167 Rangeley Rd:geo:-68.6626623,44.8929612
END:VEVENT
END:VCALENDAR