BEGIN:VCALENDAR
VERSION:2.0
PRODID:-//Versant Power Astronomy Center and Maynard Jordan Planetarium - ECPv6.15.17.1//NONSGML v1.0//EN
CALSCALE:GREGORIAN
METHOD:PUBLISH
X-WR-CALNAME:Versant Power Astronomy Center and Maynard Jordan Planetarium
X-ORIGINAL-URL:https://astro.umaine.edu
X-WR-CALDESC:Events for Versant Power Astronomy Center and Maynard Jordan Planetarium
REFRESH-INTERVAL;VALUE=DURATION:PT1H
X-Robots-Tag:noindex
X-PUBLISHED-TTL:PT1H
BEGIN:VTIMEZONE
TZID:America/New_York
BEGIN:DAYLIGHT
TZOFFSETFROM:-0500
TZOFFSETTO:-0400
TZNAME:EDT
DTSTART:20160313T070000
END:DAYLIGHT
BEGIN:STANDARD
TZOFFSETFROM:-0400
TZOFFSETTO:-0500
TZNAME:EST
DTSTART:20161106T060000
END:STANDARD
BEGIN:DAYLIGHT
TZOFFSETFROM:-0500
TZOFFSETTO:-0400
TZNAME:EDT
DTSTART:20170312T070000
END:DAYLIGHT
BEGIN:STANDARD
TZOFFSETFROM:-0400
TZOFFSETTO:-0500
TZNAME:EST
DTSTART:20171105T060000
END:STANDARD
BEGIN:DAYLIGHT
TZOFFSETFROM:-0500
TZOFFSETTO:-0400
TZNAME:EDT
DTSTART:20180311T070000
END:DAYLIGHT
BEGIN:STANDARD
TZOFFSETFROM:-0400
TZOFFSETTO:-0500
TZNAME:EST
DTSTART:20181104T060000
END:STANDARD
END:VTIMEZONE
BEGIN:VEVENT
DTSTART;TZID=America/New_York:20170813T140000
DTEND;TZID=America/New_York:20170813T150000
DTSTAMP:20260420T230050
CREATED:20170515T185225Z
LAST-MODIFIED:20170515T185225Z
UID:10002024-1502632800-1502636400@astro.umaine.edu
SUMMARY:Polaris: Mystery of the Polar Night
DESCRIPTION:A traveling penguin from the South Pole and a funny polar bear from the North pole meet on arctic sea ice.  They become friends observing the night sky together and wondering why night is so long at the poles of the Earth. This mystery leads them on a scientific adventure by building an improvised spaceship to travel around the Earth to learn about seasons\, visit Mars and Saturn to learn about ice in the solar system and how planets have similarities and differences which make them unique. \nTickets for planetarium programs are $6 for Adults\, $5 for UMaine Students/Veterans/Senior Citizens\, and $4 for children under 12. Click here to view our calendar. \nTickets may be purchased online\, by phone at 207.581.1341\, or at our ticket box office prior to the show. \n \n 
URL:https://astro.umaine.edu/event/polaris-mystery-polar-night/2017-08-13/
LOCATION:Versant Power Astronomy Center\, 167 Rangeley Rd\, Orono\, ME\, 04469\, United States
CATEGORIES:Public Program
ATTACH;FMTTYPE=image/jpeg:https://astro.umaine.edu/wp-content/uploads/sites/165/2017/02/polaris16x9.jpg
ORGANIZER;CN="Versant Power Astronomy Center":MAILTO:planetarium@maine.edu
GEO:44.8929612;-68.6626623
X-APPLE-STRUCTURED-LOCATION;VALUE=URI;X-ADDRESS=Versant Power Astronomy Center 167 Rangeley Rd Orono ME 04469 United States;X-APPLE-RADIUS=500;X-TITLE=167 Rangeley Rd:geo:-68.6626623,44.8929612
END:VEVENT
BEGIN:VEVENT
DTSTART;TZID=America/New_York:20170815T140000
DTEND;TZID=America/New_York:20170815T150000
DTSTAMP:20260420T230050
CREATED:20170526T181744Z
LAST-MODIFIED:20170526T181744Z
UID:10002076-1502805600-1502809200@astro.umaine.edu
SUMMARY:Secret of the Cardboard Rocket
DESCRIPTION:Join two children on a magical journey through the Solar System\, aided by a talking astronomy book\, a cardboard rocket\, and a vivid imagination. During this imaginative show\, audiences will land on Venus\, fly through the rings of Saturn\, and discover the secrets of the Solar System. \nTrailer \nTickets for planetarium programs are $6 for Adults\, $5 for UMaine Students/Veterans/Senior Citizens\, and $4 for children under 12. Click here to view our calendar. \nTickets may be purchased online\, by phone at 207.581.1341\, or at our ticket box office prior to the show.
URL:https://astro.umaine.edu/event/secret-cardboard-rocket-4/
LOCATION:Versant Power Astronomy Center\, 167 Rangeley Rd\, Orono\, ME\, 04469\, United States
CATEGORIES:Public Program
ATTACH;FMTTYPE=image/jpeg:https://astro.umaine.edu/wp-content/uploads/sites/165/2016/05/CBR_16x9.jpg
ORGANIZER;CN="Versant Power Astronomy Center":MAILTO:planetarium@maine.edu
GEO:44.8929612;-68.6626623
X-APPLE-STRUCTURED-LOCATION;VALUE=URI;X-ADDRESS=Versant Power Astronomy Center 167 Rangeley Rd Orono ME 04469 United States;X-APPLE-RADIUS=500;X-TITLE=167 Rangeley Rd:geo:-68.6626623,44.8929612
END:VEVENT
BEGIN:VEVENT
DTSTART;TZID=America/New_York:20170817T140000
DTEND;TZID=America/New_York:20170817T150000
DTSTAMP:20260420T230050
CREATED:20170526T184340Z
LAST-MODIFIED:20170526T184340Z
UID:10002130-1502978400-1502982000@astro.umaine.edu
SUMMARY:Little Star that Could
DESCRIPTION:It’s hard to be a little star in a big universe! Join a medium sized\, yellow star as he makes his way through space. In his travels\, he meets many different types of stars and learns about some of the other things that make our universe so interesting. After meeting stars\, nebulas\, and galaxies\, the little star takes a good look at himself and finds that he\, too\, is special. He has nine planets that depend on him for warmth and light. Along with the little star\, audiences learn the ways each planet is special. \nTrailer \nTickets for planetarium programs are $6 for Adults\, $5 for UMaine Students/Veterans/Senior Citizens\, and $4 for children under 12. Click here to view our calendar. \nTickets may be purchased online\, by phone at 207.581.1341\, or at our ticket box office prior to the show.
URL:https://astro.umaine.edu/event/little-star-that-could-8/
LOCATION:Versant Power Astronomy Center\, 167 Rangeley Rd\, Orono\, ME\, 04469\, United States
CATEGORIES:Public Program
ATTACH;FMTTYPE=image/jpeg:https://astro.umaine.edu/wp-content/uploads/sites/165/2016/05/LSC_16x9.jpg
ORGANIZER;CN="Versant Power Astronomy Center":MAILTO:planetarium@maine.edu
GEO:44.8929612;-68.6626623
X-APPLE-STRUCTURED-LOCATION;VALUE=URI;X-ADDRESS=Versant Power Astronomy Center 167 Rangeley Rd Orono ME 04469 United States;X-APPLE-RADIUS=500;X-TITLE=167 Rangeley Rd:geo:-68.6626623,44.8929612
END:VEVENT
BEGIN:VEVENT
DTSTART;TZID=America/New_York:20170818T190000
DTEND;TZID=America/New_York:20170818T200000
DTSTAMP:20260420T230050
CREATED:20170515T193101Z
LAST-MODIFIED:20170515T193101Z
UID:10002146-1503082800-1503086400@astro.umaine.edu
SUMMARY:Totality: Explore the Wonder of Eclipses
DESCRIPTION:Explore the incredible phenomena of Eclipses\, both Lunar and Solar. How and why do they occur?  What can we observe and learn from these spectacular displays of nature? Take a look at how eclipses helped prove the theory of general relativity and look forward to upcoming eclipses learning where to see them. From spectacular space environments to the very human experiences that happen when you are caught in the shadow of the Moon and the Sun is plunged into a total solar eclipse\, this program will help you understand these fascinating events.  Take a special look at the August 21\, 2017 Total Solar Eclipse and future ones visible here in Maine.  The program includes a tour of the night sky as viewed from Maine! \nTrailer \nTickets for planetarium programs are $6 for Adults\, $5 for UMaine Students/Veterans/Senior Citizens\, and $4 for children under 12. Click here to view our calendar. \nTickets may be purchased online\, by phone at 207.581.1341\, or at our ticket box office prior to the show.
URL:https://astro.umaine.edu/event/totality-explore-wonder-eclipses/2017-08-18/
LOCATION:Versant Power Astronomy Center\, 167 Rangeley Rd\, Orono\, ME\, 04469\, United States
CATEGORIES:Public Program
ATTACH;FMTTYPE=image/jpeg:https://astro.umaine.edu/wp-content/uploads/sites/165/2017/05/Totality-16x9.jpg
ORGANIZER;CN="Versant Power Astronomy Center":MAILTO:planetarium@maine.edu
GEO:44.8929612;-68.6626623
X-APPLE-STRUCTURED-LOCATION;VALUE=URI;X-ADDRESS=Versant Power Astronomy Center 167 Rangeley Rd Orono ME 04469 United States;X-APPLE-RADIUS=500;X-TITLE=167 Rangeley Rd:geo:-68.6626623,44.8929612
END:VEVENT
BEGIN:VEVENT
DTSTART;TZID=America/New_York:20170818T201500
DTEND;TZID=America/New_York:20170818T211500
DTSTAMP:20260420T230050
CREATED:20170818T174605Z
LAST-MODIFIED:20170818T174605Z
UID:10002133-1503087300-1503090900@astro.umaine.edu
SUMMARY:Totality: Explore the Wonder of Eclipses
DESCRIPTION:Explore the incredible phenomena of Eclipses\, both Lunar and Solar. How and why do they occur?  What can we observe and learn from these spectacular displays of nature? Take a look at how eclipses helped prove the theory of general relativity and look forward to upcoming eclipses learning where to see them. From spectacular space environments to the very human experiences that happen when you are caught in the shadow of the Moon and the Sun is plunged into a total solar eclipse\, this program will help you understand these fascinating events.  Take a special look at the August 21\, 2017 Total Solar Eclipse and future ones visible here in Maine.  The program includes a tour of the night sky as viewed from Maine! \nTrailer \nTickets for planetarium programs are $6 for Adults\, $5 for UMaine Students/Veterans/Senior Citizens\, and $4 for children under 12. Click here to view our calendar. \nTickets may be purchased online\, by phone at 207.581.1341\, or at our ticket box office prior to the show.
URL:https://astro.umaine.edu/event/totality-explore-wonder-eclipses-3/
LOCATION:Versant Power Astronomy Center\, 167 Rangeley Rd\, Orono\, ME\, 04469\, United States
CATEGORIES:Public Event,Public Program
ATTACH;FMTTYPE=image/jpeg:https://astro.umaine.edu/wp-content/uploads/sites/165/2017/05/Totality-16x9.jpg
GEO:44.8929612;-68.6626623
X-APPLE-STRUCTURED-LOCATION;VALUE=URI;X-ADDRESS=Versant Power Astronomy Center 167 Rangeley Rd Orono ME 04469 United States;X-APPLE-RADIUS=500;X-TITLE=167 Rangeley Rd:geo:-68.6626623,44.8929612
END:VEVENT
END:VCALENDAR