BEGIN:VCALENDAR
VERSION:2.0
PRODID:-//Versant Power Astronomy Center and Maynard Jordan Planetarium - ECPv6.15.17.1//NONSGML v1.0//EN
CALSCALE:GREGORIAN
METHOD:PUBLISH
X-WR-CALNAME:Versant Power Astronomy Center and Maynard Jordan Planetarium
X-ORIGINAL-URL:https://astro.umaine.edu
X-WR-CALDESC:Events for Versant Power Astronomy Center and Maynard Jordan Planetarium
REFRESH-INTERVAL;VALUE=DURATION:PT1H
X-Robots-Tag:noindex
X-PUBLISHED-TTL:PT1H
BEGIN:VTIMEZONE
TZID:America/New_York
BEGIN:DAYLIGHT
TZOFFSETFROM:-0500
TZOFFSETTO:-0400
TZNAME:EDT
DTSTART:20160313T070000
END:DAYLIGHT
BEGIN:STANDARD
TZOFFSETFROM:-0400
TZOFFSETTO:-0500
TZNAME:EST
DTSTART:20161106T060000
END:STANDARD
BEGIN:DAYLIGHT
TZOFFSETFROM:-0500
TZOFFSETTO:-0400
TZNAME:EDT
DTSTART:20170312T070000
END:DAYLIGHT
BEGIN:STANDARD
TZOFFSETFROM:-0400
TZOFFSETTO:-0500
TZNAME:EST
DTSTART:20171105T060000
END:STANDARD
BEGIN:DAYLIGHT
TZOFFSETFROM:-0500
TZOFFSETTO:-0400
TZNAME:EDT
DTSTART:20180311T070000
END:DAYLIGHT
BEGIN:STANDARD
TZOFFSETFROM:-0400
TZOFFSETTO:-0500
TZNAME:EST
DTSTART:20181104T060000
END:STANDARD
END:VTIMEZONE
BEGIN:VEVENT
DTSTART;TZID=America/New_York:20170820T140000
DTEND;TZID=America/New_York:20170820T150000
DTSTAMP:20260420T232102
CREATED:20170515T185225Z
LAST-MODIFIED:20170515T185225Z
UID:10002025-1503237600-1503241200@astro.umaine.edu
SUMMARY:Polaris: Mystery of the Polar Night
DESCRIPTION:A traveling penguin from the South Pole and a funny polar bear from the North pole meet on arctic sea ice.  They become friends observing the night sky together and wondering why night is so long at the poles of the Earth. This mystery leads them on a scientific adventure by building an improvised spaceship to travel around the Earth to learn about seasons\, visit Mars and Saturn to learn about ice in the solar system and how planets have similarities and differences which make them unique. \nTickets for planetarium programs are $6 for Adults\, $5 for UMaine Students/Veterans/Senior Citizens\, and $4 for children under 12. Click here to view our calendar. \nTickets may be purchased online\, by phone at 207.581.1341\, or at our ticket box office prior to the show. \n \n 
URL:https://astro.umaine.edu/event/polaris-mystery-polar-night/2017-08-20/
LOCATION:Versant Power Astronomy Center\, 167 Rangeley Rd\, Orono\, ME\, 04469\, United States
CATEGORIES:Public Program
ATTACH;FMTTYPE=image/jpeg:https://astro.umaine.edu/wp-content/uploads/sites/165/2017/02/polaris16x9.jpg
ORGANIZER;CN="Versant Power Astronomy Center":MAILTO:planetarium@maine.edu
GEO:44.8929612;-68.6626623
X-APPLE-STRUCTURED-LOCATION;VALUE=URI;X-ADDRESS=Versant Power Astronomy Center 167 Rangeley Rd Orono ME 04469 United States;X-APPLE-RADIUS=500;X-TITLE=167 Rangeley Rd:geo:-68.6626623,44.8929612
END:VEVENT
BEGIN:VEVENT
DTSTART;TZID=America/New_York:20170820T153000
DTEND;TZID=America/New_York:20170820T163000
DTSTAMP:20260420T232102
CREATED:20170818T192657Z
LAST-MODIFIED:20170818T192926Z
UID:10002176-1503243000-1503246600@astro.umaine.edu
SUMMARY:Totality: Explore the Wonder of Eclipses
DESCRIPTION:Explore the incredible phenomena of Eclipses\, both Lunar and Solar. How and why do they occur?  What can we observe and learn from these spectacular displays of nature? Take a look at how eclipses helped prove the theory of general relativity and look forward to upcoming eclipses learning where to see them. From spectacular space environments to the very human experiences that happen when you are caught in the shadow of the Moon and the Sun is plunged into a total solar eclipse\, this program will help you understand these fascinating events.  Take a special look at the August 21\, 2017 Total Solar Eclipse and future ones visible here in Maine.  The program includes a tour of the night sky as viewed from Maine! \nTrailer \nTickets for planetarium programs are $6 for Adults\, $5 for UMaine Students/Veterans/Senior Citizens\, and $4 for children under 12. Click here to view our calendar. \nTickets may be purchased online\, by phone at 207.581.1341\, or at our ticket box office prior to the show.
URL:https://astro.umaine.edu/event/totality-explore-wonder-eclipses-4/
LOCATION:Versant Power Astronomy Center\, 167 Rangeley Rd\, Orono\, ME\, 04469\, United States
CATEGORIES:Public Event,Public Program
ATTACH;FMTTYPE=image/jpeg:https://astro.umaine.edu/wp-content/uploads/sites/165/2017/05/Totality-16x9.jpg
GEO:44.8929612;-68.6626623
X-APPLE-STRUCTURED-LOCATION;VALUE=URI;X-ADDRESS=Versant Power Astronomy Center 167 Rangeley Rd Orono ME 04469 United States;X-APPLE-RADIUS=500;X-TITLE=167 Rangeley Rd:geo:-68.6626623,44.8929612
END:VEVENT
BEGIN:VEVENT
DTSTART;TZID=America/New_York:20170821T100000
DTEND;TZID=America/New_York:20170821T110000
DTSTAMP:20260420T232102
CREATED:20170630T151439Z
LAST-MODIFIED:20170630T151439Z
UID:10001863-1503309600-1503313200@astro.umaine.edu
SUMMARY:Totality: Explore the Wonder of Eclipses
DESCRIPTION:Explore the incredible phenomena of Eclipses\, both Lunar and Solar. How and why do they occur?  What can we observe and learn from these spectacular displays of nature? Take a look at how eclipses helped prove the theory of general relativity and look forward to upcoming eclipses learning where to see them. From spectacular space environments to the very human experiences that happen when you are caught in the shadow of the Moon and the Sun is plunged into a total solar eclipse\, this program will help you understand these fascinating events.  Take a special look at the August 21\, 2017 Total Solar Eclipse and future ones visible here in Maine.  The program includes a tour of the night sky as viewed from Maine! \nTrailer \nTickets for planetarium programs are $6 for Adults\, $5 for UMaine Students/Veterans/Senior Citizens\, and $4 for children under 12. Click here to view our calendar. \nTickets may be purchased online\, by phone at 207.581.1341\, or at our ticket box office prior to the show.
URL:https://astro.umaine.edu/event/totality-explore-wonder-eclipses-2/2017-08-21/1/
LOCATION:Versant Power Astronomy Center\, 167 Rangeley Rd\, Orono\, ME\, 04469\, United States
CATEGORIES:Public Event,Public Program
ATTACH;FMTTYPE=image/jpeg:https://astro.umaine.edu/wp-content/uploads/sites/165/2017/05/Totality-16x9.jpg
GEO:44.8929612;-68.6626623
X-APPLE-STRUCTURED-LOCATION;VALUE=URI;X-ADDRESS=Versant Power Astronomy Center 167 Rangeley Rd Orono ME 04469 United States;X-APPLE-RADIUS=500;X-TITLE=167 Rangeley Rd:geo:-68.6626623,44.8929612
END:VEVENT
BEGIN:VEVENT
DTSTART;TZID=America/New_York:20170821T113000
DTEND;TZID=America/New_York:20170821T123000
DTSTAMP:20260420T232102
CREATED:20170630T151439Z
LAST-MODIFIED:20170630T151439Z
UID:10001864-1503315000-1503318600@astro.umaine.edu
SUMMARY:Totality: Explore the Wonder of Eclipses
DESCRIPTION:Explore the incredible phenomena of Eclipses\, both Lunar and Solar. How and why do they occur?  What can we observe and learn from these spectacular displays of nature? Take a look at how eclipses helped prove the theory of general relativity and look forward to upcoming eclipses learning where to see them. From spectacular space environments to the very human experiences that happen when you are caught in the shadow of the Moon and the Sun is plunged into a total solar eclipse\, this program will help you understand these fascinating events.  Take a special look at the August 21\, 2017 Total Solar Eclipse and future ones visible here in Maine.  The program includes a tour of the night sky as viewed from Maine! \nTrailer \nTickets for planetarium programs are $6 for Adults\, $5 for UMaine Students/Veterans/Senior Citizens\, and $4 for children under 12. Click here to view our calendar. \nTickets may be purchased online\, by phone at 207.581.1341\, or at our ticket box office prior to the show.
URL:https://astro.umaine.edu/event/totality-explore-wonder-eclipses-2/2017-08-21/2/
LOCATION:Versant Power Astronomy Center\, 167 Rangeley Rd\, Orono\, ME\, 04469\, United States
CATEGORIES:Public Event,Public Program
ATTACH;FMTTYPE=image/jpeg:https://astro.umaine.edu/wp-content/uploads/sites/165/2017/05/Totality-16x9.jpg
GEO:44.8929612;-68.6626623
X-APPLE-STRUCTURED-LOCATION;VALUE=URI;X-ADDRESS=Versant Power Astronomy Center 167 Rangeley Rd Orono ME 04469 United States;X-APPLE-RADIUS=500;X-TITLE=167 Rangeley Rd:geo:-68.6626623,44.8929612
END:VEVENT
BEGIN:VEVENT
DTSTART;TZID=America/New_York:20170821T130000
DTEND;TZID=America/New_York:20170821T160000
DTSTAMP:20260420T232102
CREATED:20170630T155339Z
LAST-MODIFIED:20170809T150314Z
UID:10001866-1503320400-1503331200@astro.umaine.edu
SUMMARY:Solar Eclipse
DESCRIPTION:While here in Maine we will be unable to see a total solar eclipse\, we will be able to see about 60% of the sun’s disk covered by the moon. These events are very rare to see without travel\, so make sure to mark it on your calendar. The eclipse begins at approximately 1:35 pm\, and ends at approximately 3:55 pm. We will be hosting a free eclipse viewing event here at the Astronomy Center from 1:00 to 4:00 where we will have special solar telescopes\, sun spotters\, and special eclipse viewing glasses. Our staff will be on hand to explain the phenomena and help everyone see it safely. \nUnfortunately\, this event is WEATHER DEPENDENT\, so if the sky is cloudy we will not be able to see it. NASA and many other organizations will be doing their own streaming events that you can watch online. \nSince the moon will not cover the entire sun from our vantage point in Maine\, it is very important to not look directly at it at any point\, as even a brief glimpse can cause severe eye damage. Special glasses/equipment are needed to protect your eyes. Normal sunglasses are not enough! \nTo celebrate the eclipse\, the public show each Friday night for the month of August is Totality: Explore the Wonder of Eclipses. We also offer two additional showings the morning of the eclipse at 10:00 and 11:30 to prepare for the event. You can buy tickets to these shows online\, over the phone\, or at the door.
URL:https://astro.umaine.edu/event/solar-eclipse/
LOCATION:Versant Power Astronomy Center\, 167 Rangeley Rd\, Orono\, ME\, 04469\, United States
CATEGORIES:Public Event,Sky Events
ATTACH;FMTTYPE=image/jpeg:https://astro.umaine.edu/wp-content/uploads/sites/165/2017/06/eclipse.jpg
GEO:44.8929612;-68.6626623
X-APPLE-STRUCTURED-LOCATION;VALUE=URI;X-ADDRESS=Versant Power Astronomy Center 167 Rangeley Rd Orono ME 04469 United States;X-APPLE-RADIUS=500;X-TITLE=167 Rangeley Rd:geo:-68.6626623,44.8929612
END:VEVENT
BEGIN:VEVENT
DTSTART;TZID=America/New_York:20170822T140000
DTEND;TZID=America/New_York:20170822T150000
DTSTAMP:20260420T232102
CREATED:20170526T184603Z
LAST-MODIFIED:20170526T184603Z
UID:10001849-1503410400-1503414000@astro.umaine.edu
SUMMARY:Black Holes
DESCRIPTION:The attraction of Black Holes is more than just gravitational. These mysterious graveyards of dead stars have fascinated generations. “Black Holes” explores the history\, physics\, and mystery of these reality-bending phenomena. Experience the bending of light\, the skewing of perception\, and the dizzying descent into a black hole. \nTrailer \nTickets for planetarium programs are $6 for Adults\, $5 for UMaine Students/Veterans/Senior Citizens\, and $4 for children under 12. Click here to view our calendar. \nTickets may be purchased online\, by phone at 207.581.1341\, or at our ticket box office prior to the show.
URL:https://astro.umaine.edu/event/black-holes-5/
LOCATION:Versant Power Astronomy Center\, 167 Rangeley Rd\, Orono\, ME\, 04469\, United States
CATEGORIES:Public Program
ATTACH;FMTTYPE=image/jpeg:https://astro.umaine.edu/wp-content/uploads/sites/165/2016/05/BHZ_16x9.jpg
ORGANIZER;CN="Versant Power Astronomy Center":MAILTO:planetarium@maine.edu
GEO:44.8929612;-68.6626623
X-APPLE-STRUCTURED-LOCATION;VALUE=URI;X-ADDRESS=Versant Power Astronomy Center 167 Rangeley Rd Orono ME 04469 United States;X-APPLE-RADIUS=500;X-TITLE=167 Rangeley Rd:geo:-68.6626623,44.8929612
END:VEVENT
BEGIN:VEVENT
DTSTART;TZID=America/New_York:20170824T140000
DTEND;TZID=America/New_York:20170824T150000
DTSTAMP:20260420T232102
CREATED:20170526T172951Z
LAST-MODIFIED:20170526T172951Z
UID:10002172-1503583200-1503586800@astro.umaine.edu
SUMMARY:Magic Treehouse: Space Mission
DESCRIPTION:Travel with the brother-sister duo\, Jack and Annie\, in their Magic Treehouse as they discover a note that asks them to answer a series of six questions about space. With the help of an astronomer\, the Internet\, an astronaut\, books and the writer of the mysterious note\, Jack and Annie are taken on a wondrous journey of adventure and learning. \nThis exciting voyage will carry visitors to the planets and far out into the Universe where Jack and Annie nearly get… Well\, we don’t want to give it away. The adventure is just beginning!\nBased on the popular book series by Mary Pope Osborne. \nTrailer \nTickets for planetarium programs are $6 for Adults\, $5 for UMaine Students/Veterans/Senior Citizens\, and $4 for children under 12. Click here to view our calendar. \nTickets may be purchased online\, by phone at 207.581.1341\, or at our ticket box office prior to the show.
URL:https://astro.umaine.edu/event/magic-treehouse-space-mission-13/
LOCATION:Versant Power Astronomy Center\, 167 Rangeley Rd\, Orono\, ME\, 04469\, United States
CATEGORIES:Public Program
ATTACH;FMTTYPE=image/jpeg:https://astro.umaine.edu/wp-content/uploads/sites/165/2016/05/MTH_16x9.jpg
ORGANIZER;CN="Versant Power Astronomy Center":MAILTO:planetarium@maine.edu
GEO:44.8929612;-68.6626623
X-APPLE-STRUCTURED-LOCATION;VALUE=URI;X-ADDRESS=Versant Power Astronomy Center 167 Rangeley Rd Orono ME 04469 United States;X-APPLE-RADIUS=500;X-TITLE=167 Rangeley Rd:geo:-68.6626623,44.8929612
END:VEVENT
BEGIN:VEVENT
DTSTART;TZID=America/New_York:20170825T190000
DTEND;TZID=America/New_York:20170825T200000
DTSTAMP:20260420T232102
CREATED:20170515T193101Z
LAST-MODIFIED:20170515T193101Z
UID:10002147-1503687600-1503691200@astro.umaine.edu
SUMMARY:Totality: Explore the Wonder of Eclipses
DESCRIPTION:Explore the incredible phenomena of Eclipses\, both Lunar and Solar. How and why do they occur?  What can we observe and learn from these spectacular displays of nature? Take a look at how eclipses helped prove the theory of general relativity and look forward to upcoming eclipses learning where to see them. From spectacular space environments to the very human experiences that happen when you are caught in the shadow of the Moon and the Sun is plunged into a total solar eclipse\, this program will help you understand these fascinating events.  Take a special look at the August 21\, 2017 Total Solar Eclipse and future ones visible here in Maine.  The program includes a tour of the night sky as viewed from Maine! \nTrailer \nTickets for planetarium programs are $6 for Adults\, $5 for UMaine Students/Veterans/Senior Citizens\, and $4 for children under 12. Click here to view our calendar. \nTickets may be purchased online\, by phone at 207.581.1341\, or at our ticket box office prior to the show.
URL:https://astro.umaine.edu/event/totality-explore-wonder-eclipses/2017-08-25/
LOCATION:Versant Power Astronomy Center\, 167 Rangeley Rd\, Orono\, ME\, 04469\, United States
CATEGORIES:Public Program
ATTACH;FMTTYPE=image/jpeg:https://astro.umaine.edu/wp-content/uploads/sites/165/2017/05/Totality-16x9.jpg
ORGANIZER;CN="Versant Power Astronomy Center":MAILTO:planetarium@maine.edu
GEO:44.8929612;-68.6626623
X-APPLE-STRUCTURED-LOCATION;VALUE=URI;X-ADDRESS=Versant Power Astronomy Center 167 Rangeley Rd Orono ME 04469 United States;X-APPLE-RADIUS=500;X-TITLE=167 Rangeley Rd:geo:-68.6626623,44.8929612
END:VEVENT
END:VCALENDAR