BEGIN:VCALENDAR
VERSION:2.0
PRODID:-//Versant Power Astronomy Center and Maynard Jordan Planetarium - ECPv6.15.17.1//NONSGML v1.0//EN
CALSCALE:GREGORIAN
METHOD:PUBLISH
X-WR-CALNAME:Versant Power Astronomy Center and Maynard Jordan Planetarium
X-ORIGINAL-URL:https://astro.umaine.edu
X-WR-CALDESC:Events for Versant Power Astronomy Center and Maynard Jordan Planetarium
REFRESH-INTERVAL;VALUE=DURATION:PT1H
X-Robots-Tag:noindex
X-PUBLISHED-TTL:PT1H
BEGIN:VTIMEZONE
TZID:America/New_York
BEGIN:DAYLIGHT
TZOFFSETFROM:-0500
TZOFFSETTO:-0400
TZNAME:EDT
DTSTART:20160313T070000
END:DAYLIGHT
BEGIN:STANDARD
TZOFFSETFROM:-0400
TZOFFSETTO:-0500
TZNAME:EST
DTSTART:20161106T060000
END:STANDARD
BEGIN:DAYLIGHT
TZOFFSETFROM:-0500
TZOFFSETTO:-0400
TZNAME:EDT
DTSTART:20170312T070000
END:DAYLIGHT
BEGIN:STANDARD
TZOFFSETFROM:-0400
TZOFFSETTO:-0500
TZNAME:EST
DTSTART:20171105T060000
END:STANDARD
BEGIN:DAYLIGHT
TZOFFSETFROM:-0500
TZOFFSETTO:-0400
TZNAME:EDT
DTSTART:20180311T070000
END:DAYLIGHT
BEGIN:STANDARD
TZOFFSETFROM:-0400
TZOFFSETTO:-0500
TZNAME:EST
DTSTART:20181104T060000
END:STANDARD
END:VTIMEZONE
BEGIN:VEVENT
DTSTART;TZID=America/New_York:20171029T140000
DTEND;TZID=America/New_York:20171029T150000
DTSTAMP:20260419T235020
CREATED:20170515T185826Z
LAST-MODIFIED:20170515T185826Z
UID:10002118-1509285600-1509289200@astro.umaine.edu
SUMMARY:Legends of the Night Sky - Perseus and Andromeda
DESCRIPTION:Perseus and Andromeda is a fun-filled retelling of the tale of the beautiful but unfortunate princess Andromeda\, who in divine punishment for her mother’s bragging\, is sacrificed to a sea monster—and rescued by the Greek hero Perseus. \nTrailer \nTickets for planetarium programs are $6 for Adults\, $5 for UMaine Students/Veterans/Senior Citizens\, and $4 for children under 12. Click here to view our calendar. \nTickets may be purchased online\, by phone at 207.581.1341\, or at our ticket box office prior to the show.
URL:https://astro.umaine.edu/event/legends-night-sky-perseus-andromeda-2/2017-10-29/
LOCATION:Versant Power Astronomy Center\, 167 Rangeley Rd\, Orono\, ME\, 04469\, United States
CATEGORIES:Public Program
ATTACH;FMTTYPE=image/jpeg:https://astro.umaine.edu/wp-content/uploads/sites/165/2016/05/PerseusAndromeda_16x9.jpg
ORGANIZER;CN="Versant Power Astronomy Center":MAILTO:planetarium@maine.edu
GEO:44.8929612;-68.6626623
X-APPLE-STRUCTURED-LOCATION;VALUE=URI;X-ADDRESS=Versant Power Astronomy Center 167 Rangeley Rd Orono ME 04469 United States;X-APPLE-RADIUS=500;X-TITLE=167 Rangeley Rd:geo:-68.6626623,44.8929612
END:VEVENT
BEGIN:VEVENT
DTSTART;TZID=America/New_York:20171031T190000
DTEND;TZID=America/New_York:20171031T200000
DTSTAMP:20260419T235020
CREATED:20171023T225528Z
LAST-MODIFIED:20171023T225528Z
UID:10002220-1509476400-1509480000@astro.umaine.edu
SUMMARY:Halloween: Celestial Origins
DESCRIPTION:Vampires\, Witches\, Goblins\, and other spooky creatures!  What do you associate with Halloween? Trick-or-Treating\, costumes\, or something more…  Be it ghoulish or ghostly\, Halloween is an astronomical holiday!  Experience the history of Halloween and how it fits into the seasons as a “cross-quarter day.”  From Celtic roots around the harvest and bonfires to modern celebrations\, see why the night is celebrated as one of spirits from beyond and sweet treats!   See how Samhain\, and All Saints Day would eventually transform into Halloween. Traverse the night sky and learn what planets\, constellations\, and stars will be out on your Halloween evening. A fun filled program for the whole family! \nTickets for planetarium programs are $6 for Adults\, $5 for UMaine Students/Veterans/Senior Citizens\, and $4 for children under 12. Click here to view our calendar. \nTickets may be purchased online\, by phone at 207.581.1341\, or at our ticket box office prior to the show.
URL:https://astro.umaine.edu/event/halloween-celestial-origins/
LOCATION:Versant Power Astronomy Center\, 167 Rangeley Rd\, Orono\, ME\, 04469\, United States
CATEGORIES:Public Program
ATTACH;FMTTYPE=image/jpeg:https://astro.umaine.edu/wp-content/uploads/sites/165/2017/10/Halloween_Celestial_Origins_16x9.jpg
ORGANIZER;CN="Versant Power Astronomy Center":MAILTO:planetarium@maine.edu
GEO:44.8929612;-68.6626623
X-APPLE-STRUCTURED-LOCATION;VALUE=URI;X-ADDRESS=Versant Power Astronomy Center 167 Rangeley Rd Orono ME 04469 United States;X-APPLE-RADIUS=500;X-TITLE=167 Rangeley Rd:geo:-68.6626623,44.8929612
END:VEVENT
BEGIN:VEVENT
DTSTART;TZID=America/New_York:20171103T190000
DTEND;TZID=America/New_York:20171103T200000
DTSTAMP:20260419T235020
CREATED:20170515T193258Z
LAST-MODIFIED:20170602T173343Z
UID:10002152-1509735600-1509739200@astro.umaine.edu
SUMMARY:Phantom of the Universe
DESCRIPTION:From the journey of protons racing through the world’s largest particle collider to up-close views of the Big Bang and emergent universe\, and the nearly mile-deep descent to an underground experiment\, Phantom of the Universe immerses audiences in the search for dark matter. Explore this mysterious matter and how we are using discoveries at the Large Hadron Collider to get closer to discovering the true nature of Dark Matter. View the first hints of its existence through the eyes of Fritz Zwicky\, the scientist who coined the term “dark matter.” Explore the astral choreography witnessed by Vera Rubin in the Andromeda galaxy\, and then plummet deep underground to see the most sensitive dark matter detector on Earth\, housed in a former gold mine.  Speed alongside particles before they collide in visually stunning explosions of light and sound at Large Hadron Collider at CERN\, while learning how scientists around the world are collaborating to track down the constituents of dark matter. Executive Producer Michael Barnett of Lawrence Berkeley National Laboratory served as an advisor to PBS’s NOVA series Elegant Universe and the feature film Angels & Demons. Featuring narration by Academy-Award winning actress Tilda Swinton\, Phantom of the Universe showcases imagery from CERN’s Media Lab. \nTickets for planetarium programs are $6 for Adults\, $5 for UMaine Students/Veterans/Senior Citizens\, and $4 for children under 12. Click here to view our calendar. \nTickets may be purchased online\, by phone at 207.581.1341\, or at our ticket box office prior to the show.
URL:https://astro.umaine.edu/event/phantom-of-the-universe/2017-11-03/
LOCATION:Versant Power Astronomy Center\, 167 Rangeley Rd\, Orono\, ME\, 04469\, United States
CATEGORIES:Public Program
ATTACH;FMTTYPE=image/jpeg:https://astro.umaine.edu/wp-content/uploads/sites/165/2017/06/Better-Phantom-Poster-16x9.jpg
ORGANIZER;CN="Versant Power Astronomy Center":MAILTO:planetarium@maine.edu
GEO:44.8929612;-68.6626623
X-APPLE-STRUCTURED-LOCATION;VALUE=URI;X-ADDRESS=Versant Power Astronomy Center 167 Rangeley Rd Orono ME 04469 United States;X-APPLE-RADIUS=500;X-TITLE=167 Rangeley Rd:geo:-68.6626623,44.8929612
END:VEVENT
END:VCALENDAR