BEGIN:VCALENDAR
VERSION:2.0
PRODID:-//Versant Power Astronomy Center and Maynard Jordan Planetarium - ECPv6.15.17.1//NONSGML v1.0//EN
CALSCALE:GREGORIAN
METHOD:PUBLISH
X-WR-CALNAME:Versant Power Astronomy Center and Maynard Jordan Planetarium
X-ORIGINAL-URL:https://astro.umaine.edu
X-WR-CALDESC:Events for Versant Power Astronomy Center and Maynard Jordan Planetarium
REFRESH-INTERVAL;VALUE=DURATION:PT1H
X-Robots-Tag:noindex
X-PUBLISHED-TTL:PT1H
BEGIN:VTIMEZONE
TZID:America/New_York
BEGIN:DAYLIGHT
TZOFFSETFROM:-0500
TZOFFSETTO:-0400
TZNAME:EDT
DTSTART:20170312T070000
END:DAYLIGHT
BEGIN:STANDARD
TZOFFSETFROM:-0400
TZOFFSETTO:-0500
TZNAME:EST
DTSTART:20171105T060000
END:STANDARD
BEGIN:DAYLIGHT
TZOFFSETFROM:-0500
TZOFFSETTO:-0400
TZNAME:EDT
DTSTART:20180311T070000
END:DAYLIGHT
BEGIN:STANDARD
TZOFFSETFROM:-0400
TZOFFSETTO:-0500
TZNAME:EST
DTSTART:20181104T060000
END:STANDARD
BEGIN:DAYLIGHT
TZOFFSETFROM:-0500
TZOFFSETTO:-0400
TZNAME:EDT
DTSTART:20190310T070000
END:DAYLIGHT
BEGIN:STANDARD
TZOFFSETFROM:-0400
TZOFFSETTO:-0500
TZNAME:EST
DTSTART:20191103T060000
END:STANDARD
END:VTIMEZONE
BEGIN:VEVENT
DTSTART;TZID=America/New_York:20180128T140000
DTEND;TZID=America/New_York:20180128T150000
DTSTAMP:20260420T162608
CREATED:20171102T134731Z
LAST-MODIFIED:20171102T134731Z
UID:10002215-1517148000-1517151600@astro.umaine.edu
SUMMARY:The Little Star That Could
DESCRIPTION:It’s hard to be a little star in a big universe! Join a medium sized\, yellow star as he makes his way through space. In his travels\, he meets many different types of stars and learns about some of the other things that make our universe so interesting. After meeting stars\, nebulas\, and galaxies\, the little star takes a good look at himself and finds that he\, too\, is special. He has nine planets that depend on him for warmth and light. Along with the little star\, audiences learn the ways each planet is special. \nTickets for planetarium programs are $6 for Adults\, $5 for UMaine Students/Veterans/Senior Citizens\, and $4 for children under 12. Click here to view our calendar. \nTickets may be purchased online\, by phone at 207.581.1341\, or at our ticket box office prior to the show.
URL:https://astro.umaine.edu/event/the-little-star-that-could/2018-01-28/
LOCATION:Versant Power Astronomy Center\, 167 Rangeley Rd\, Orono\, ME\, 04469\, United States
CATEGORIES:Public Program
ATTACH;FMTTYPE=image/jpeg:https://astro.umaine.edu/wp-content/uploads/sites/165/2016/05/LSC_16x9.jpg
ORGANIZER;CN="Versant Power Astronomy Center":MAILTO:planetarium@maine.edu
GEO:44.8929612;-68.6626623
X-APPLE-STRUCTURED-LOCATION;VALUE=URI;X-ADDRESS=Versant Power Astronomy Center 167 Rangeley Rd Orono ME 04469 United States;X-APPLE-RADIUS=500;X-TITLE=167 Rangeley Rd:geo:-68.6626623,44.8929612
END:VEVENT
BEGIN:VEVENT
DTSTART;TZID=America/New_York:20180201T190000
DTEND;TZID=America/New_York:20180201T200000
DTSTAMP:20260420T162608
CREATED:20180122T154427Z
LAST-MODIFIED:20180131T151809Z
UID:10002210-1517511600-1517515200@astro.umaine.edu
SUMMARY:Science Lecture Series: Dr. Nicole Rausch
DESCRIPTION:The Science of Wellness:  Why Your Doctor Continues to Insist You Sleep\, Exercise\, and Be Well\nThursday\, February 1 at 7:00 pm \nSleep and exercise are vital parts of what allows us to function and thrive. We rely on sleep to generate growth\, form new memories\, and promote healing.  Exercise promotes strength\, muscle development\, balance and makes us feel good. Without these\, our productivity suffers\, our immunity wanes\, and our minds dull.  Join us as we explore how sleep and exercise achieve these things and why they are so important.  We will be looking at the physiology of sleep and exercise\, focusing on the sleep cycle\, the effects of cortisol and endorphins on various organ systems\, and how these organ systems work together to promote wellness. \n \nDr. Nicole Rausch is a third year family medicine resident physician at EMMC Family Medicine Center and Residency. She completed her Bachelors of Science in Biology at the College of Charleston and medical school at Lincoln Memorial University DeBusk College of Osteopathic Medicine. She intends to practice full spectrum rural medicine with an emphasis on women’s health\, integrative medicine and osteopathic manipulation.  When she isn’t working\, you can find her exploring Maine’s great outdoors or curled up with her knitting\, a good book\, and good company. \n \nThe Science Lecture Series at Emera Astronomy Center will take place the first Thursdays of each month and is a partnership project with the Maine Science Festival and will feature research from a variety of science disciplines from around our state and use the digital planetarium to visualize these discoveries in a new dramatic and immersive way. \nTickets for planetarium programs are $6 for Adults\, $5 for UMaine Students/Veterans/Senior Citizens\, and $4 for children under 12. Click here to view our calendar. \nTickets may be purchased online\, by phone at 207.581.1341\, or at our ticket box office prior to the show.
URL:https://astro.umaine.edu/event/science-lecture-series-dr-nicole-rausch-2/
LOCATION:Versant Power Astronomy Center\, 167 Rangeley Rd\, Orono\, ME\, 04469\, United States
CATEGORIES:Public Event,Public Program,Science Lecture Series
ATTACH;FMTTYPE=image/jpeg:https://astro.umaine.edu/wp-content/uploads/sites/165/2016/09/Wellness.jpg
ORGANIZER;CN="Versant Power Astronomy Center":MAILTO:planetarium@maine.edu
GEO:44.8929612;-68.6626623
X-APPLE-STRUCTURED-LOCATION;VALUE=URI;X-ADDRESS=Versant Power Astronomy Center 167 Rangeley Rd Orono ME 04469 United States;X-APPLE-RADIUS=500;X-TITLE=167 Rangeley Rd:geo:-68.6626623,44.8929612
END:VEVENT
BEGIN:VEVENT
DTSTART;TZID=America/New_York:20180202T190000
DTEND;TZID=America/New_York:20180202T200000
DTSTAMP:20260420T162608
CREATED:20171109T144556Z
LAST-MODIFIED:20171109T144556Z
UID:10002180-1517598000-1517601600@astro.umaine.edu
SUMMARY:The First Stargazers
DESCRIPTION:Journey back in time to explore how the first stargazers experienced the sky above. Your guide is Nashira\, a friendly time traveler who has visited Earth many times before.  Witness the very first stargazer making a Moon calendar out of animal bone 30\,000 years ago. Discover the ancient pyramids of Giza and their alignment to the skies.  See stunning digital re-creations of the Parthenon\, Alexandria Library\, Stonehenge and Abu Simbel Temple and be inspired by the first stargazers who laid down the foundations of modern-day astronomy. \nTickets for planetarium programs are $6 for Adults\, $5 for UMaine Students/Veterans/Senior Citizens\, and $4 for children under 12. Click here to view our calendar. \nTickets may be purchased online\, by phone at 207.581.1341\, or at our ticket box office prior to the show.
URL:https://astro.umaine.edu/event/the-first-stargazers/2018-02-02/
LOCATION:Versant Power Astronomy Center\, 167 Rangeley Rd\, Orono\, ME\, 04469\, United States
CATEGORIES:Public Program
ATTACH;FMTTYPE=image/jpeg:https://astro.umaine.edu/wp-content/uploads/sites/165/2017/09/First-Stargazers_16x9.jpg
ORGANIZER;CN="Versant Power Astronomy Center":MAILTO:planetarium@maine.edu
GEO:44.8929612;-68.6626623
X-APPLE-STRUCTURED-LOCATION;VALUE=URI;X-ADDRESS=Versant Power Astronomy Center 167 Rangeley Rd Orono ME 04469 United States;X-APPLE-RADIUS=500;X-TITLE=167 Rangeley Rd:geo:-68.6626623,44.8929612
END:VEVENT
END:VCALENDAR