BEGIN:VCALENDAR
VERSION:2.0
PRODID:-//Versant Power Astronomy Center and Maynard Jordan Planetarium - ECPv6.15.17.1//NONSGML v1.0//EN
CALSCALE:GREGORIAN
METHOD:PUBLISH
X-WR-CALNAME:Versant Power Astronomy Center and Maynard Jordan Planetarium
X-ORIGINAL-URL:https://astro.umaine.edu
X-WR-CALDESC:Events for Versant Power Astronomy Center and Maynard Jordan Planetarium
REFRESH-INTERVAL;VALUE=DURATION:PT1H
X-Robots-Tag:noindex
X-PUBLISHED-TTL:PT1H
BEGIN:VTIMEZONE
TZID:America/New_York
BEGIN:DAYLIGHT
TZOFFSETFROM:-0500
TZOFFSETTO:-0400
TZNAME:EDT
DTSTART:20170312T070000
END:DAYLIGHT
BEGIN:STANDARD
TZOFFSETFROM:-0400
TZOFFSETTO:-0500
TZNAME:EST
DTSTART:20171105T060000
END:STANDARD
BEGIN:DAYLIGHT
TZOFFSETFROM:-0500
TZOFFSETTO:-0400
TZNAME:EDT
DTSTART:20180311T070000
END:DAYLIGHT
BEGIN:STANDARD
TZOFFSETFROM:-0400
TZOFFSETTO:-0500
TZNAME:EST
DTSTART:20181104T060000
END:STANDARD
BEGIN:DAYLIGHT
TZOFFSETFROM:-0500
TZOFFSETTO:-0400
TZNAME:EDT
DTSTART:20190310T070000
END:DAYLIGHT
BEGIN:STANDARD
TZOFFSETFROM:-0400
TZOFFSETTO:-0500
TZNAME:EST
DTSTART:20191103T060000
END:STANDARD
END:VTIMEZONE
BEGIN:VEVENT
DTSTART;TZID=America/New_York:20180225T140000
DTEND;TZID=America/New_York:20180225T150000
DTSTAMP:20260421T122433
CREATED:20171109T150645Z
LAST-MODIFIED:20171109T151033Z
UID:10002187-1519567200-1519570800@astro.umaine.edu
SUMMARY:Magic Treehouse: Space Mission
DESCRIPTION:Travel with the brother-sister duo\, Jack and Annie\, in their Magic Treehouse as they discover a note that asks them to answer a series of six questions about space. With the help of an astronomer\, the Internet\, an astronaut\, books and the writer of the mysterious note\, Jack and Annie are taken on a wondrous journey of adventure and learning. \nThis exciting voyage will carry visitors to the planets and far out into the Universe where Jack and Annie nearly get… Well\, we don’t want to give it away. The adventure is just beginning!\nBased on the popular book series by Mary Pope Osborne. \nTrailer \nTickets for planetarium programs are $6 for Adults\, $5 for UMaine Students/Veterans/Senior Citizens\, and $4 for children under 12. Click here to view our calendar. \nTickets may be purchased online\, by phone at 207.581.1341\, or at our ticket box office prior to the show.
URL:https://astro.umaine.edu/event/magic-treehouse-space-mission-15/2018-02-25/
LOCATION:Versant Power Astronomy Center\, 167 Rangeley Rd\, Orono\, ME\, 04469\, United States
CATEGORIES:Public Program
ATTACH;FMTTYPE=image/jpeg:https://astro.umaine.edu/wp-content/uploads/sites/165/2016/05/MTH_16x9.jpg
ORGANIZER;CN="Versant Power Astronomy Center":MAILTO:planetarium@maine.edu
GEO:44.8929612;-68.6626623
X-APPLE-STRUCTURED-LOCATION;VALUE=URI;X-ADDRESS=Versant Power Astronomy Center 167 Rangeley Rd Orono ME 04469 United States;X-APPLE-RADIUS=500;X-TITLE=167 Rangeley Rd:geo:-68.6626623,44.8929612
END:VEVENT
BEGIN:VEVENT
DTSTART;TZID=America/New_York:20180301T190000
DTEND;TZID=America/New_York:20180301T200000
DTSTAMP:20260421T122433
CREATED:20180131T151244Z
LAST-MODIFIED:20180131T152301Z
UID:10002326-1519930800-1519934400@astro.umaine.edu
SUMMARY:Science Lecture Series: Dr. Bill Davids
DESCRIPTION:Hypersonic Inflatable Aerodynamic Decelerator and Rusty Old Bridges\nThursday\, March 1 at 7:00 pm \nWhat does the deceleration of spacecraft and the condition of our roadway bridges have in common?  While engineering of course!  Explore the University of Maine’s contributions to the Hypersonic Inflatable Aerodynamic Decelerator (HIAD)\, a NASA-developed device ideal for landing spacecraft on planets with thin atmospheres such as Mars. Take a look at a four-year collaboration with NASA which has aided NASA in optimize its design. Closer to home\, Maine has about 2\,500 bridges longer than 20 feet\, of which about 30% are nearing the end of their original design life.  While still able to carry traffic loads\, these bridges often do not meet current strength requirements\, and are candidates for expensive retrofit or replacement. See how engineering can be used to test capacity using sophisticated mathematical models of behavior\, allowing the state to preserve older bridges without sacrificing safety and saving Maine taxpayers money. In addition to the details of these two projects\, the presentation will address the integration of research and education as well as impacts on Maine and Maine students. \n \nDr. Bill Davids is the John C. Bridge Professor and Department Chair of Civil and Environmental Engineering at the University of Maine\, where he has been on the faculty since 1998. He holds a Ph.D. in Civil Engineering from the University of Washington and B.S. and M.S. degrees in Civil Engineering from the University of Maine. He gained four years of bridge design experience with Sverdrup Corporation in Seattle\, WA prior to entering academia\, and is a registered professional engineer in the State of Maine. Bill has conducted and directed research on topics in bridge engineering\, inflatable structures and the mechanics of solid and engineered wood. This research has encompassed both experimental work and the development of problem-specific numerical analysis techniques. To date\, he has authored or co-authored over 100 publications\, including more than 50 articles in peer-reviewed journals\, and he co-holds two patents. Bill has also developed specialized finite-element software packages for the analysis of concrete slab bridges\, pavements\, and inflatable fabric arches and beams. He teaches courses in structural design\, structural analysis\, and numerical methods. When not working\, Bill is generally with his wife and daughters – preferably on skis\, a bike\, snowshoes\, or just up at camp with lots of tools and a project. \n \n  \nThe Science Lecture Series at Emera Astronomy Center will take place the first Thursdays of each month and is a partnership project with the Maine Science Festival and will feature research from a variety of science disciplines from around our state and use the digital planetarium to visualize these discoveries in a new dramatic and immersive way. \nTickets for planetarium programs are $6 for Adults\, $5 for UMaine Students/Veterans/Senior Citizens\, and $4 for children under 12. Click here to view our calendar. \nTickets are available online at http://astro.umaine.edu\, by calling 581-1341\, or at the box office. \n 
URL:https://astro.umaine.edu/event/science-lecture-series-dr-bill-davids/
LOCATION:Versant Power Astronomy Center\, 167 Rangeley Rd\, Orono\, ME\, 04469\, United States
CATEGORIES:Public Program,Science Lecture Series
ATTACH;FMTTYPE=image/jpeg:https://astro.umaine.edu/wp-content/uploads/sites/165/2018/01/Torus_image.jpg
ORGANIZER;CN="Versant Power Astronomy Center":MAILTO:planetarium@maine.edu
GEO:44.8929612;-68.6626623
X-APPLE-STRUCTURED-LOCATION;VALUE=URI;X-ADDRESS=Versant Power Astronomy Center 167 Rangeley Rd Orono ME 04469 United States;X-APPLE-RADIUS=500;X-TITLE=167 Rangeley Rd:geo:-68.6626623,44.8929612
END:VEVENT
BEGIN:VEVENT
DTSTART;TZID=America/New_York:20180302T190000
DTEND;TZID=America/New_York:20180302T200000
DTSTAMP:20260421T122433
CREATED:20171109T150941Z
LAST-MODIFIED:20171109T151131Z
UID:10002188-1520017200-1520020800@astro.umaine.edu
SUMMARY:Explore!
DESCRIPTION:Mars… For centuries it’s been an object of human fascination. Once mysterious\, soon this red world may become our new home. This became possible due to daring individuals like Johannes Kepler: fascinated with the world\, striving toward discovery and embracing challenges it may bring. It is our duty to continue their work… Explore\, Dream Discover.  Take an adventurous journey with humankind: from ancient Mesopotamia to modern space exploration!  Experience the fascinating history of astronomy\, geocentric and heliocentric models\, Kepler laws of planetary motion\, and discover the principals of orbital maneuvers which enable satellites and space travel. \nTickets for planetarium programs are $6 for Adults\, $5 for UMaine Students/Veterans/Senior Citizens\, and $4 for children under 12. Click here to view our calendar. \nTickets may be purchased online\, by phone at 207.581.1341\, or at our ticket box office prior to the show.
URL:https://astro.umaine.edu/event/explore/2018-03-02/
LOCATION:Versant Power Astronomy Center\, 167 Rangeley Rd\, Orono\, ME\, 04469\, United States
CATEGORIES:Public Program
ATTACH;FMTTYPE=image/jpeg:https://astro.umaine.edu/wp-content/uploads/sites/165/2017/11/Explore_16x9.jpg
ORGANIZER;CN="Versant Power Astronomy Center":MAILTO:planetarium@maine.edu
GEO:44.8929612;-68.6626623
X-APPLE-STRUCTURED-LOCATION;VALUE=URI;X-ADDRESS=Versant Power Astronomy Center 167 Rangeley Rd Orono ME 04469 United States;X-APPLE-RADIUS=500;X-TITLE=167 Rangeley Rd:geo:-68.6626623,44.8929612
END:VEVENT
END:VCALENDAR