BEGIN:VCALENDAR
VERSION:2.0
PRODID:-//Versant Power Astronomy Center and Maynard Jordan Planetarium - ECPv6.15.17.1//NONSGML v1.0//EN
CALSCALE:GREGORIAN
METHOD:PUBLISH
X-WR-CALNAME:Versant Power Astronomy Center and Maynard Jordan Planetarium
X-ORIGINAL-URL:https://astro.umaine.edu
X-WR-CALDESC:Events for Versant Power Astronomy Center and Maynard Jordan Planetarium
REFRESH-INTERVAL;VALUE=DURATION:PT1H
X-Robots-Tag:noindex
X-PUBLISHED-TTL:PT1H
BEGIN:VTIMEZONE
TZID:America/New_York
BEGIN:DAYLIGHT
TZOFFSETFROM:-0500
TZOFFSETTO:-0400
TZNAME:EDT
DTSTART:20170312T070000
END:DAYLIGHT
BEGIN:STANDARD
TZOFFSETFROM:-0400
TZOFFSETTO:-0500
TZNAME:EST
DTSTART:20171105T060000
END:STANDARD
BEGIN:DAYLIGHT
TZOFFSETFROM:-0500
TZOFFSETTO:-0400
TZNAME:EDT
DTSTART:20180311T070000
END:DAYLIGHT
BEGIN:STANDARD
TZOFFSETFROM:-0400
TZOFFSETTO:-0500
TZNAME:EST
DTSTART:20181104T060000
END:STANDARD
BEGIN:DAYLIGHT
TZOFFSETFROM:-0500
TZOFFSETTO:-0400
TZNAME:EDT
DTSTART:20190310T070000
END:DAYLIGHT
BEGIN:STANDARD
TZOFFSETFROM:-0400
TZOFFSETTO:-0500
TZNAME:EST
DTSTART:20191103T060000
END:STANDARD
END:VTIMEZONE
BEGIN:VEVENT
DTSTART;TZID=America/New_York:20180304T140000
DTEND;TZID=America/New_York:20180304T150000
DTSTAMP:20260421T013711
CREATED:20171109T152410Z
LAST-MODIFIED:20171109T152410Z
UID:10002193-1520172000-1520175600@astro.umaine.edu
SUMMARY:Sesame Street: One World\, One Sky
DESCRIPTION:Explore the night sky with your favorite friends from Sesame Street in One World\, One Sky: Big Bird’s Adventure. Follow along with Big Bird\, Elmo and their friend from China\, Hu Hu Zhu\, as they take an imaginary trip from Sesame Street to the moon\, where they discover how different it is from Earth. They explore the day and night sky\, learn about the Big Dipper\, the North Star\, the Sun and the Moon.  Along the way\, they learn how the sky we see is shared by many people around the world. Children attending the show can interact as they watch\, drawing constellations and counting the time it takes the sun to set. \nTrailer \nTickets for planetarium programs are $6 for Adults\, $5 for UMaine Students/Veterans/Senior Citizens\, and $4 for children under 12. Click here to view our calendar. \nTickets may be purchased online\, by phone at 207.581.1341\, or at our ticket box office prior to the show.
URL:https://astro.umaine.edu/event/sesame-street-one-world-one-sky-5/2018-03-04/
LOCATION:Versant Power Astronomy Center\, 167 Rangeley Rd\, Orono\, ME\, 04469\, United States
CATEGORIES:Public Program
ATTACH;FMTTYPE=image/jpeg:https://astro.umaine.edu/wp-content/uploads/sites/165/2016/05/OWOS_16x9.jpg
ORGANIZER;CN="Versant Power Astronomy Center":MAILTO:planetarium@maine.edu
GEO:44.8929612;-68.6626623
X-APPLE-STRUCTURED-LOCATION;VALUE=URI;X-ADDRESS=Versant Power Astronomy Center 167 Rangeley Rd Orono ME 04469 United States;X-APPLE-RADIUS=500;X-TITLE=167 Rangeley Rd:geo:-68.6626623,44.8929612
END:VEVENT
BEGIN:VEVENT
DTSTART;TZID=America/New_York:20180306T100000
DTEND;TZID=America/New_York:20180306T110000
DTSTAMP:20260421T013711
CREATED:20170918T035327Z
LAST-MODIFIED:20170918T035327Z
UID:10002231-1520330400-1520334000@astro.umaine.edu
SUMMARY:Dawn of the Space Age
DESCRIPTION:Experience the exciting beginnings of space travel\, from the launch of Sputnik 1 to the Apollo landings on the Moon\, and from the assembly of the International Space Station to the first private space flights. Trace the initial competition of political systems for supremacy in space\, and the peaceful collaboration between nations today. Join in the vivid\, historically accurate reconstruction of humans first steps into the cosmos. Learn about the men and women who braved the risks of space travel. Witness their courage\, their passion and their perseverance in “Dawn of the Space Age”. \nTrailer \nTickets for planetarium programs are $6 for Adults\, $5 for UMaine Students/Veterans/Senior Citizens\, and $4 for children under 12. Click here to view our calendar. \nTickets may be purchased online\, by phone at 207.581.1341\, or at our ticket box office prior to the show.
URL:https://astro.umaine.edu/event/dawn-space-age-3/
LOCATION:Versant Power Astronomy Center\, 167 Rangeley Rd\, Orono\, ME\, 04469\, United States
CATEGORIES:Homeschool Show,Public Program
ATTACH;FMTTYPE=image/png:https://astro.umaine.edu/wp-content/uploads/sites/165/2017/02/DawnOfTheSpaceAge16x9-e1597282227102.png
ORGANIZER;CN="Versant Power Astronomy Center":MAILTO:planetarium@maine.edu
GEO:44.8929612;-68.6626623
X-APPLE-STRUCTURED-LOCATION;VALUE=URI;X-ADDRESS=Versant Power Astronomy Center 167 Rangeley Rd Orono ME 04469 United States;X-APPLE-RADIUS=500;X-TITLE=167 Rangeley Rd:geo:-68.6626623,44.8929612
END:VEVENT
BEGIN:VEVENT
DTSTART;TZID=America/New_York:20180309T190000
DTEND;TZID=America/New_York:20180309T200000
DTSTAMP:20260421T013711
CREATED:20171109T150941Z
LAST-MODIFIED:20171109T151131Z
UID:10002189-1520622000-1520625600@astro.umaine.edu
SUMMARY:Explore!
DESCRIPTION:Mars… For centuries it’s been an object of human fascination. Once mysterious\, soon this red world may become our new home. This became possible due to daring individuals like Johannes Kepler: fascinated with the world\, striving toward discovery and embracing challenges it may bring. It is our duty to continue their work… Explore\, Dream Discover.  Take an adventurous journey with humankind: from ancient Mesopotamia to modern space exploration!  Experience the fascinating history of astronomy\, geocentric and heliocentric models\, Kepler laws of planetary motion\, and discover the principals of orbital maneuvers which enable satellites and space travel. \nTickets for planetarium programs are $6 for Adults\, $5 for UMaine Students/Veterans/Senior Citizens\, and $4 for children under 12. Click here to view our calendar. \nTickets may be purchased online\, by phone at 207.581.1341\, or at our ticket box office prior to the show.
URL:https://astro.umaine.edu/event/explore/2018-03-09/
LOCATION:Versant Power Astronomy Center\, 167 Rangeley Rd\, Orono\, ME\, 04469\, United States
CATEGORIES:Public Program
ATTACH;FMTTYPE=image/jpeg:https://astro.umaine.edu/wp-content/uploads/sites/165/2017/11/Explore_16x9.jpg
ORGANIZER;CN="Versant Power Astronomy Center":MAILTO:planetarium@maine.edu
GEO:44.8929612;-68.6626623
X-APPLE-STRUCTURED-LOCATION;VALUE=URI;X-ADDRESS=Versant Power Astronomy Center 167 Rangeley Rd Orono ME 04469 United States;X-APPLE-RADIUS=500;X-TITLE=167 Rangeley Rd:geo:-68.6626623,44.8929612
END:VEVENT
END:VCALENDAR