BEGIN:VCALENDAR
VERSION:2.0
PRODID:-//Versant Power Astronomy Center and Maynard Jordan Planetarium - ECPv6.15.17.1//NONSGML v1.0//EN
CALSCALE:GREGORIAN
METHOD:PUBLISH
X-WR-CALNAME:Versant Power Astronomy Center and Maynard Jordan Planetarium
X-ORIGINAL-URL:https://astro.umaine.edu
X-WR-CALDESC:Events for Versant Power Astronomy Center and Maynard Jordan Planetarium
REFRESH-INTERVAL;VALUE=DURATION:PT1H
X-Robots-Tag:noindex
X-PUBLISHED-TTL:PT1H
BEGIN:VTIMEZONE
TZID:America/New_York
BEGIN:DAYLIGHT
TZOFFSETFROM:-0500
TZOFFSETTO:-0400
TZNAME:EDT
DTSTART:20170312T070000
END:DAYLIGHT
BEGIN:STANDARD
TZOFFSETFROM:-0400
TZOFFSETTO:-0500
TZNAME:EST
DTSTART:20171105T060000
END:STANDARD
BEGIN:DAYLIGHT
TZOFFSETFROM:-0500
TZOFFSETTO:-0400
TZNAME:EDT
DTSTART:20180311T070000
END:DAYLIGHT
BEGIN:STANDARD
TZOFFSETFROM:-0400
TZOFFSETTO:-0500
TZNAME:EST
DTSTART:20181104T060000
END:STANDARD
BEGIN:DAYLIGHT
TZOFFSETFROM:-0500
TZOFFSETTO:-0400
TZNAME:EDT
DTSTART:20190310T070000
END:DAYLIGHT
BEGIN:STANDARD
TZOFFSETFROM:-0400
TZOFFSETTO:-0500
TZNAME:EST
DTSTART:20191103T060000
END:STANDARD
END:VTIMEZONE
BEGIN:VEVENT
DTSTART;TZID=America/New_York:20180401T140000
DTEND;TZID=America/New_York:20180401T150000
DTSTAMP:20260421T162907
CREATED:20171109T153155Z
LAST-MODIFIED:20171109T153155Z
UID:10002201-1522591200-1522594800@astro.umaine.edu
SUMMARY:Secret of the Cardboard Rocket
DESCRIPTION:Join two children on a magical journey through the Solar System\, aided by a talking astronomy book\, a cardboard rocket\, and a vivid imagination. During this imaginative show\, audiences will land on Venus\, fly through the rings of Saturn\, and discover the secrets of the Solar System. \nTrailer \nTickets for planetarium programs are $6 for Adults\, $5 for UMaine Students/Veterans/Senior Citizens\, and $4 for children under 12. Click here to view our calendar. \nTickets may be purchased online\, by phone at 207.581.1341\, or at our ticket box office prior to the show.
URL:https://astro.umaine.edu/event/secret-cardboard-rocket-6/2018-04-01/
LOCATION:Versant Power Astronomy Center\, 167 Rangeley Rd\, Orono\, ME\, 04469\, United States
CATEGORIES:Public Program
ATTACH;FMTTYPE=image/jpeg:https://astro.umaine.edu/wp-content/uploads/sites/165/2016/05/CBR_16x9.jpg
ORGANIZER;CN="Versant Power Astronomy Center":MAILTO:planetarium@maine.edu
GEO:44.8929612;-68.6626623
X-APPLE-STRUCTURED-LOCATION;VALUE=URI;X-ADDRESS=Versant Power Astronomy Center 167 Rangeley Rd Orono ME 04469 United States;X-APPLE-RADIUS=500;X-TITLE=167 Rangeley Rd:geo:-68.6626623,44.8929612
END:VEVENT
BEGIN:VEVENT
DTSTART;TZID=America/New_York:20180403T100000
DTEND;TZID=America/New_York:20180403T110000
DTSTAMP:20260421T162907
CREATED:20180228T163228Z
LAST-MODIFIED:20180228T163228Z
UID:10001897-1522749600-1522753200@astro.umaine.edu
SUMMARY:Explore!
DESCRIPTION:Mars… For centuries it’s been an object of human fascination. Once mysterious\, soon this red world may become our new home. This became possible due to daring individuals like Johannes Kepler: fascinated with the world\, striving toward discovery and embracing challenges it may bring. It is our duty to continue their work… Explore\, Dream Discover.  Take an adventurous journey with humankind: from ancient Mesopotamia to modern space exploration!  Experience the fascinating history of astronomy\, geocentric and heliocentric models\, Kepler laws of planetary motion\, and discover the principals of orbital maneuvers which enable satellites and space travel. \nTickets for planetarium programs are $6 for Adults\, $5 for UMaine Students/Veterans/Senior Citizens\, and $4 for children under 12. Click here to view our calendar. \nTickets may be purchased online\, by phone at 207.581.1341\, or at our ticket box office prior to the show.
URL:https://astro.umaine.edu/event/explore-2/
LOCATION:Versant Power Astronomy Center\, 167 Rangeley Rd\, Orono\, ME\, 04469\, United States
CATEGORIES:Homeschool Show,Public Program
ATTACH;FMTTYPE=image/jpeg:https://astro.umaine.edu/wp-content/uploads/sites/165/2017/11/Explore_16x9.jpg
ORGANIZER;CN="Versant Power Astronomy Center":MAILTO:planetarium@maine.edu
GEO:44.8929612;-68.6626623
X-APPLE-STRUCTURED-LOCATION;VALUE=URI;X-ADDRESS=Versant Power Astronomy Center 167 Rangeley Rd Orono ME 04469 United States;X-APPLE-RADIUS=500;X-TITLE=167 Rangeley Rd:geo:-68.6626623,44.8929612
END:VEVENT
BEGIN:VEVENT
DTSTART;TZID=America/New_York:20180405T190000
DTEND;TZID=America/New_York:20180405T200000
DTSTAMP:20260421T162907
CREATED:20180216T192736Z
LAST-MODIFIED:20180216T192736Z
UID:10002327-1522954800-1522958400@astro.umaine.edu
SUMMARY:Science Lecture Series: Dr. Jennifer Page
DESCRIPTION:Aquatic chemical signaling: How understanding signals in\nthe sea helps us address interdisciplinary challenges\n\nThursday\, April 5 at 7:00 pm \n\nThe chemical signals exchanged by aquatic organisms influence a wide variety of behaviors\nfrom predator-prey interactions to mating and habitat choice. Understanding chemical signaling\ncan help us more deeply understand the ecology and evolution of biological systems and can\nalso help us address a variety of challenges from environmental management and conservation\nto human health issues. Come explore how discoveries in aquatic chemical signaling are\nhelping us engineer solutions to interdisciplinary problems using everything from the chemicals\nthemselves to chemical-sensing robots. \n  \n  \n\nDr. Jennifer Page is the Director of Education at the Hurricane Island Center for Science and\nLeadership\, a non-profit in midcoast Maine that integrates science education\, applied research\,\nand leadership development. She graduated from the University of Maine with a B.S. in Marine\nScience and earned her Ph.D. in Biology at the Georgia Institute of Technology within the NSF\nIGERT program Signals in the Sea. She then returned to UMaine as a Postdoctoral Research\nAssociate in the School of Marine Sciences before joining the faculty of Bangor High School.\nJenn helped develop Bangor High’s STEM Academy and became even more passionate about\nbringing authentic research experiences and place-based curriculum to students. \n  \n \n  \nThe Science Lecture Series at Emera Astronomy Center will take place the first Thursdays of each month and is a partnership project with the Maine Science Festival and will feature research from a variety of science disciplines from around our state and use the digital planetarium to visualize these discoveries in a new dramatic and immersive way. \nTickets for planetarium programs are $6 for Adults\, $5 for UMaine Students/Veterans/Senior Citizens\, and $4 for children under 12. Click here to view our calendar. \nTickets are available online at http://astro.umaine.edu\, by calling 581-1341\, or at the box office. \n 
URL:https://astro.umaine.edu/event/science-lecture-series-dr-jennifer-page/
LOCATION:Versant Power Astronomy Center\, 167 Rangeley Rd\, Orono\, ME\, 04469\, United States
CATEGORIES:Public Program,Science Lecture Series
ATTACH;FMTTYPE=image/jpeg:https://astro.umaine.edu/wp-content/uploads/sites/165/2018/02/Crab-in-plume.jpg
ORGANIZER;CN="Versant Power Astronomy Center":MAILTO:planetarium@maine.edu
GEO:44.8929612;-68.6626623
X-APPLE-STRUCTURED-LOCATION;VALUE=URI;X-ADDRESS=Versant Power Astronomy Center 167 Rangeley Rd Orono ME 04469 United States;X-APPLE-RADIUS=500;X-TITLE=167 Rangeley Rd:geo:-68.6626623,44.8929612
END:VEVENT
BEGIN:VEVENT
DTSTART;TZID=America/New_York:20180406T190000
DTEND;TZID=America/New_York:20180406T200000
DTSTAMP:20260421T162907
CREATED:20171109T152830Z
LAST-MODIFIED:20171109T152830Z
UID:10002197-1523041200-1523044800@astro.umaine.edu
SUMMARY:Mayan Archaeoastronomy: Observers of the Universe
DESCRIPTION:The night is an eye\, both dark and bright!  It forces us to look up and ask ourselves questions about our place in the Cosmos\, our origins\, and what is beyond the horizon.  Using spectacular visuals and stunning sound\, audiences tour six ancient Mayan temples: San Gervasio\, Chichen Itzá\, Uxmal\, Edzna\, Palenque\, and Bonampak. Along the way they dive into Mayan knowledge of the sky exploring the movement of the Sun\, the Moon and Venus. Find Balam the Jaguar constellation and explore how the Mayan’s created a calendar more accurate than the one we use in modern times. Journey back in time to explore how The Mayan’s used the sky to understand their world and their place in it! \nTickets for planetarium programs are $6 for Adults\, $5 for UMaine Students/Veterans/Senior Citizens\, and $4 for children under 12. Click here to view our calendar. \nTickets may be purchased online\, by phone at 207.581.1341\, or at our ticket box office prior to the show.
URL:https://astro.umaine.edu/event/mayan-archaeoastronomy-observers-universe/2018-04-06/
LOCATION:Versant Power Astronomy Center\, 167 Rangeley Rd\, Orono\, ME\, 04469\, United States
CATEGORIES:Public Program
ATTACH;FMTTYPE=image/jpeg:https://astro.umaine.edu/wp-content/uploads/sites/165/2017/09/MayanArcheoastronomy_16x9.jpg
ORGANIZER;CN="Versant Power Astronomy Center":MAILTO:planetarium@maine.edu
GEO:44.8929612;-68.6626623
X-APPLE-STRUCTURED-LOCATION;VALUE=URI;X-ADDRESS=Versant Power Astronomy Center 167 Rangeley Rd Orono ME 04469 United States;X-APPLE-RADIUS=500;X-TITLE=167 Rangeley Rd:geo:-68.6626623,44.8929612
END:VEVENT
END:VCALENDAR