BEGIN:VCALENDAR
VERSION:2.0
PRODID:-//Versant Power Astronomy Center and Maynard Jordan Planetarium - ECPv6.15.17.1//NONSGML v1.0//EN
CALSCALE:GREGORIAN
METHOD:PUBLISH
X-WR-CALNAME:Versant Power Astronomy Center and Maynard Jordan Planetarium
X-ORIGINAL-URL:https://astro.umaine.edu
X-WR-CALDESC:Events for Versant Power Astronomy Center and Maynard Jordan Planetarium
REFRESH-INTERVAL;VALUE=DURATION:PT1H
X-Robots-Tag:noindex
X-PUBLISHED-TTL:PT1H
BEGIN:VTIMEZONE
TZID:America/New_York
BEGIN:DAYLIGHT
TZOFFSETFROM:-0500
TZOFFSETTO:-0400
TZNAME:EDT
DTSTART:20170312T070000
END:DAYLIGHT
BEGIN:STANDARD
TZOFFSETFROM:-0400
TZOFFSETTO:-0500
TZNAME:EST
DTSTART:20171105T060000
END:STANDARD
BEGIN:DAYLIGHT
TZOFFSETFROM:-0500
TZOFFSETTO:-0400
TZNAME:EDT
DTSTART:20180311T070000
END:DAYLIGHT
BEGIN:STANDARD
TZOFFSETFROM:-0400
TZOFFSETTO:-0500
TZNAME:EST
DTSTART:20181104T060000
END:STANDARD
BEGIN:DAYLIGHT
TZOFFSETFROM:-0500
TZOFFSETTO:-0400
TZNAME:EDT
DTSTART:20190310T070000
END:DAYLIGHT
BEGIN:STANDARD
TZOFFSETFROM:-0400
TZOFFSETTO:-0500
TZNAME:EST
DTSTART:20191103T060000
END:STANDARD
END:VTIMEZONE
BEGIN:VEVENT
DTSTART;TZID=America/New_York:20180715T140000
DTEND;TZID=America/New_York:20180715T150000
DTSTAMP:20260419T215030
CREATED:20180402T182933Z
LAST-MODIFIED:20180402T182933Z
UID:10002334-1531663200-1531666800@astro.umaine.edu
SUMMARY:Life of Trees
DESCRIPTION:In The Life of Trees a cheeky ladybug called Dolores and a quirky firefly called Mike take the audience on an adventurous journey of exploration into the wondrous world of trees. Attend the Creepy Crawlies Educational Institution to find out how trees live and their importance to the wider environment.\nOn the excursion Delores and Mike zip around a tree\, and in doing so\, playfully learn its secrets: How do plants get their food from the Sun? How do they grow? How does water get from the roots to the top of the crown? And how does all this make life on our earth possible?\nThe Life of Trees is a perfect planetarium show for the whole family that raises the awareness of protecting the natural environment in which we live. \nTrailer \nTickets for planetarium programs are $6 for Adults\, $5 for UMaine Students/Veterans/Senior Citizens\, and $4 for children under 12. Click here to view our calendar. \nTickets may be purchased online\, by phone at 207.581.1341\, or at our ticket box office prior to the show.
URL:https://astro.umaine.edu/event/life-of-trees-6/2018-07-15/
LOCATION:Versant Power Astronomy Center\, 167 Rangeley Rd\, Orono\, ME\, 04469\, United States
CATEGORIES:Public Program
ATTACH;FMTTYPE=image/jpeg:https://astro.umaine.edu/wp-content/uploads/sites/165/2016/05/LOT_16x9.jpg
ORGANIZER;CN="Versant Power Astronomy Center":MAILTO:planetarium@maine.edu
GEO:44.8929612;-68.6626623
X-APPLE-STRUCTURED-LOCATION;VALUE=URI;X-ADDRESS=Versant Power Astronomy Center 167 Rangeley Rd Orono ME 04469 United States;X-APPLE-RADIUS=500;X-TITLE=167 Rangeley Rd:geo:-68.6626623,44.8929612
END:VEVENT
BEGIN:VEVENT
DTSTART;TZID=America/New_York:20180717T140000
DTEND;TZID=America/New_York:20180717T150000
DTSTAMP:20260419T215030
CREATED:20180509T154112Z
LAST-MODIFIED:20180509T154112Z
UID:10001962-1531836000-1531839600@astro.umaine.edu
SUMMARY:Life of Trees
DESCRIPTION:In The Life of Trees a cheeky ladybug called Dolores and a quirky firefly called Mike take the audience on an adventurous journey of exploration into the wondrous world of trees. Attend the Creepy Crawlies Educational Institution to find out how trees live and their importance to the wider environment.\nOn the excursion Delores and Mike zip around a tree\, and in doing so\, playfully learn its secrets: How do plants get their food from the Sun? How do they grow? How does water get from the roots to the top of the crown? And how does all this make life on our earth possible?\nThe Life of Trees is a perfect planetarium show for the whole family that raises the awareness of protecting the natural environment in which we live. \nTrailer \nTickets for planetarium programs are $6 for Adults\, $5 for UMaine Students/Veterans/Senior Citizens\, and $4 for children under 12. Click here to view our calendar. \nTickets may be purchased online\, by phone at 207.581.1341\, or at our ticket box office prior to the show.
URL:https://astro.umaine.edu/event/life-of-trees-7/
LOCATION:Versant Power Astronomy Center\, 167 Rangeley Rd\, Orono\, ME\, 04469\, United States
CATEGORIES:Public Program
ATTACH;FMTTYPE=image/jpeg:https://astro.umaine.edu/wp-content/uploads/sites/165/2016/05/LOT_16x9.jpg
ORGANIZER;CN="Versant Power Astronomy Center":MAILTO:planetarium@maine.edu
GEO:44.8929612;-68.6626623
X-APPLE-STRUCTURED-LOCATION;VALUE=URI;X-ADDRESS=Versant Power Astronomy Center 167 Rangeley Rd Orono ME 04469 United States;X-APPLE-RADIUS=500;X-TITLE=167 Rangeley Rd:geo:-68.6626623,44.8929612
END:VEVENT
BEGIN:VEVENT
DTSTART;TZID=America/New_York:20180719T140000
DTEND;TZID=America/New_York:20180719T150000
DTSTAMP:20260419T215030
CREATED:20180509T154335Z
LAST-MODIFIED:20180509T154335Z
UID:10001964-1532008800-1532012400@astro.umaine.edu
SUMMARY:Secret of the Cardboard Rocket
DESCRIPTION:Join two children on a magical journey through the Solar System\, aided by a talking astronomy book\, a cardboard rocket\, and a vivid imagination. During this imaginative show\, audiences will land on Venus\, fly through the rings of Saturn\, and discover the secrets of the Solar System. \nTrailer \nTickets for planetarium programs are $6 for Adults\, $5 for UMaine Students/Veterans/Senior Citizens\, and $4 for children under 12. Click here to view our calendar. \nTickets may be purchased online\, by phone at 207.581.1341\, or at our ticket box office prior to the show.
URL:https://astro.umaine.edu/event/secret-cardboard-rocket-8/
LOCATION:Versant Power Astronomy Center\, 167 Rangeley Rd\, Orono\, ME\, 04469\, United States
CATEGORIES:Public Program
ATTACH;FMTTYPE=image/jpeg:https://astro.umaine.edu/wp-content/uploads/sites/165/2016/05/CBR_16x9.jpg
ORGANIZER;CN="Versant Power Astronomy Center":MAILTO:planetarium@maine.edu
GEO:44.8929612;-68.6626623
X-APPLE-STRUCTURED-LOCATION;VALUE=URI;X-ADDRESS=Versant Power Astronomy Center 167 Rangeley Rd Orono ME 04469 United States;X-APPLE-RADIUS=500;X-TITLE=167 Rangeley Rd:geo:-68.6626623,44.8929612
END:VEVENT
BEGIN:VEVENT
DTSTART;TZID=America/New_York:20180720T140000
DTEND;TZID=America/New_York:20180720T150000
DTSTAMP:20260419T215030
CREATED:20180509T154654Z
LAST-MODIFIED:20180509T154654Z
UID:10001975-1532095200-1532098800@astro.umaine.edu
SUMMARY:Dawn of the Space Age
DESCRIPTION:Experience the exciting beginnings of space travel\, from the launch of Sputnik 1 to the Apollo landings on the Moon\, and from the assembly of the International Space Station to the first private space flights. Trace the initial competition of political systems for supremacy in space\, and the peaceful collaboration between nations today. Join in the vivid\, historically accurate reconstruction of humans first steps into the cosmos. Learn about the men and women who braved the risks of space travel. Witness their courage\, their passion and their perseverance in “Dawn of the Space Age”. \nTrailer \nTickets for planetarium programs are $6 for Adults\, $5 for UMaine Students/Veterans/Senior Citizens\, and $4 for children under 12. Click here to view our calendar. \nTickets may be purchased online\, by phone at 207.581.1341\, or at our ticket box office prior to the show.
URL:https://astro.umaine.edu/event/dawn-space-age-5/
LOCATION:Versant Power Astronomy Center\, 167 Rangeley Rd\, Orono\, ME\, 04469\, United States
CATEGORIES:Public Program
ATTACH;FMTTYPE=image/png:https://astro.umaine.edu/wp-content/uploads/sites/165/2017/02/DawnOfTheSpaceAge16x9-e1597282227102.png
ORGANIZER;CN="Versant Power Astronomy Center":MAILTO:planetarium@maine.edu
GEO:44.8929612;-68.6626623
X-APPLE-STRUCTURED-LOCATION;VALUE=URI;X-ADDRESS=Versant Power Astronomy Center 167 Rangeley Rd Orono ME 04469 United States;X-APPLE-RADIUS=500;X-TITLE=167 Rangeley Rd:geo:-68.6626623,44.8929612
END:VEVENT
BEGIN:VEVENT
DTSTART;TZID=America/New_York:20180720T190000
DTEND;TZID=America/New_York:20180720T200000
DTSTAMP:20260419T215030
CREATED:20180402T180956Z
LAST-MODIFIED:20180402T180956Z
UID:10002330-1532113200-1532116800@astro.umaine.edu
SUMMARY:Cosmic Recipe
DESCRIPTION:The famous astronomer Carl Sagan once said: “If you wish to make an apple pie from scratch\, you must first invent the universe.”  Though that may sound crazy\, Sagan was onto something BIG! Want to know what? Pull up a chair at our Planetarium’s Periodic Table and learn the cosmic recipes that created everything in our world – even us!   Discover how the Big Bang cooked up everyday elements such as the calcium in our teeth\, the silicon in our smart phones\, and even the carbon in our apple pies in The Cosmic Recipe. \nTickets for planetarium programs are $6 for Adults\, $5 for UMaine Students/Veterans/Senior Citizens\, and $4 for children under 12. Click here to view our calendar. \nTickets may be purchased online\, by phone at 207.581.1341\, or at our ticket box office prior to the show.
URL:https://astro.umaine.edu/event/cosmic-recipe-2/2018-07-20/
LOCATION:Versant Power Astronomy Center\, 167 Rangeley Rd\, Orono\, ME\, 04469\, United States
CATEGORIES:Public Program
ATTACH;FMTTYPE=image/jpeg:https://astro.umaine.edu/wp-content/uploads/sites/165/2017/09/CosmicRecipePosterFDDB2_16x9.jpg
ORGANIZER;CN="Versant Power Astronomy Center":MAILTO:planetarium@maine.edu
GEO:44.8929612;-68.6626623
X-APPLE-STRUCTURED-LOCATION;VALUE=URI;X-ADDRESS=Versant Power Astronomy Center 167 Rangeley Rd Orono ME 04469 United States;X-APPLE-RADIUS=500;X-TITLE=167 Rangeley Rd:geo:-68.6626623,44.8929612
END:VEVENT
END:VCALENDAR