BEGIN:VCALENDAR
VERSION:2.0
PRODID:-//Versant Power Astronomy Center and Maynard Jordan Planetarium - ECPv6.15.17.1//NONSGML v1.0//EN
CALSCALE:GREGORIAN
METHOD:PUBLISH
X-WR-CALNAME:Versant Power Astronomy Center and Maynard Jordan Planetarium
X-ORIGINAL-URL:https://astro.umaine.edu
X-WR-CALDESC:Events for Versant Power Astronomy Center and Maynard Jordan Planetarium
REFRESH-INTERVAL;VALUE=DURATION:PT1H
X-Robots-Tag:noindex
X-PUBLISHED-TTL:PT1H
BEGIN:VTIMEZONE
TZID:America/New_York
BEGIN:DAYLIGHT
TZOFFSETFROM:-0500
TZOFFSETTO:-0400
TZNAME:EDT
DTSTART:20170312T070000
END:DAYLIGHT
BEGIN:STANDARD
TZOFFSETFROM:-0400
TZOFFSETTO:-0500
TZNAME:EST
DTSTART:20171105T060000
END:STANDARD
BEGIN:DAYLIGHT
TZOFFSETFROM:-0500
TZOFFSETTO:-0400
TZNAME:EDT
DTSTART:20180311T070000
END:DAYLIGHT
BEGIN:STANDARD
TZOFFSETFROM:-0400
TZOFFSETTO:-0500
TZNAME:EST
DTSTART:20181104T060000
END:STANDARD
BEGIN:DAYLIGHT
TZOFFSETFROM:-0500
TZOFFSETTO:-0400
TZNAME:EDT
DTSTART:20190310T070000
END:DAYLIGHT
BEGIN:STANDARD
TZOFFSETFROM:-0400
TZOFFSETTO:-0500
TZNAME:EST
DTSTART:20191103T060000
END:STANDARD
END:VTIMEZONE
BEGIN:VEVENT
DTSTART;TZID=America/New_York:20180729T140000
DTEND;TZID=America/New_York:20180729T150000
DTSTAMP:20260420T204822
CREATED:20180402T182933Z
LAST-MODIFIED:20180402T182933Z
UID:10002336-1532872800-1532876400@astro.umaine.edu
SUMMARY:Life of Trees
DESCRIPTION:In The Life of Trees a cheeky ladybug called Dolores and a quirky firefly called Mike take the audience on an adventurous journey of exploration into the wondrous world of trees. Attend the Creepy Crawlies Educational Institution to find out how trees live and their importance to the wider environment.\nOn the excursion Delores and Mike zip around a tree\, and in doing so\, playfully learn its secrets: How do plants get their food from the Sun? How do they grow? How does water get from the roots to the top of the crown? And how does all this make life on our earth possible?\nThe Life of Trees is a perfect planetarium show for the whole family that raises the awareness of protecting the natural environment in which we live. \nTrailer \nTickets for planetarium programs are $6 for Adults\, $5 for UMaine Students/Veterans/Senior Citizens\, and $4 for children under 12. Click here to view our calendar. \nTickets may be purchased online\, by phone at 207.581.1341\, or at our ticket box office prior to the show.
URL:https://astro.umaine.edu/event/life-of-trees-6/2018-07-29/
LOCATION:Versant Power Astronomy Center\, 167 Rangeley Rd\, Orono\, ME\, 04469\, United States
CATEGORIES:Public Program
ATTACH;FMTTYPE=image/jpeg:https://astro.umaine.edu/wp-content/uploads/sites/165/2016/05/LOT_16x9.jpg
ORGANIZER;CN="Versant Power Astronomy Center":MAILTO:planetarium@maine.edu
GEO:44.8929612;-68.6626623
X-APPLE-STRUCTURED-LOCATION;VALUE=URI;X-ADDRESS=Versant Power Astronomy Center 167 Rangeley Rd Orono ME 04469 United States;X-APPLE-RADIUS=500;X-TITLE=167 Rangeley Rd:geo:-68.6626623,44.8929612
END:VEVENT
BEGIN:VEVENT
DTSTART;TZID=America/New_York:20180731T140000
DTEND;TZID=America/New_York:20180731T150000
DTSTAMP:20260420T204822
CREATED:20180509T155331Z
LAST-MODIFIED:20180509T155331Z
UID:10001983-1533045600-1533049200@astro.umaine.edu
SUMMARY:Cosmic Journey
DESCRIPTION:Volcanoes tower 80\,000 feet above a barren surface. Monstrous hurricanes rage for 400 years. And multicolored rings sit suspended in space. In Cosmic Journey: A Solar system Adventure\, you will travel through our solar system faster than the speed of light\, taking in the wonders of the planets and their moons. \nTrailer \nTickets for planetarium programs are $6 for Adults\, $5 for UMaine Students/Veterans/Senior Citizens\, and $4 for children under 12. Click here to view our calendar. \nTickets may be purchased online\, by phone at 207.581.1341\, or at our ticket box office prior to the show.
URL:https://astro.umaine.edu/event/cosmic-journey-9/
LOCATION:Versant Power Astronomy Center\, 167 Rangeley Rd\, Orono\, ME\, 04469\, United States
CATEGORIES:Public Program
ORGANIZER;CN="Versant Power Astronomy Center":MAILTO:planetarium@maine.edu
GEO:44.8929612;-68.6626623
X-APPLE-STRUCTURED-LOCATION;VALUE=URI;X-ADDRESS=Versant Power Astronomy Center 167 Rangeley Rd Orono ME 04469 United States;X-APPLE-RADIUS=500;X-TITLE=167 Rangeley Rd:geo:-68.6626623,44.8929612
END:VEVENT
BEGIN:VEVENT
DTSTART;TZID=America/New_York:20180802T140000
DTEND;TZID=America/New_York:20180802T150000
DTSTAMP:20260420T204822
CREATED:20180509T155547Z
LAST-MODIFIED:20180509T155547Z
UID:10002287-1533218400-1533222000@astro.umaine.edu
SUMMARY:Black Holes
DESCRIPTION:The attraction of Black Holes is more than just gravitational. These mysterious graveyards of dead stars have fascinated generations. “Black Holes” explores the history\, physics\, and mystery of these reality-bending phenomena. Experience the bending of light\, the skewing of perception\, and the dizzying descent into a black hole. \nTrailer \nTickets for planetarium programs are $6 for Adults\, $5 for UMaine Students/Veterans/Senior Citizens\, and $4 for children under 12. Click here to view our calendar. \nTickets may be purchased online\, by phone at 207.581.1341\, or at our ticket box office prior to the show.
URL:https://astro.umaine.edu/event/black-holes-8/
LOCATION:Versant Power Astronomy Center\, 167 Rangeley Rd\, Orono\, ME\, 04469\, United States
CATEGORIES:Public Program
ATTACH;FMTTYPE=image/jpeg:https://astro.umaine.edu/wp-content/uploads/sites/165/2016/05/BHZ_16x9.jpg
ORGANIZER;CN="Versant Power Astronomy Center":MAILTO:planetarium@maine.edu
GEO:44.8929612;-68.6626623
X-APPLE-STRUCTURED-LOCATION;VALUE=URI;X-ADDRESS=Versant Power Astronomy Center 167 Rangeley Rd Orono ME 04469 United States;X-APPLE-RADIUS=500;X-TITLE=167 Rangeley Rd:geo:-68.6626623,44.8929612
END:VEVENT
BEGIN:VEVENT
DTSTART;TZID=America/New_York:20180803T140000
DTEND;TZID=America/New_York:20180803T150000
DTSTAMP:20260420T204822
CREATED:20180509T151322Z
LAST-MODIFIED:20180509T151322Z
UID:10002269-1533304800-1533308400@astro.umaine.edu
SUMMARY:The Little Star That Could
DESCRIPTION:It’s hard to be a little star in a big universe! Join a medium sized\, yellow star as he makes his way through space. In his travels\, he meets many different types of stars and learns about some of the other things that make our universe so interesting. After meeting stars\, nebulas\, and galaxies\, the little star takes a good look at himself and finds that he\, too\, is special. He has nine planets that depend on him for warmth and light. Along with the little star\, audiences learn the ways each planet is special. \nTickets for planetarium programs are $6 for Adults\, $5 for UMaine Students/Veterans/Senior Citizens\, and $4 for children under 12. Click here to view our calendar. \nTickets may be purchased online\, by phone at 207.581.1341\, or at our ticket box office prior to the show.
URL:https://astro.umaine.edu/event/the-little-star-that-could-3/
LOCATION:Versant Power Astronomy Center\, 167 Rangeley Rd\, Orono\, ME\, 04469\, United States
CATEGORIES:Public Program
ATTACH;FMTTYPE=image/jpeg:https://astro.umaine.edu/wp-content/uploads/sites/165/2016/05/LSC_16x9.jpg
ORGANIZER;CN="Versant Power Astronomy Center":MAILTO:planetarium@maine.edu
GEO:44.8929612;-68.6626623
X-APPLE-STRUCTURED-LOCATION;VALUE=URI;X-ADDRESS=Versant Power Astronomy Center 167 Rangeley Rd Orono ME 04469 United States;X-APPLE-RADIUS=500;X-TITLE=167 Rangeley Rd:geo:-68.6626623,44.8929612
END:VEVENT
BEGIN:VEVENT
DTSTART;TZID=America/New_York:20180803T190000
DTEND;TZID=America/New_York:20180803T200000
DTSTAMP:20260420T204822
CREATED:20180402T200159Z
LAST-MODIFIED:20180402T200159Z
UID:10002272-1533322800-1533326400@astro.umaine.edu
SUMMARY:Mars 1001
DESCRIPTION:An international crew is about to embark on the first interplanetary journey in history\, the first manned mission to the surface of Mars!  Science reporter Miles O’Brien is reporting while events unfold for the crew on their daring 1001 day long mission.  Witness firsthand their brave attempts to put human footprints on Mars and return safely to Earth.  This journey will be extending our knowledge of Mars and will be determining whether or not mankind has a future among the stars.  Experience the thrill of the grandest mission of exploration ever undertaken – humans going to Mars! \nTrailer \nTickets for planetarium programs are $6 for Adults\, $5 for UMaine Students/Veterans/Senior Citizens\, and $4 for children under 12. Click here to view our calendar. \nTickets may be purchased online\, by phone at 207.581.1341\, or at our ticket box office prior to the show.
URL:https://astro.umaine.edu/event/mars-1001/2018-08-03/
LOCATION:Versant Power Astronomy Center\, 167 Rangeley Rd\, Orono\, ME\, 04469\, United States
CATEGORIES:Public Program
ATTACH;FMTTYPE=image/jpeg:https://astro.umaine.edu/wp-content/uploads/sites/165/2018/04/mars169.jpg
ORGANIZER;CN="Versant Power Astronomy Center":MAILTO:planetarium@maine.edu
GEO:44.8929612;-68.6626623
X-APPLE-STRUCTURED-LOCATION;VALUE=URI;X-ADDRESS=Versant Power Astronomy Center 167 Rangeley Rd Orono ME 04469 United States;X-APPLE-RADIUS=500;X-TITLE=167 Rangeley Rd:geo:-68.6626623,44.8929612
END:VEVENT
END:VCALENDAR