BEGIN:VCALENDAR
VERSION:2.0
PRODID:-//Versant Power Astronomy Center and Maynard Jordan Planetarium - ECPv6.15.17.1//NONSGML v1.0//EN
CALSCALE:GREGORIAN
METHOD:PUBLISH
X-WR-CALNAME:Versant Power Astronomy Center and Maynard Jordan Planetarium
X-ORIGINAL-URL:https://astro.umaine.edu
X-WR-CALDESC:Events for Versant Power Astronomy Center and Maynard Jordan Planetarium
REFRESH-INTERVAL;VALUE=DURATION:PT1H
X-Robots-Tag:noindex
X-PUBLISHED-TTL:PT1H
BEGIN:VTIMEZONE
TZID:America/New_York
BEGIN:DAYLIGHT
TZOFFSETFROM:-0500
TZOFFSETTO:-0400
TZNAME:EDT
DTSTART:20170312T070000
END:DAYLIGHT
BEGIN:STANDARD
TZOFFSETFROM:-0400
TZOFFSETTO:-0500
TZNAME:EST
DTSTART:20171105T060000
END:STANDARD
BEGIN:DAYLIGHT
TZOFFSETFROM:-0500
TZOFFSETTO:-0400
TZNAME:EDT
DTSTART:20180311T070000
END:DAYLIGHT
BEGIN:STANDARD
TZOFFSETFROM:-0400
TZOFFSETTO:-0500
TZNAME:EST
DTSTART:20181104T060000
END:STANDARD
BEGIN:DAYLIGHT
TZOFFSETFROM:-0500
TZOFFSETTO:-0400
TZNAME:EDT
DTSTART:20190310T070000
END:DAYLIGHT
BEGIN:STANDARD
TZOFFSETFROM:-0400
TZOFFSETTO:-0500
TZNAME:EST
DTSTART:20191103T060000
END:STANDARD
END:VTIMEZONE
BEGIN:VEVENT
DTSTART;TZID=America/New_York:20180812T140000
DTEND;TZID=America/New_York:20180812T150000
DTSTAMP:20260420T220106
CREATED:20180402T191324Z
LAST-MODIFIED:20180402T191324Z
UID:10002338-1534082400-1534086000@astro.umaine.edu
SUMMARY:In My Backyard
DESCRIPTION:With song and colorful animation it is an adventure to explore a backyard like this one with children’s song writer\, Fred Penner\, of Nickelodeon fame. His excitement and love of nature takes visitors on a tour of daytime discovery and then the wonders of the night sky. The changing seasons\, rainbows\, constellation patterns\, planets and moon phases set to music are just a few of the treats in store. From day to night to sunrise\, looking at the world and space around us\, In My Backyard is a journey that shows how much fun learning about our world can be. \nTrailer \nTickets for planetarium programs are $6 for Adults\, $5 for UMaine Students/Veterans/Senior Citizens\, and $4 for children under 12. Click here to view our calendar. \nTickets may be purchased online\, by phone at 207.581.1341\, or at our ticket box office prior to the show.
URL:https://astro.umaine.edu/event/in-my-backyard-4/2018-08-12/
LOCATION:Versant Power Astronomy Center\, 167 Rangeley Rd\, Orono\, ME\, 04469\, United States
CATEGORIES:Public Program
ATTACH;FMTTYPE=image/jpeg:https://astro.umaine.edu/wp-content/uploads/sites/165/2016/05/IMB_16x9.jpg
ORGANIZER;CN="Versant Power Astronomy Center":MAILTO:planetarium@maine.edu
GEO:44.8929612;-68.6626623
X-APPLE-STRUCTURED-LOCATION;VALUE=URI;X-ADDRESS=Versant Power Astronomy Center 167 Rangeley Rd Orono ME 04469 United States;X-APPLE-RADIUS=500;X-TITLE=167 Rangeley Rd:geo:-68.6626623,44.8929612
END:VEVENT
BEGIN:VEVENT
DTSTART;TZID=America/New_York:20180814T140000
DTEND;TZID=America/New_York:20180814T150000
DTSTAMP:20260420T220106
CREATED:20180509T152149Z
LAST-MODIFIED:20180509T152149Z
UID:10002319-1534255200-1534258800@astro.umaine.edu
SUMMARY:Polaris: Mystery of the Polar Night
DESCRIPTION:A traveling penguin from the South Pole and a funny polar bear from the North pole meet on arctic sea ice.  They become friends observing the night sky together and wondering why night is so long at the poles of the Earth. This mystery leads them on a scientific adventure by building an improvised spaceship to travel around the Earth to learn about seasons\, visit Mars and Saturn to learn about ice in the solar system and how planets have similarities and differences which make them unique. \nTickets for planetarium programs are $6 for Adults\, $5 for UMaine Students/Veterans/Senior Citizens\, and $4 for children under 12. Click here to view our calendar. \nTickets may be purchased online\, by phone at 207.581.1341\, or at our ticket box office prior to the show.
URL:https://astro.umaine.edu/event/polaris-mystery-polar-night-6/
LOCATION:Versant Power Astronomy Center\, 167 Rangeley Rd\, Orono\, ME\, 04469\, United States
CATEGORIES:Public Program
ATTACH;FMTTYPE=image/jpeg:https://astro.umaine.edu/wp-content/uploads/sites/165/2017/02/polaris16x9.jpg
ORGANIZER;CN="Versant Power Astronomy Center":MAILTO:planetarium@maine.edu
GEO:44.8929612;-68.6626623
X-APPLE-STRUCTURED-LOCATION;VALUE=URI;X-ADDRESS=Versant Power Astronomy Center 167 Rangeley Rd Orono ME 04469 United States;X-APPLE-RADIUS=500;X-TITLE=167 Rangeley Rd:geo:-68.6626623,44.8929612
END:VEVENT
BEGIN:VEVENT
DTSTART;TZID=America/New_York:20180816T140000
DTEND;TZID=America/New_York:20180816T150000
DTSTAMP:20260420T220106
CREATED:20180509T160020Z
LAST-MODIFIED:20180509T160020Z
UID:10002294-1534428000-1534431600@astro.umaine.edu
SUMMARY:Dream to Fly
DESCRIPTION:Have you ever dreamt you were flying? Have you ever thought how wonderful would it be to fly free as a bird?  Discover the mystery of flight with Leonardo da Vinci\, Montgolfier brothers\, Wright brothers and other inventors. Experience the adventure with powerful images and music\, an immense and challenging dream\, for which mankind has strived since the beginning of history.  Dream to Fly explores the history of flight and its most important milestones on our route to conquering the skies—both in terms of technological breakthroughs\, as well as our perceptions on flying itself. The dream to fly has raised the man even further – into the outer space. \nTrailer \nTickets for planetarium programs are $6 for Adults\, $5 for UMaine Students/Veterans/Senior Citizens\, and $4 for children under 12. Click here to view our calendar. \nTickets may be purchased online\, by phone at 207.581.1341\, or at our ticket box office prior to the show.
URL:https://astro.umaine.edu/event/dream-to-fly-3/
LOCATION:Versant Power Astronomy Center\, 167 Rangeley Rd\, Orono\, ME\, 04469\, United States
CATEGORIES:Public Program
ATTACH;FMTTYPE=image/jpeg:https://astro.umaine.edu/wp-content/uploads/sites/165/2017/05/Dream-to-fly-16x9.jpg
ORGANIZER;CN="Versant Power Astronomy Center":MAILTO:planetarium@maine.edu
GEO:44.8929612;-68.6626623
X-APPLE-STRUCTURED-LOCATION;VALUE=URI;X-ADDRESS=Versant Power Astronomy Center 167 Rangeley Rd Orono ME 04469 United States;X-APPLE-RADIUS=500;X-TITLE=167 Rangeley Rd:geo:-68.6626623,44.8929612
END:VEVENT
BEGIN:VEVENT
DTSTART;TZID=America/New_York:20180817T140000
DTEND;TZID=America/New_York:20180817T150000
DTSTAMP:20260420T220106
CREATED:20180509T160202Z
LAST-MODIFIED:20180509T160202Z
UID:10002296-1534514400-1534518000@astro.umaine.edu
SUMMARY:We Are Astronomers
DESCRIPTION:Do you know what an astronomer does? We Are Astronomers reveals the global collaboration\, technology and dedication required to answer the unresolved questions of the Universe. See how technologies such as the Large Hadron Collider\, the observatories of Chile and the Hubble Space Telescope work and how they are used by teams around the world in this entertaining planetarium show. This show is narrated by former Dr Who star David Tennant and accompanied with music by New Zealand composer Rhian Sheehan. We Are Astronomers provides a visually stunning tour of contemporary astronomy using beautiful 360° full dome imagery. \nTrailer \nTickets for planetarium programs are $6 for Adults\, $5 for UMaine Students/Veterans/Senior Citizens\, and $4 for children under 12. Click here to view our calendar. \nTickets may be purchased online\, by phone at 207.581.1341\, or at our ticket box office prior to the show.
URL:https://astro.umaine.edu/event/we-are-astronomers-2/
LOCATION:Versant Power Astronomy Center\, 167 Rangeley Rd\, Orono\, ME\, 04469\, United States
CATEGORIES:Public Program
ATTACH;FMTTYPE=image/jpeg:https://astro.umaine.edu/wp-content/uploads/sites/165/2018/04/WAA-1920x1080_00000.jpg
ORGANIZER;CN="Versant Power Astronomy Center":MAILTO:planetarium@maine.edu
GEO:44.8929612;-68.6626623
X-APPLE-STRUCTURED-LOCATION;VALUE=URI;X-ADDRESS=Versant Power Astronomy Center 167 Rangeley Rd Orono ME 04469 United States;X-APPLE-RADIUS=500;X-TITLE=167 Rangeley Rd:geo:-68.6626623,44.8929612
END:VEVENT
BEGIN:VEVENT
DTSTART;TZID=America/New_York:20180817T190000
DTEND;TZID=America/New_York:20180817T200000
DTSTAMP:20260420T220106
CREATED:20180402T200159Z
LAST-MODIFIED:20180402T200159Z
UID:10002274-1534532400-1534536000@astro.umaine.edu
SUMMARY:Mars 1001
DESCRIPTION:An international crew is about to embark on the first interplanetary journey in history\, the first manned mission to the surface of Mars!  Science reporter Miles O’Brien is reporting while events unfold for the crew on their daring 1001 day long mission.  Witness firsthand their brave attempts to put human footprints on Mars and return safely to Earth.  This journey will be extending our knowledge of Mars and will be determining whether or not mankind has a future among the stars.  Experience the thrill of the grandest mission of exploration ever undertaken – humans going to Mars! \nTrailer \nTickets for planetarium programs are $6 for Adults\, $5 for UMaine Students/Veterans/Senior Citizens\, and $4 for children under 12. Click here to view our calendar. \nTickets may be purchased online\, by phone at 207.581.1341\, or at our ticket box office prior to the show.
URL:https://astro.umaine.edu/event/mars-1001/2018-08-17/
LOCATION:Versant Power Astronomy Center\, 167 Rangeley Rd\, Orono\, ME\, 04469\, United States
CATEGORIES:Public Program
ATTACH;FMTTYPE=image/jpeg:https://astro.umaine.edu/wp-content/uploads/sites/165/2018/04/mars169.jpg
ORGANIZER;CN="Versant Power Astronomy Center":MAILTO:planetarium@maine.edu
GEO:44.8929612;-68.6626623
X-APPLE-STRUCTURED-LOCATION;VALUE=URI;X-ADDRESS=Versant Power Astronomy Center 167 Rangeley Rd Orono ME 04469 United States;X-APPLE-RADIUS=500;X-TITLE=167 Rangeley Rd:geo:-68.6626623,44.8929612
END:VEVENT
END:VCALENDAR