BEGIN:VCALENDAR
VERSION:2.0
PRODID:-//Versant Power Astronomy Center and Maynard Jordan Planetarium - ECPv6.15.17.1//NONSGML v1.0//EN
CALSCALE:GREGORIAN
METHOD:PUBLISH
X-WR-CALNAME:Versant Power Astronomy Center and Maynard Jordan Planetarium
X-ORIGINAL-URL:https://astro.umaine.edu
X-WR-CALDESC:Events for Versant Power Astronomy Center and Maynard Jordan Planetarium
REFRESH-INTERVAL;VALUE=DURATION:PT1H
X-Robots-Tag:noindex
X-PUBLISHED-TTL:PT1H
BEGIN:VTIMEZONE
TZID:America/New_York
BEGIN:DAYLIGHT
TZOFFSETFROM:-0500
TZOFFSETTO:-0400
TZNAME:EDT
DTSTART:20170312T070000
END:DAYLIGHT
BEGIN:STANDARD
TZOFFSETFROM:-0400
TZOFFSETTO:-0500
TZNAME:EST
DTSTART:20171105T060000
END:STANDARD
BEGIN:DAYLIGHT
TZOFFSETFROM:-0500
TZOFFSETTO:-0400
TZNAME:EDT
DTSTART:20180311T070000
END:DAYLIGHT
BEGIN:STANDARD
TZOFFSETFROM:-0400
TZOFFSETTO:-0500
TZNAME:EST
DTSTART:20181104T060000
END:STANDARD
BEGIN:DAYLIGHT
TZOFFSETFROM:-0500
TZOFFSETTO:-0400
TZNAME:EDT
DTSTART:20190310T070000
END:DAYLIGHT
BEGIN:STANDARD
TZOFFSETFROM:-0400
TZOFFSETTO:-0500
TZNAME:EST
DTSTART:20191103T060000
END:STANDARD
END:VTIMEZONE
BEGIN:VEVENT
DTSTART;TZID=America/New_York:20180826T140000
DTEND;TZID=America/New_York:20180826T150000
DTSTAMP:20260421T013602
CREATED:20180402T191324Z
LAST-MODIFIED:20180402T191324Z
UID:10002340-1535292000-1535295600@astro.umaine.edu
SUMMARY:In My Backyard
DESCRIPTION:With song and colorful animation it is an adventure to explore a backyard like this one with children’s song writer\, Fred Penner\, of Nickelodeon fame. His excitement and love of nature takes visitors on a tour of daytime discovery and then the wonders of the night sky. The changing seasons\, rainbows\, constellation patterns\, planets and moon phases set to music are just a few of the treats in store. From day to night to sunrise\, looking at the world and space around us\, In My Backyard is a journey that shows how much fun learning about our world can be. \nTrailer \nTickets for planetarium programs are $6 for Adults\, $5 for UMaine Students/Veterans/Senior Citizens\, and $4 for children under 12. Click here to view our calendar. \nTickets may be purchased online\, by phone at 207.581.1341\, or at our ticket box office prior to the show.
URL:https://astro.umaine.edu/event/in-my-backyard-4/2018-08-26/
LOCATION:Versant Power Astronomy Center\, 167 Rangeley Rd\, Orono\, ME\, 04469\, United States
CATEGORIES:Public Program
ATTACH;FMTTYPE=image/jpeg:https://astro.umaine.edu/wp-content/uploads/sites/165/2016/05/IMB_16x9.jpg
ORGANIZER;CN="Versant Power Astronomy Center":MAILTO:planetarium@maine.edu
GEO:44.8929612;-68.6626623
X-APPLE-STRUCTURED-LOCATION;VALUE=URI;X-ADDRESS=Versant Power Astronomy Center 167 Rangeley Rd Orono ME 04469 United States;X-APPLE-RADIUS=500;X-TITLE=167 Rangeley Rd:geo:-68.6626623,44.8929612
END:VEVENT
BEGIN:VEVENT
DTSTART;TZID=America/New_York:20180828T140000
DTEND;TZID=America/New_York:20180828T150000
DTSTAMP:20260421T013602
CREATED:20180509T150416Z
LAST-MODIFIED:20180509T150416Z
UID:10002266-1535464800-1535468400@astro.umaine.edu
SUMMARY:Magic Treehouse: Space Mission
DESCRIPTION:Travel with the brother-sister duo\, Jack and Annie\, in their Magic Treehouse as they discover a note that asks them to answer a series of six questions about space. With the help of an astronomer\, the Internet\, an astronaut\, books and the writer of the mysterious note\, Jack and Annie are taken on a wondrous journey of adventure and learning. \nThis exciting voyage will carry visitors to the planets and far out into the Universe where Jack and Annie nearly get… Well\, we don’t want to give it away. The adventure is just beginning!\nBased on the popular book series by Mary Pope Osborne. \nTrailer \nTickets for planetarium programs are $6 for Adults\, $5 for UMaine Students/Veterans/Senior Citizens\, and $4 for children under 12. Click here to view our calendar. \nTickets may be purchased online\, by phone at 207.581.1341\, or at our ticket box office prior to the show.
URL:https://astro.umaine.edu/event/magic-treehouse-space-mission-21/
LOCATION:Versant Power Astronomy Center\, 167 Rangeley Rd\, Orono\, ME\, 04469\, United States
CATEGORIES:Public Program
ATTACH;FMTTYPE=image/jpeg:https://astro.umaine.edu/wp-content/uploads/sites/165/2016/05/MTH_16x9.jpg
ORGANIZER;CN="Versant Power Astronomy Center":MAILTO:planetarium@maine.edu
GEO:44.8929612;-68.6626623
X-APPLE-STRUCTURED-LOCATION;VALUE=URI;X-ADDRESS=Versant Power Astronomy Center 167 Rangeley Rd Orono ME 04469 United States;X-APPLE-RADIUS=500;X-TITLE=167 Rangeley Rd:geo:-68.6626623,44.8929612
END:VEVENT
BEGIN:VEVENT
DTSTART;TZID=America/New_York:20180830T140000
DTEND;TZID=America/New_York:20180830T150000
DTSTAMP:20260421T013602
CREATED:20180509T160732Z
LAST-MODIFIED:20180509T160732Z
UID:10002307-1535637600-1535641200@astro.umaine.edu
SUMMARY:Cosmic Recipe
DESCRIPTION:The famous astronomer Carl Sagan once said: “If you wish to make an apple pie from scratch\, you must first invent the universe.”  Though that may sound crazy\, Sagan was onto something BIG! Want to know what? Pull up a chair at our Planetarium’s Periodic Table and learn the cosmic recipes that created everything in our world – even us!   Discover how the Big Bang cooked up everyday elements such as the calcium in our teeth\, the silicon in our smart phones\, and even the carbon in our apple pies in The Cosmic Recipe. \nTickets for planetarium programs are $6 for Adults\, $5 for UMaine Students/Veterans/Senior Citizens\, and $4 for children under 12. Click here to view our calendar. \nTickets may be purchased online\, by phone at 207.581.1341\, or at our ticket box office prior to the show.
URL:https://astro.umaine.edu/event/cosmic-recipe-3/
LOCATION:Versant Power Astronomy Center\, 167 Rangeley Rd\, Orono\, ME\, 04469\, United States
CATEGORIES:Public Program
ATTACH;FMTTYPE=image/jpeg:https://astro.umaine.edu/wp-content/uploads/sites/165/2017/09/CosmicRecipePosterFDDB2_16x9.jpg
ORGANIZER;CN="Versant Power Astronomy Center":MAILTO:planetarium@maine.edu
GEO:44.8929612;-68.6626623
X-APPLE-STRUCTURED-LOCATION;VALUE=URI;X-ADDRESS=Versant Power Astronomy Center 167 Rangeley Rd Orono ME 04469 United States;X-APPLE-RADIUS=500;X-TITLE=167 Rangeley Rd:geo:-68.6626623,44.8929612
END:VEVENT
BEGIN:VEVENT
DTSTART;TZID=America/New_York:20180831T140000
DTEND;TZID=America/New_York:20180831T150000
DTSTAMP:20260421T013602
CREATED:20180509T153158Z
LAST-MODIFIED:20180509T153158Z
UID:10001957-1535724000-1535727600@astro.umaine.edu
SUMMARY:Earth\, Moon\, and Sun
DESCRIPTION:Earth\, Moon\, & Sun is a fast-paced full dome demonstration of lunar phases\, eclipses\, day and night\, the sun and other puzzling events with the help of a confused coyote. This program beautifully illustrates basic concepts like moon phases and seasons. Based on the trickster of Native American lore\, Coyote is constantly corrected in his misunderstandings of how things work. A live tour of the Maine sky and its beautiful constellations completes this micro-unit of astronomy. \nTrailer \nTickets for planetarium programs are $6 for Adults\, $5 for UMaine Students/Veterans/Senior Citizens\, and $4 for children under 12. Click here to view our calendar. \nTickets may be purchased online\, by phone at 207.581.1341\, or at our ticket box office prior to the show.
URL:https://astro.umaine.edu/event/earth-moon-sun-18/
LOCATION:Versant Power Astronomy Center\, 167 Rangeley Rd\, Orono\, ME\, 04469\, United States
CATEGORIES:Public Program
ATTACH;FMTTYPE=image/jpeg:https://astro.umaine.edu/wp-content/uploads/sites/165/2016/05/EMS_16x9.jpg
ORGANIZER;CN="Versant Power Astronomy Center":MAILTO:planetarium@maine.edu
GEO:44.8929612;-68.6626623
X-APPLE-STRUCTURED-LOCATION;VALUE=URI;X-ADDRESS=Versant Power Astronomy Center 167 Rangeley Rd Orono ME 04469 United States;X-APPLE-RADIUS=500;X-TITLE=167 Rangeley Rd:geo:-68.6626623,44.8929612
END:VEVENT
BEGIN:VEVENT
DTSTART;TZID=America/New_York:20180831T190000
DTEND;TZID=America/New_York:20180831T200000
DTSTAMP:20260421T013602
CREATED:20180402T200159Z
LAST-MODIFIED:20180402T200159Z
UID:10002276-1535742000-1535745600@astro.umaine.edu
SUMMARY:Mars 1001
DESCRIPTION:An international crew is about to embark on the first interplanetary journey in history\, the first manned mission to the surface of Mars!  Science reporter Miles O’Brien is reporting while events unfold for the crew on their daring 1001 day long mission.  Witness firsthand their brave attempts to put human footprints on Mars and return safely to Earth.  This journey will be extending our knowledge of Mars and will be determining whether or not mankind has a future among the stars.  Experience the thrill of the grandest mission of exploration ever undertaken – humans going to Mars! \nTrailer \nTickets for planetarium programs are $6 for Adults\, $5 for UMaine Students/Veterans/Senior Citizens\, and $4 for children under 12. Click here to view our calendar. \nTickets may be purchased online\, by phone at 207.581.1341\, or at our ticket box office prior to the show.
URL:https://astro.umaine.edu/event/mars-1001/2018-08-31/
LOCATION:Versant Power Astronomy Center\, 167 Rangeley Rd\, Orono\, ME\, 04469\, United States
CATEGORIES:Public Program
ATTACH;FMTTYPE=image/jpeg:https://astro.umaine.edu/wp-content/uploads/sites/165/2018/04/mars169.jpg
ORGANIZER;CN="Versant Power Astronomy Center":MAILTO:planetarium@maine.edu
GEO:44.8929612;-68.6626623
X-APPLE-STRUCTURED-LOCATION;VALUE=URI;X-ADDRESS=Versant Power Astronomy Center 167 Rangeley Rd Orono ME 04469 United States;X-APPLE-RADIUS=500;X-TITLE=167 Rangeley Rd:geo:-68.6626623,44.8929612
END:VEVENT
END:VCALENDAR