BEGIN:VCALENDAR
VERSION:2.0
PRODID:-//Versant Power Astronomy Center and Maynard Jordan Planetarium - ECPv6.15.17.1//NONSGML v1.0//EN
CALSCALE:GREGORIAN
METHOD:PUBLISH
X-WR-CALNAME:Versant Power Astronomy Center and Maynard Jordan Planetarium
X-ORIGINAL-URL:https://astro.umaine.edu
X-WR-CALDESC:Events for Versant Power Astronomy Center and Maynard Jordan Planetarium
REFRESH-INTERVAL;VALUE=DURATION:PT1H
X-Robots-Tag:noindex
X-PUBLISHED-TTL:PT1H
BEGIN:VTIMEZONE
TZID:America/New_York
BEGIN:DAYLIGHT
TZOFFSETFROM:-0500
TZOFFSETTO:-0400
TZNAME:EDT
DTSTART:20170312T070000
END:DAYLIGHT
BEGIN:STANDARD
TZOFFSETFROM:-0400
TZOFFSETTO:-0500
TZNAME:EST
DTSTART:20171105T060000
END:STANDARD
BEGIN:DAYLIGHT
TZOFFSETFROM:-0500
TZOFFSETTO:-0400
TZNAME:EDT
DTSTART:20180311T070000
END:DAYLIGHT
BEGIN:STANDARD
TZOFFSETFROM:-0400
TZOFFSETTO:-0500
TZNAME:EST
DTSTART:20181104T060000
END:STANDARD
BEGIN:DAYLIGHT
TZOFFSETFROM:-0500
TZOFFSETTO:-0400
TZNAME:EDT
DTSTART:20190310T070000
END:DAYLIGHT
BEGIN:STANDARD
TZOFFSETFROM:-0400
TZOFFSETTO:-0500
TZNAME:EST
DTSTART:20191103T060000
END:STANDARD
END:VTIMEZONE
BEGIN:VEVENT
DTSTART;TZID=America/New_York:20180916T140000
DTEND;TZID=America/New_York:20180916T150000
DTSTAMP:20260420T212200
CREATED:20180402T193535Z
LAST-MODIFIED:20180402T193535Z
UID:10002347-1537106400-1537110000@astro.umaine.edu
SUMMARY:Polaris: Mystery of the Polar Night
DESCRIPTION:A traveling penguin from the South Pole and a funny polar bear from the North pole meet on arctic sea ice.  They become friends observing the night sky together and wondering why night is so long at the poles of the Earth. This mystery leads them on a scientific adventure by building an improvised spaceship to travel around the Earth to learn about seasons\, visit Mars and Saturn to learn about ice in the solar system and how planets have similarities and differences which make them unique. \nTickets for planetarium programs are $6 for Adults\, $5 for UMaine Students/Veterans/Senior Citizens\, and $4 for children under 12. Click here to view our calendar. \nTickets may be purchased online\, by phone at 207.581.1341\, or at our ticket box office prior to the show.
URL:https://astro.umaine.edu/event/polaris-mystery-polar-night-4/2018-09-16/
LOCATION:Versant Power Astronomy Center\, 167 Rangeley Rd\, Orono\, ME\, 04469\, United States
CATEGORIES:Public Program
ATTACH;FMTTYPE=image/jpeg:https://astro.umaine.edu/wp-content/uploads/sites/165/2017/02/polaris16x9.jpg
ORGANIZER;CN="Versant Power Astronomy Center":MAILTO:planetarium@maine.edu
GEO:44.8929612;-68.6626623
X-APPLE-STRUCTURED-LOCATION;VALUE=URI;X-ADDRESS=Versant Power Astronomy Center 167 Rangeley Rd Orono ME 04469 United States;X-APPLE-RADIUS=500;X-TITLE=167 Rangeley Rd:geo:-68.6626623,44.8929612
END:VEVENT
BEGIN:VEVENT
DTSTART;TZID=America/New_York:20180921T190000
DTEND;TZID=America/New_York:20180921T200000
DTSTAMP:20260420T212200
CREATED:20180402T192822Z
LAST-MODIFIED:20180402T192957Z
UID:10002343-1537556400-1537560000@astro.umaine.edu
SUMMARY:Cell! Cell! Cell!
DESCRIPTION:You are made of 70 trillion living cells. They work. They talk. They think. They are what make you alive. This is the story of the trillions of cells that form our bodies\, from our beginnings as a single cell to the complexity of a whole body: it’s the story of who we are. Join Raj and Sooki on a totally ex-CELL-ent immersive journey. Get shrunk down by the Shrink-a-tron\, go back in time with the Retroscope and see an exploded view of all the body systems courtesy of the Cell-o-tron. Find out how cool cells really are! \nTrailer \nTickets for planetarium programs are $6 for Adults\, $5 for UMaine Students/Veterans/Senior Citizens\, and $4 for children under 12. Click here to view our calendar. \nTickets may be purchased online\, by phone at 207.581.1341\, or at our ticket box office prior to the show.
URL:https://astro.umaine.edu/event/cell-cell-cell/2018-09-21/
LOCATION:Versant Power Astronomy Center\, 167 Rangeley Rd\, Orono\, ME\, 04469\, United States
CATEGORIES:Public Program
ATTACH;FMTTYPE=image/jpeg:https://astro.umaine.edu/wp-content/uploads/sites/165/2016/05/cell_16x9.jpg
ORGANIZER;CN="Versant Power Astronomy Center":MAILTO:planetarium@maine.edu
GEO:44.8929612;-68.6626623
X-APPLE-STRUCTURED-LOCATION;VALUE=URI;X-ADDRESS=Versant Power Astronomy Center 167 Rangeley Rd Orono ME 04469 United States;X-APPLE-RADIUS=500;X-TITLE=167 Rangeley Rd:geo:-68.6626623,44.8929612
END:VEVENT
BEGIN:VEVENT
DTSTART;TZID=America/New_York:20180922T100000
DTEND;TZID=America/New_York:20180922T110000
DTSTAMP:20260420T212200
CREATED:20180613T182717Z
LAST-MODIFIED:20180613T182717Z
UID:10002309-1537610400-1537614000@astro.umaine.edu
SUMMARY:Explore!
DESCRIPTION:Mars… For centuries it’s been an object of human fascination. Once mysterious\, soon this red world may become our new home. This became possible due to daring individuals like Johannes Kepler: fascinated with the world\, striving toward discovery and embracing challenges it may bring. It is our duty to continue their work… Explore\, Dream Discover.  Take an adventurous journey with humankind: from ancient Mesopotamia to modern space exploration!  Experience the fascinating history of astronomy\, geocentric and heliocentric models\, Kepler laws of planetary motion\, and discover the principals of orbital maneuvers which enable satellites and space travel. \nTickets for planetarium programs are $6 for Adults\, $5 for UMaine Students/Veterans/Senior Citizens\, and $4 for children under 12. Click here to view our calendar. \nTickets may be purchased online\, by phone at 207.581.1341\, or at our ticket box office prior to the show.
URL:https://astro.umaine.edu/event/explore-4/
LOCATION:Versant Power Astronomy Center\, 167 Rangeley Rd\, Orono\, ME\, 04469\, United States
CATEGORIES:Public Program
ATTACH;FMTTYPE=image/jpeg:https://astro.umaine.edu/wp-content/uploads/sites/165/2017/11/Explore_16x9.jpg
ORGANIZER;CN="Versant Power Astronomy Center":MAILTO:planetarium@maine.edu
GEO:44.8929612;-68.6626623
X-APPLE-STRUCTURED-LOCATION;VALUE=URI;X-ADDRESS=Versant Power Astronomy Center 167 Rangeley Rd Orono ME 04469 United States;X-APPLE-RADIUS=500;X-TITLE=167 Rangeley Rd:geo:-68.6626623,44.8929612
END:VEVENT
BEGIN:VEVENT
DTSTART;TZID=America/New_York:20180922T113000
DTEND;TZID=America/New_York:20180922T123000
DTSTAMP:20260420T212200
CREATED:20180613T183020Z
LAST-MODIFIED:20180613T183020Z
UID:10002314-1537615800-1537619400@astro.umaine.edu
SUMMARY:Out There: The Quest for Extrasolar Worlds
DESCRIPTION:For thousands of years\, mankind thought that the Earth was the center of the Universe. Thanks to our curiosity\, imagination and urge to explore\, we now know that planets like our Earth are nothing special in the cosmos. The Sun is just one ordinary star among hundreds of billions in our galaxy\, the Milky Way. With the world’s most powerful telescopes\, we are able to explore more and more of the Universe. What we have found so far has surpassed even the wildest expectations of scientists as well as authors of science fiction. Most stars have planets — it turns out they are more common than we thought. A huge diversity of different worlds is out there\, just waiting to be discovered. Join as we explore these new worlds! \nTickets for planetarium programs are $6 for Adults\, $5 for UMaine Students/Veterans/Senior Citizens\, and $4 for children under 12. Click here to view our calendar. \nTickets may be purchased online\, by phone at 207.581.1341\, or at our ticket box office prior to the show.
URL:https://astro.umaine.edu/event/quest-extrasolar-worlds-3/
LOCATION:Versant Power Astronomy Center\, 167 Rangeley Rd\, Orono\, ME\, 04469\, United States
CATEGORIES:Public Program
ATTACH;FMTTYPE=image/jpeg:https://astro.umaine.edu/wp-content/uploads/sites/165/2017/09/OutThere_16x9.jpg
ORGANIZER;CN="Versant Power Astronomy Center":MAILTO:planetarium@maine.edu
GEO:44.8929612;-68.6626623
X-APPLE-STRUCTURED-LOCATION;VALUE=URI;X-ADDRESS=Versant Power Astronomy Center 167 Rangeley Rd Orono ME 04469 United States;X-APPLE-RADIUS=500;X-TITLE=167 Rangeley Rd:geo:-68.6626623,44.8929612
END:VEVENT
BEGIN:VEVENT
DTSTART;TZID=America/New_York:20180922T130000
DTEND;TZID=America/New_York:20180922T140000
DTSTAMP:20260420T212200
CREATED:20180919T162120Z
LAST-MODIFIED:20180919T162120Z
UID:10002050-1537621200-1537624800@astro.umaine.edu
SUMMARY:Mars 1001
DESCRIPTION:An international crew is about to embark on the first interplanetary journey in history\, the first manned mission to the surface of Mars!  Science reporter Miles O’Brien is reporting while events unfold for the crew on their daring 1001 day long mission.  Witness firsthand their brave attempts to put human footprints on Mars and return safely to Earth.  This journey will be extending our knowledge of Mars and will be determining whether or not mankind has a future among the stars.  Experience the thrill of the grandest mission of exploration ever undertaken – humans going to Mars! \nTrailer \nTickets for planetarium programs are $6 for Adults\, $5 for UMaine Students/Veterans/Senior Citizens\, and $4 for children under 12. Click here to view our calendar. \nTickets may be purchased online\, by phone at 207.581.1341\, or at our ticket box office prior to the show.
URL:https://astro.umaine.edu/event/mars-1001-6/
LOCATION:Versant Power Astronomy Center\, 167 Rangeley Rd\, Orono\, ME\, 04469\, United States
CATEGORIES:Public Program
ATTACH;FMTTYPE=image/jpeg:https://astro.umaine.edu/wp-content/uploads/sites/165/2018/04/mars169.jpg
ORGANIZER;CN="Versant Power Astronomy Center":MAILTO:planetarium@maine.edu
GEO:44.8929612;-68.6626623
X-APPLE-STRUCTURED-LOCATION;VALUE=URI;X-ADDRESS=Versant Power Astronomy Center 167 Rangeley Rd Orono ME 04469 United States;X-APPLE-RADIUS=500;X-TITLE=167 Rangeley Rd:geo:-68.6626623,44.8929612
END:VEVENT
BEGIN:VEVENT
DTSTART;TZID=America/New_York:20180922T143000
DTEND;TZID=America/New_York:20180922T153000
DTSTAMP:20260420T212200
CREATED:20180613T183305Z
LAST-MODIFIED:20180613T183305Z
UID:10002354-1537626600-1537630200@astro.umaine.edu
SUMMARY:Mars 1001
DESCRIPTION:An international crew is about to embark on the first interplanetary journey in history\, the first manned mission to the surface of Mars!  Science reporter Miles O’Brien is reporting while events unfold for the crew on their daring 1001 day long mission.  Witness firsthand their brave attempts to put human footprints on Mars and return safely to Earth.  This journey will be extending our knowledge of Mars and will be determining whether or not mankind has a future among the stars.  Experience the thrill of the grandest mission of exploration ever undertaken – humans going to Mars! \nTrailer \nTickets for planetarium programs are $6 for Adults\, $5 for UMaine Students/Veterans/Senior Citizens\, and $4 for children under 12. Click here to view our calendar. \nTickets may be purchased online\, by phone at 207.581.1341\, or at our ticket box office prior to the show.
URL:https://astro.umaine.edu/event/mars-1001-2/
LOCATION:Versant Power Astronomy Center\, 167 Rangeley Rd\, Orono\, ME\, 04469\, United States
CATEGORIES:Public Program
ATTACH;FMTTYPE=image/jpeg:https://astro.umaine.edu/wp-content/uploads/sites/165/2018/04/mars169.jpg
ORGANIZER;CN="Versant Power Astronomy Center":MAILTO:planetarium@maine.edu
GEO:44.8929612;-68.6626623
X-APPLE-STRUCTURED-LOCATION;VALUE=URI;X-ADDRESS=Versant Power Astronomy Center 167 Rangeley Rd Orono ME 04469 United States;X-APPLE-RADIUS=500;X-TITLE=167 Rangeley Rd:geo:-68.6626623,44.8929612
END:VEVENT
BEGIN:VEVENT
DTSTART;TZID=America/New_York:20180922T160000
DTEND;TZID=America/New_York:20180922T170000
DTSTAMP:20260420T212200
CREATED:20180613T183550Z
LAST-MODIFIED:20180613T183550Z
UID:10002355-1537632000-1537635600@astro.umaine.edu
SUMMARY:Phantom of the Universe
DESCRIPTION:From the journey of protons racing through the world’s largest particle collider to up-close views of the Big Bang and emergent universe\, and the nearly mile-deep descent to an underground experiment\, Phantom of the Universe immerses audiences in the search for dark matter. Explore this mysterious matter and how we are using discoveries at the Large Hadron Collider to get closer to discovering the true nature of Dark Matter. View the first hints of its existence through the eyes of Fritz Zwicky\, the scientist who coined the term “dark matter.” Explore the astral choreography witnessed by Vera Rubin in the Andromeda galaxy\, and then plummet deep underground to see the most sensitive dark matter detector on Earth\, housed in a former gold mine.  Speed alongside particles before they collide in visually stunning explosions of light and sound at Large Hadron Collider at CERN\, while learning how scientists around the world are collaborating to track down the constituents of dark matter. Executive Producer Michael Barnett of Lawrence Berkeley National Laboratory served as an advisor to PBS’s NOVA series Elegant Universe and the feature film Angels & Demons. Featuring narration by Academy-Award winning actress Tilda Swinton\, Phantom of the Universe showcases imagery from CERN’s Media Lab. \nTickets for planetarium programs are $6 for Adults\, $5 for UMaine Students/Veterans/Senior Citizens\, and $4 for children under 12. Click here to view our calendar. \nTickets may be purchased online\, by phone at 207.581.1341\, or at our ticket box office prior to the show.
URL:https://astro.umaine.edu/event/phantom-of-the-universe-3/
LOCATION:Versant Power Astronomy Center\, 167 Rangeley Rd\, Orono\, ME\, 04469\, United States
CATEGORIES:Public Program
ORGANIZER;CN="Versant Power Astronomy Center":MAILTO:planetarium@maine.edu
GEO:44.8929612;-68.6626623
X-APPLE-STRUCTURED-LOCATION;VALUE=URI;X-ADDRESS=Versant Power Astronomy Center 167 Rangeley Rd Orono ME 04469 United States;X-APPLE-RADIUS=500;X-TITLE=167 Rangeley Rd:geo:-68.6626623,44.8929612
END:VEVENT
BEGIN:VEVENT
DTSTART;TZID=America/New_York:20180922T173000
DTEND;TZID=America/New_York:20180922T183000
DTSTAMP:20260420T212200
CREATED:20180921T141919Z
LAST-MODIFIED:20180921T141919Z
UID:10002402-1537637400-1537641000@astro.umaine.edu
SUMMARY:Phantom of the Universe
DESCRIPTION:From the journey of protons racing through the world’s largest particle collider to up-close views of the Big Bang and emergent universe\, and the nearly mile-deep descent to an underground experiment\, Phantom of the Universe immerses audiences in the search for dark matter. Explore this mysterious matter and how we are using discoveries at the Large Hadron Collider to get closer to discovering the true nature of Dark Matter. View the first hints of its existence through the eyes of Fritz Zwicky\, the scientist who coined the term “dark matter.” Explore the astral choreography witnessed by Vera Rubin in the Andromeda galaxy\, and then plummet deep underground to see the most sensitive dark matter detector on Earth\, housed in a former gold mine.  Speed alongside particles before they collide in visually stunning explosions of light and sound at Large Hadron Collider at CERN\, while learning how scientists around the world are collaborating to track down the constituents of dark matter. Executive Producer Michael Barnett of Lawrence Berkeley National Laboratory served as an advisor to PBS’s NOVA series Elegant Universe and the feature film Angels & Demons. Featuring narration by Academy-Award winning actress Tilda Swinton\, Phantom of the Universe showcases imagery from CERN’s Media Lab. \nTickets for planetarium programs are $6 for Adults\, $5 for UMaine Students/Veterans/Senior Citizens\, and $4 for children under 12. Click here to view our calendar. \nTickets may be purchased online\, by phone at 207.581.1341\, or at our ticket box office prior to the show.
URL:https://astro.umaine.edu/event/phantom-of-the-universe-4/
LOCATION:Versant Power Astronomy Center\, 167 Rangeley Rd\, Orono\, ME\, 04469\, United States
CATEGORIES:Public Program
ORGANIZER;CN="Versant Power Astronomy Center":MAILTO:planetarium@maine.edu
GEO:44.8929612;-68.6626623
X-APPLE-STRUCTURED-LOCATION;VALUE=URI;X-ADDRESS=Versant Power Astronomy Center 167 Rangeley Rd Orono ME 04469 United States;X-APPLE-RADIUS=500;X-TITLE=167 Rangeley Rd:geo:-68.6626623,44.8929612
END:VEVENT
END:VCALENDAR