BEGIN:VCALENDAR
VERSION:2.0
PRODID:-//Versant Power Astronomy Center and Maynard Jordan Planetarium - ECPv6.15.17.1//NONSGML v1.0//EN
CALSCALE:GREGORIAN
METHOD:PUBLISH
X-WR-CALNAME:Versant Power Astronomy Center and Maynard Jordan Planetarium
X-ORIGINAL-URL:https://astro.umaine.edu
X-WR-CALDESC:Events for Versant Power Astronomy Center and Maynard Jordan Planetarium
REFRESH-INTERVAL;VALUE=DURATION:PT1H
X-Robots-Tag:noindex
X-PUBLISHED-TTL:PT1H
BEGIN:VTIMEZONE
TZID:America/New_York
BEGIN:DAYLIGHT
TZOFFSETFROM:-0500
TZOFFSETTO:-0400
TZNAME:EDT
DTSTART:20170312T070000
END:DAYLIGHT
BEGIN:STANDARD
TZOFFSETFROM:-0400
TZOFFSETTO:-0500
TZNAME:EST
DTSTART:20171105T060000
END:STANDARD
BEGIN:DAYLIGHT
TZOFFSETFROM:-0500
TZOFFSETTO:-0400
TZNAME:EDT
DTSTART:20180311T070000
END:DAYLIGHT
BEGIN:STANDARD
TZOFFSETFROM:-0400
TZOFFSETTO:-0500
TZNAME:EST
DTSTART:20181104T060000
END:STANDARD
BEGIN:DAYLIGHT
TZOFFSETFROM:-0500
TZOFFSETTO:-0400
TZNAME:EDT
DTSTART:20190310T070000
END:DAYLIGHT
BEGIN:STANDARD
TZOFFSETFROM:-0400
TZOFFSETTO:-0500
TZNAME:EST
DTSTART:20191103T060000
END:STANDARD
END:VTIMEZONE
BEGIN:VEVENT
DTSTART;TZID=America/New_York:20181021T140000
DTEND;TZID=America/New_York:20181021T150000
DTSTAMP:20260421T003226
CREATED:20180402T194450Z
LAST-MODIFIED:20180402T194450Z
UID:10002323-1540130400-1540134000@astro.umaine.edu
SUMMARY:Legends of the Night Sky - Perseus and Andromeda
DESCRIPTION:Perseus and Andromeda is a fun-filled retelling of the tale of the beautiful but unfortunate princess Andromeda\, who in divine punishment for her mother’s bragging\, is sacrificed to a sea monster—and rescued by the Greek hero Perseus. \nTrailer \nTickets for planetarium programs are $6 for Adults\, $5 for UMaine Students/Veterans/Senior Citizens\, and $4 for children under 12. Click here to view our calendar. \nTickets may be purchased online\, by phone at 207.581.1341\, or at our ticket box office prior to the show.
URL:https://astro.umaine.edu/event/legends-night-sky-perseus-andromeda-3/2018-10-21/
LOCATION:Versant Power Astronomy Center\, 167 Rangeley Rd\, Orono\, ME\, 04469\, United States
CATEGORIES:Public Program
ATTACH;FMTTYPE=image/jpeg:https://astro.umaine.edu/wp-content/uploads/sites/165/2016/05/PerseusAndromeda_16x9.jpg
ORGANIZER;CN="Versant Power Astronomy Center":MAILTO:planetarium@maine.edu
GEO:44.8929612;-68.6626623
X-APPLE-STRUCTURED-LOCATION;VALUE=URI;X-ADDRESS=Versant Power Astronomy Center 167 Rangeley Rd Orono ME 04469 United States;X-APPLE-RADIUS=500;X-TITLE=167 Rangeley Rd:geo:-68.6626623,44.8929612
END:VEVENT
BEGIN:VEVENT
DTSTART;TZID=America/New_York:20181026T190000
DTEND;TZID=America/New_York:20181026T200000
DTSTAMP:20260421T003226
CREATED:20180402T194008Z
LAST-MODIFIED:20180402T194008Z
UID:10002353-1540580400-1540584000@astro.umaine.edu
SUMMARY:Halloween: Celestial Origins
DESCRIPTION:Vampires\, Witches\, Goblins\, and other spooky creatures!  What do you associate with Halloween? Trick-or-Treating\, costumes\, or something more…  Be it ghoulish or ghostly\, Halloween is an astronomical holiday!  Experience the history of Halloween and how it fits into the seasons as a “cross-quarter day.”  From Celtic roots around the harvest and bonfires to modern celebrations\, see why the night is celebrated as one of spirits from beyond and sweet treats!   See how Samhain\, and All Saints Day would eventually transform into Halloween. Traverse the night sky and learn what planets\, constellations\, and stars will be out on your Halloween evening. A fun filled program for the whole family! \nTickets for planetarium programs are $6 for Adults\, $5 for UMaine Students/Veterans/Senior Citizens\, and $4 for children under 12. Click here to view our calendar. \nTickets may be purchased online\, by phone at 207.581.1341\, or at our ticket box office prior to the show.
URL:https://astro.umaine.edu/event/halloween-celestial-origins-2/2018-10-26/
LOCATION:Versant Power Astronomy Center\, 167 Rangeley Rd\, Orono\, ME\, 04469\, United States
CATEGORIES:Public Program
ATTACH;FMTTYPE=image/jpeg:https://astro.umaine.edu/wp-content/uploads/sites/165/2017/10/Halloween_Celestial_Origins_16x9.jpg
ORGANIZER;CN="Versant Power Astronomy Center":MAILTO:planetarium@maine.edu
GEO:44.8929612;-68.6626623
X-APPLE-STRUCTURED-LOCATION;VALUE=URI;X-ADDRESS=Versant Power Astronomy Center 167 Rangeley Rd Orono ME 04469 United States;X-APPLE-RADIUS=500;X-TITLE=167 Rangeley Rd:geo:-68.6626623,44.8929612
END:VEVENT
BEGIN:VEVENT
DTSTART;TZID=America/New_York:20181026T201500
DTEND;TZID=America/New_York:20181026T211500
DTSTAMP:20260421T003226
CREATED:20181026T142629Z
LAST-MODIFIED:20181026T142746Z
UID:10002508-1540584900-1540588500@astro.umaine.edu
SUMMARY:Halloween: Celestial Origins
DESCRIPTION:Vampires\, Witches\, Goblins\, and other spooky creatures!  What do you associate with Halloween? Trick-or-Treating\, costumes\, or something more…  Be it ghoulish or ghostly\, Halloween is an astronomical holiday!  Experience the history of Halloween and how it fits into the seasons as a “cross-quarter day.”  From Celtic roots around the harvest and bonfires to modern celebrations\, see why the night is celebrated as one of spirits from beyond and sweet treats!   See how Samhain\, and All Saints Day would eventually transform into Halloween. Traverse the night sky and learn what planets\, constellations\, and stars will be out on your Halloween evening. A fun filled program for the whole family! \nTickets for planetarium programs are $6 for Adults\, $5 for UMaine Students/Veterans/Senior Citizens\, and $4 for children under 12. Click here to view our calendar. \nTickets may be purchased online\, by phone at 207.581.1341\, or at our ticket box office prior to the show.
URL:https://astro.umaine.edu/event/halloween-celestial-origins-3/
LOCATION:ME
CATEGORIES:Public Program
ATTACH;FMTTYPE=image/jpeg:https://astro.umaine.edu/wp-content/uploads/sites/165/2017/10/Halloween_Celestial_Origins_16x9.jpg
END:VEVENT
END:VCALENDAR