BEGIN:VCALENDAR
VERSION:2.0
PRODID:-//Versant Power Astronomy Center and Maynard Jordan Planetarium - ECPv6.15.17.1//NONSGML v1.0//EN
CALSCALE:GREGORIAN
METHOD:PUBLISH
X-WR-CALNAME:Versant Power Astronomy Center and Maynard Jordan Planetarium
X-ORIGINAL-URL:https://astro.umaine.edu
X-WR-CALDESC:Events for Versant Power Astronomy Center and Maynard Jordan Planetarium
REFRESH-INTERVAL;VALUE=DURATION:PT1H
X-Robots-Tag:noindex
X-PUBLISHED-TTL:PT1H
BEGIN:VTIMEZONE
TZID:America/New_York
BEGIN:DAYLIGHT
TZOFFSETFROM:-0500
TZOFFSETTO:-0400
TZNAME:EDT
DTSTART:20170312T070000
END:DAYLIGHT
BEGIN:STANDARD
TZOFFSETFROM:-0400
TZOFFSETTO:-0500
TZNAME:EST
DTSTART:20171105T060000
END:STANDARD
BEGIN:DAYLIGHT
TZOFFSETFROM:-0500
TZOFFSETTO:-0400
TZNAME:EDT
DTSTART:20180311T070000
END:DAYLIGHT
BEGIN:STANDARD
TZOFFSETFROM:-0400
TZOFFSETTO:-0500
TZNAME:EST
DTSTART:20181104T060000
END:STANDARD
BEGIN:DAYLIGHT
TZOFFSETFROM:-0500
TZOFFSETTO:-0400
TZNAME:EDT
DTSTART:20190310T070000
END:DAYLIGHT
BEGIN:STANDARD
TZOFFSETFROM:-0400
TZOFFSETTO:-0500
TZNAME:EST
DTSTART:20191103T060000
END:STANDARD
END:VTIMEZONE
BEGIN:VEVENT
DTSTART;TZID=America/New_York:20181216T140000
DTEND;TZID=America/New_York:20181216T150000
DTSTAMP:20260421T151424
CREATED:20180817T133418Z
LAST-MODIFIED:20180817T133418Z
UID:10002362-1544968800-1544972400@astro.umaine.edu
SUMMARY:Legends of the Night Sky - Orion
DESCRIPTION:Take a fun and lighthearted look at the myths and stories associated with the constellation Orion\, the great hunter of the winter sky. Orion comes to life in a fun-filled\, animated accompanied by narrators Aesop the owl and Socrates the mouse as we follow Orion’s adventures as he grows to manhood\, battles mythical beasts\, foils the plot of an evil king and wins the heart of Artemis\, the beautiful moon-goddess. We learn how the constellation Orion was placed in the sky\, forever turning overhead throughout the seasons. The program includes a live sky lecture showing where Orion and his companions are located in the Winter Skies. \nTrailer \nTickets for planetarium programs are $6 for Adults\, $5 for UMaine Students/Veterans/Senior Citizens\, and $4 for children under 12. Click here to view our calendar. \nTickets may be purchased online\, by phone at 207.581.1341\, or at our ticket box office prior to the show.
URL:https://astro.umaine.edu/event/legends-night-sky-orion-5/2018-12-16/
LOCATION:Versant Power Astronomy Center\, 167 Rangeley Rd\, Orono\, ME\, 04469\, United States
CATEGORIES:Public Program
ATTACH;FMTTYPE=image/jpeg:https://astro.umaine.edu/wp-content/uploads/sites/165/2016/05/Orion_16x9.jpg
ORGANIZER;CN="Versant Power Astronomy Center":MAILTO:planetarium@maine.edu
GEO:44.8929612;-68.6626623
X-APPLE-STRUCTURED-LOCATION;VALUE=URI;X-ADDRESS=Versant Power Astronomy Center 167 Rangeley Rd Orono ME 04469 United States;X-APPLE-RADIUS=500;X-TITLE=167 Rangeley Rd:geo:-68.6626623,44.8929612
END:VEVENT
BEGIN:VEVENT
DTSTART;TZID=America/New_York:20181216T153000
DTEND;TZID=America/New_York:20181216T163000
DTSTAMP:20260421T151424
CREATED:20181108T164916Z
LAST-MODIFIED:20181108T164916Z
UID:10002511-1544974200-1544977800@astro.umaine.edu
SUMMARY:Mystery of the Christmas Star
DESCRIPTION:Journey back 2000 years to Bethlehem as we seek to discover a scientific explanation for the Star the wise men followed to find the baby Jesus. Investigate possible dates for the birth of Christ and look at recorded sightings of significant historical and astronomical events during this timeframe. We’ll explore scientific explanations for celestial objects that could have been remarkable enough to cause the wise men to travel across the desert from Babylon to Bethlehem just to see a newborn King. Regardless of what the star was\, the message of Peace on Earth and goodwill to all still rings true today! \nTrailer \nTickets for planetarium programs are $6 for Adults\, $5 for UMaine Students/Veterans/Senior Citizens\, and $4 for children under 12. Click here to view our calendar. \nTickets may be purchased online\, by phone at 207.581.1341\, or at our ticket box office prior to the show.
URL:https://astro.umaine.edu/event/mystery-of-the-christmas-star/2018-12-16/
LOCATION:Versant Power Astronomy Center\, 167 Rangeley Rd\, Orono\, ME\, 04469\, United States
CATEGORIES:Public Program
ATTACH;FMTTYPE=image/jpeg:https://astro.umaine.edu/wp-content/uploads/sites/165/2016/05/ChristmasStar_16x9.jpg
ORGANIZER;CN="Versant Power Astronomy Center":MAILTO:planetarium@maine.edu
GEO:44.8929612;-68.6626623
X-APPLE-STRUCTURED-LOCATION;VALUE=URI;X-ADDRESS=Versant Power Astronomy Center 167 Rangeley Rd Orono ME 04469 United States;X-APPLE-RADIUS=500;X-TITLE=167 Rangeley Rd:geo:-68.6626623,44.8929612
END:VEVENT
BEGIN:VEVENT
DTSTART;TZID=America/New_York:20181220T190000
DTEND;TZID=America/New_York:20181220T200000
DTSTAMP:20260421T151424
CREATED:20181120T181813Z
LAST-MODIFIED:20181120T181813Z
UID:10002512-1545332400-1545336000@astro.umaine.edu
SUMMARY:Science Lecture Series: Dr. Kristy Townsend
DESCRIPTION:Kristy Townsend\, Ph.D.\nRemodeling in Our Brain and Nervous System:\nConnections to Obesity and Diabetes\n\n\n\nThursday\, December 20 at 7:00 pm \n\n\n\nObesity and Diabetes are currently global pandemics.  Obesity\, and most cases of diabetes\, stem from an energy imbalance whereby we take in more calories than we burn.  This simple energy equation is actually quite complex at the physiological level\, and involves brain communication with organs and tissues such as the gut\, adipose (fat tissue)\, muscle\, and pancreas.  This talk will explore how our body maintains metabolic health\, how our nervous system remodels in order to regulate hunger and energy expenditure\, and what the research evidence tells us about healthy fats in our diet and on our bodies. \n  \n  \n  \nKristy Townsend\, Ph.D. is Assistant Professor of Neurobiology at University of Maine\, and an expert on the neuroscience of energy balance.  Dr. Townsend was previously an Instructor at Harvard Medical School and Joslin Diabetes Center\, and received a Ph.D. in Neuroscience from Boston University.  The Townsend Lab at UMaine investigates how the brain communicates with adipose (fat) tissue in order to maintain metabolic health\, the plasticity and neuropathy of adipose nerves\, and how the brain undergoes neural remodeling to regulate energy balance. \n\n\n\n\n\n\n \n  \nThe Science Lecture Series at Emera Astronomy Center will take place the third Thursday of each month and is a partnership project with the Maine Science Festival and will feature research from a variety of science disciplines from around our state and use the digital planetarium to visualize these discoveries in a new dramatic and immersive way. \nSeason passes are available for the entire October 2018 – April 2019 Science Lecture Series for $30 for adults\, and $20 for children under 12. They can be purchased by calling 581-1341\, or by inquiring at the box office. \nTickets for planetarium programs are $6 for Adults\, $5 for UMaine Students/Veterans/Senior Citizens\, and $4 for children under 12. Click here to view our calendar. \nTickets are available online at http://astro.umaine.edu\, by calling 581-1341\, or at the box office.
URL:https://astro.umaine.edu/event/science-lecture-series-dr-kristy-townsend/
LOCATION:Versant Power Astronomy Center\, 167 Rangeley Rd\, Orono\, ME\, 04469\, United States
CATEGORIES:Public Program,Science Lecture Series
ATTACH;FMTTYPE=image/jpeg:https://astro.umaine.edu/wp-content/uploads/sites/165/2018/11/Adipose-winning-photo-Townsend-Lab.jpg
ORGANIZER;CN="Versant Power Astronomy Center":MAILTO:planetarium@maine.edu
GEO:44.8929612;-68.6626623
X-APPLE-STRUCTURED-LOCATION;VALUE=URI;X-ADDRESS=Versant Power Astronomy Center 167 Rangeley Rd Orono ME 04469 United States;X-APPLE-RADIUS=500;X-TITLE=167 Rangeley Rd:geo:-68.6626623,44.8929612
END:VEVENT
BEGIN:VEVENT
DTSTART;TZID=America/New_York:20181221T190000
DTEND;TZID=America/New_York:20181221T200000
DTSTAMP:20260421T151424
CREATED:20180817T132809Z
LAST-MODIFIED:20180817T132809Z
UID:10002359-1545418800-1545422400@astro.umaine.edu
SUMMARY:Mystery of the Christmas Star
DESCRIPTION:Journey back 2000 years to Bethlehem as we seek to discover a scientific explanation for the Star the wise men followed to find the baby Jesus. Investigate possible dates for the birth of Christ and look at recorded sightings of significant historical and astronomical events during this timeframe. We’ll explore scientific explanations for celestial objects that could have been remarkable enough to cause the wise men to travel across the desert from Babylon to Bethlehem just to see a newborn King. Regardless of what the star was\, the message of Peace on Earth and goodwill to all still rings true today! \nTrailer \nTickets for planetarium programs are $6 for Adults\, $5 for UMaine Students/Veterans/Senior Citizens\, and $4 for children under 12. Click here to view our calendar. \nTickets may be purchased online\, by phone at 207.581.1341\, or at our ticket box office prior to the show.
URL:https://astro.umaine.edu/event/mystery-christmas-star-6/2018-12-21/
LOCATION:Versant Power Astronomy Center\, 167 Rangeley Rd\, Orono\, ME\, 04469\, United States
CATEGORIES:Public Program
ATTACH;FMTTYPE=image/jpeg:https://astro.umaine.edu/wp-content/uploads/sites/165/2016/05/ChristmasStar_16x9.jpg
ORGANIZER;CN="Versant Power Astronomy Center":MAILTO:planetarium@maine.edu
GEO:44.8929612;-68.6626623
X-APPLE-STRUCTURED-LOCATION;VALUE=URI;X-ADDRESS=Versant Power Astronomy Center 167 Rangeley Rd Orono ME 04469 United States;X-APPLE-RADIUS=500;X-TITLE=167 Rangeley Rd:geo:-68.6626623,44.8929612
END:VEVENT
END:VCALENDAR