BEGIN:VCALENDAR
VERSION:2.0
PRODID:-//Versant Power Astronomy Center and Maynard Jordan Planetarium - ECPv6.15.17.1//NONSGML v1.0//EN
CALSCALE:GREGORIAN
METHOD:PUBLISH
X-WR-CALNAME:Versant Power Astronomy Center and Maynard Jordan Planetarium
X-ORIGINAL-URL:https://astro.umaine.edu
X-WR-CALDESC:Events for Versant Power Astronomy Center and Maynard Jordan Planetarium
REFRESH-INTERVAL;VALUE=DURATION:PT1H
X-Robots-Tag:noindex
X-PUBLISHED-TTL:PT1H
BEGIN:VTIMEZONE
TZID:America/New_York
BEGIN:DAYLIGHT
TZOFFSETFROM:-0500
TZOFFSETTO:-0400
TZNAME:EDT
DTSTART:20180311T070000
END:DAYLIGHT
BEGIN:STANDARD
TZOFFSETFROM:-0400
TZOFFSETTO:-0500
TZNAME:EST
DTSTART:20181104T060000
END:STANDARD
BEGIN:DAYLIGHT
TZOFFSETFROM:-0500
TZOFFSETTO:-0400
TZNAME:EDT
DTSTART:20190310T070000
END:DAYLIGHT
BEGIN:STANDARD
TZOFFSETFROM:-0400
TZOFFSETTO:-0500
TZNAME:EST
DTSTART:20191103T060000
END:STANDARD
BEGIN:DAYLIGHT
TZOFFSETFROM:-0500
TZOFFSETTO:-0400
TZNAME:EDT
DTSTART:20200308T070000
END:DAYLIGHT
BEGIN:STANDARD
TZOFFSETFROM:-0400
TZOFFSETTO:-0500
TZNAME:EST
DTSTART:20201101T060000
END:STANDARD
END:VTIMEZONE
BEGIN:VEVENT
DTSTART;TZID=America/New_York:20190113T140000
DTEND;TZID=America/New_York:20190113T150000
DTSTAMP:20260420T162548
CREATED:20180920T181046Z
LAST-MODIFIED:20190122T211927Z
UID:10002057-1547388000-1547391600@astro.umaine.edu
SUMMARY:Magic Treehouse: Space Mission
DESCRIPTION:Travel with the brother-sister duo\, Jack and Annie\, in their Magic Treehouse as they discover a note that asks them to answer a series of six questions about space. With the help of an astronomer\, the Internet\, an astronaut\, books and the writer of the mysterious note\, Jack and Annie are taken on a wondrous journey of adventure and learning. \nThis exciting voyage will carry visitors to the planets and far out into the Universe where Jack and Annie nearly get… Well\, we don’t want to give it away. The adventure is just beginning!\nBased on the popular book series by Mary Pope Osborne. \nTrailer \nTickets for planetarium programs are $6 for Adults\, $5 for UMaine Students/Veterans/Senior Citizens\, and $4 for children under 12. Click here to view our calendar. \nTickets may be purchased online\, by phone at 207.581.1341\, or at our ticket box office prior to the show.
URL:https://astro.umaine.edu/event/magic-treehouse-space-mission-24/2019-01-13/
LOCATION:Versant Power Astronomy Center\, 167 Rangeley Rd\, Orono\, ME\, 04469\, United States
CATEGORIES:Public Program
ATTACH;FMTTYPE=image/jpeg:https://astro.umaine.edu/wp-content/uploads/sites/165/2016/05/MTH_16x9.jpg
ORGANIZER;CN="Versant Power Astronomy Center":MAILTO:planetarium@maine.edu
GEO:44.8929612;-68.6626623
X-APPLE-STRUCTURED-LOCATION;VALUE=URI;X-ADDRESS=Versant Power Astronomy Center 167 Rangeley Rd Orono ME 04469 United States;X-APPLE-RADIUS=500;X-TITLE=167 Rangeley Rd:geo:-68.6626623,44.8929612
END:VEVENT
BEGIN:VEVENT
DTSTART;TZID=America/New_York:20190117T190000
DTEND;TZID=America/New_York:20190117T200000
DTSTAMP:20260420T162548
CREATED:20181211T163928Z
LAST-MODIFIED:20181211T170958Z
UID:10002474-1547751600-1547755200@astro.umaine.edu
SUMMARY:Science Lecture Series: Danny Piper
DESCRIPTION:Danny Piper\nSolar for ME!\nThe solar industry in Maine and beyond\n\n\n\nThursday\, January 17 at 7:00 pm \nWhat is the Sun’s potential to meet our planet’s energy needs?  What has the solar industry’s growth looked like over the past 5 years?  Where does Maine’s solar policy lie\, and what does future projected policy for Maine look like?  Why does solar have such a strong potential for ME?  Learn the answers to these relevant questions and many more throughout this Solar Science Lecture series. \n \nDanny Piper\, the co-owner’s at Sundog Solar LLC located in Searsport Maine.  Founded in 2009\, it is a turn-key design\, development\, installation and service company of solar energy systems throughout Maine.  Danny is a North American Board Certified Energy Practitioner (NABCEP) PV Professional as well as a NABCEP certified Solar Heating Installation professional. His primary responsibilities include operations\, engineering\, project oversight and commercial project development at Sundog. His 10 years of solar industry experience and company’s success is demonstrative of his drive to integrate megawatts of clean solar electricity! \n\n\n\n \nThe Science Lecture Series at Emera Astronomy Center will take place the third Thursday of each month and is a partnership project with the Maine Science Festival and will feature research from a variety of science disciplines from around our state and use the digital planetarium to visualize these discoveries in a new dramatic and immersive way. \nSeason passes are available for the entire October 2018 – April 2019 Science Lecture Series for $30 for adults\, and $20 for children under 12. They can be purchased by calling 581-1341\, or by inquiring at the box office. \nTickets for planetarium programs are $6 for Adults\, $5 for UMaine Students/Veterans/Senior Citizens\, and $4 for children under 12. Click here to view our calendar. \nTickets are available online at http://astro.umaine.edu\, by calling 581-1341\, or at the box office. \n 
URL:https://astro.umaine.edu/event/science-lecture-series-danny-piper/
LOCATION:Versant Power Astronomy Center\, 167 Rangeley Rd\, Orono\, ME\, 04469\, United States
CATEGORIES:Public Program,Science Lecture Series
ORGANIZER;CN="Versant Power Astronomy Center":MAILTO:planetarium@maine.edu
GEO:44.8929612;-68.6626623
X-APPLE-STRUCTURED-LOCATION;VALUE=URI;X-ADDRESS=Versant Power Astronomy Center 167 Rangeley Rd Orono ME 04469 United States;X-APPLE-RADIUS=500;X-TITLE=167 Rangeley Rd:geo:-68.6626623,44.8929612
END:VEVENT
BEGIN:VEVENT
DTSTART;TZID=America/New_York:20190118T190000
DTEND;TZID=America/New_York:20190118T200000
DTSTAMP:20260420T162548
CREATED:20180920T180540Z
LAST-MODIFIED:20180920T180540Z
UID:10002053-1547838000-1547841600@astro.umaine.edu
SUMMARY:Expedition Reef
DESCRIPTION:Explore the secrets of the “rainforests of the sea” and embark on an oceanic safari to the world’s most vibrant and endangered marine ecosystems – coral reefs.  Discover how corals grow\, feed\, reproduce\, and support over 25% of all marine life on Earth — while facing unprecedented threats from climate change\, habitat destruction\, and overfishing.  Although they line about a third of tropical coastlines\, reefs comprise less than one percent of the world’s ocean environments\, showing how precious and fragile these systems are.  Thousands of tropical fish and colorful corals thrive in one of the largest and deepest indoor displays of living corals.  Narrated by Tony Award® winner Lea Salonga\, Expedition Reef will immerse audiences in an undersea adventure. This fulldome planetarium show provides an up-close look at a part of our planet many people have never experienced. \nWatch the trailer here. \nTickets for planetarium programs are $6 for Adults\, $5 for UMaine Students/Veterans/Senior Citizens\, and $4 for children under 12. Click here to view our calendar. \nTickets may be purchased online\, by phone at 207.581.1341\, or at our ticket box office prior to the show.
URL:https://astro.umaine.edu/event/expedition-reef/2019-01-18/
LOCATION:Versant Power Astronomy Center\, 167 Rangeley Rd\, Orono\, ME\, 04469\, United States
CATEGORIES:Public Program
ATTACH;FMTTYPE=image/jpeg:https://astro.umaine.edu/wp-content/uploads/sites/165/2018/08/expedition-reef-16x9.jpg
ORGANIZER;CN="Versant Power Astronomy Center":MAILTO:planetarium@maine.edu
GEO:44.8929612;-68.6626623
X-APPLE-STRUCTURED-LOCATION;VALUE=URI;X-ADDRESS=Versant Power Astronomy Center 167 Rangeley Rd Orono ME 04469 United States;X-APPLE-RADIUS=500;X-TITLE=167 Rangeley Rd:geo:-68.6626623,44.8929612
END:VEVENT
END:VCALENDAR