BEGIN:VCALENDAR
VERSION:2.0
PRODID:-//Versant Power Astronomy Center and Maynard Jordan Planetarium - ECPv6.15.17.1//NONSGML v1.0//EN
CALSCALE:GREGORIAN
METHOD:PUBLISH
X-WR-CALNAME:Versant Power Astronomy Center and Maynard Jordan Planetarium
X-ORIGINAL-URL:https://astro.umaine.edu
X-WR-CALDESC:Events for Versant Power Astronomy Center and Maynard Jordan Planetarium
REFRESH-INTERVAL;VALUE=DURATION:PT1H
X-Robots-Tag:noindex
X-PUBLISHED-TTL:PT1H
BEGIN:VTIMEZONE
TZID:America/New_York
BEGIN:DAYLIGHT
TZOFFSETFROM:-0500
TZOFFSETTO:-0400
TZNAME:EDT
DTSTART:20180311T070000
END:DAYLIGHT
BEGIN:STANDARD
TZOFFSETFROM:-0400
TZOFFSETTO:-0500
TZNAME:EST
DTSTART:20181104T060000
END:STANDARD
BEGIN:DAYLIGHT
TZOFFSETFROM:-0500
TZOFFSETTO:-0400
TZNAME:EDT
DTSTART:20190310T070000
END:DAYLIGHT
BEGIN:STANDARD
TZOFFSETFROM:-0400
TZOFFSETTO:-0500
TZNAME:EST
DTSTART:20191103T060000
END:STANDARD
BEGIN:DAYLIGHT
TZOFFSETFROM:-0500
TZOFFSETTO:-0400
TZNAME:EDT
DTSTART:20200308T070000
END:DAYLIGHT
BEGIN:STANDARD
TZOFFSETFROM:-0400
TZOFFSETTO:-0500
TZNAME:EST
DTSTART:20201101T060000
END:STANDARD
END:VTIMEZONE
BEGIN:VEVENT
DTSTART;TZID=America/New_York:20190317T123000
DTEND;TZID=America/New_York:20190317T133000
DTSTAMP:20260421T141334
CREATED:20190116T201316Z
LAST-MODIFIED:20190116T201316Z
UID:10002469-1552825800-1552829400@astro.umaine.edu
SUMMARY:Phantom of the Universe
DESCRIPTION:From the journey of protons racing through the world’s largest particle collider to up-close views of the Big Bang and emergent universe\, and the nearly mile-deep descent to an underground experiment\, Phantom of the Universe immerses audiences in the search for dark matter. Explore this mysterious matter and how we are using discoveries at the Large Hadron Collider to get closer to discovering the true nature of Dark Matter. View the first hints of its existence through the eyes of Fritz Zwicky\, the scientist who coined the term “dark matter.” Explore the astral choreography witnessed by Vera Rubin in the Andromeda galaxy\, and then plummet deep underground to see the most sensitive dark matter detector on Earth\, housed in a former gold mine.  Speed alongside particles before they collide in visually stunning explosions of light and sound at Large Hadron Collider at CERN\, while learning how scientists around the world are collaborating to track down the constituents of dark matter. Executive Producer Michael Barnett of Lawrence Berkeley National Laboratory served as an advisor to PBS’s NOVA series Elegant Universe and the feature film Angels & Demons. Featuring narration by Academy-Award winning actress Tilda Swinton\, Phantom of the Universe showcases imagery from CERN’s Media Lab. \nTickets for planetarium programs are $6 for Adults\, $5 for UMaine Students/Veterans/Senior Citizens\, and $4 for children under 12. Click here to view our calendar. \nTickets may be purchased online\, by phone at 207.581.1341\, or at our ticket box office prior to the show.
URL:https://astro.umaine.edu/event/phantom-of-the-universe-6/
LOCATION:Versant Power Astronomy Center\, 167 Rangeley Rd\, Orono\, ME\, 04469\, United States
CATEGORIES:Public Program
ATTACH;FMTTYPE=image/jpeg:https://astro.umaine.edu/wp-content/uploads/sites/165/2017/06/Better-Phantom-Poster-16x9.jpg
ORGANIZER;CN="Versant Power Astronomy Center":MAILTO:planetarium@maine.edu
GEO:44.8929612;-68.6626623
X-APPLE-STRUCTURED-LOCATION;VALUE=URI;X-ADDRESS=Versant Power Astronomy Center 167 Rangeley Rd Orono ME 04469 United States;X-APPLE-RADIUS=500;X-TITLE=167 Rangeley Rd:geo:-68.6626623,44.8929612
END:VEVENT
BEGIN:VEVENT
DTSTART;TZID=America/New_York:20190317T140000
DTEND;TZID=America/New_York:20190317T150000
DTSTAMP:20260421T141334
CREATED:20180925T161248Z
LAST-MODIFIED:20180925T161248Z
UID:10002479-1552831200-1552834800@astro.umaine.edu
SUMMARY:Secret of the Cardboard Rocket
DESCRIPTION:Join two children on a magical journey through the Solar System\, aided by a talking astronomy book\, a cardboard rocket\, and a vivid imagination. During this imaginative show\, audiences will land on Venus\, fly through the rings of Saturn\, and discover the secrets of the Solar System. \nTrailer \nTickets for planetarium programs are $6 for Adults\, $5 for UMaine Students/Veterans/Senior Citizens\, and $4 for children under 12. Click here to view our calendar. \nTickets may be purchased online\, by phone at 207.581.1341\, or at our ticket box office prior to the show.
URL:https://astro.umaine.edu/event/secret-of-the-cardboard-rocket-6/2019-03-17/
LOCATION:Versant Power Astronomy Center\, 167 Rangeley Rd\, Orono\, ME\, 04469\, United States
CATEGORIES:Public Program
ATTACH;FMTTYPE=image/jpeg:https://astro.umaine.edu/wp-content/uploads/sites/165/2016/05/CBR_16x9.jpg
ORGANIZER;CN="Versant Power Astronomy Center":MAILTO:planetarium@maine.edu
GEO:44.8929612;-68.6626623
X-APPLE-STRUCTURED-LOCATION;VALUE=URI;X-ADDRESS=Versant Power Astronomy Center 167 Rangeley Rd Orono ME 04469 United States;X-APPLE-RADIUS=500;X-TITLE=167 Rangeley Rd:geo:-68.6626623,44.8929612
END:VEVENT
BEGIN:VEVENT
DTSTART;TZID=America/New_York:20190317T153000
DTEND;TZID=America/New_York:20190317T163000
DTSTAMP:20260421T141334
CREATED:20190116T201535Z
LAST-MODIFIED:20190116T201535Z
UID:10002450-1552836600-1552840200@astro.umaine.edu
SUMMARY:Out There: The Quest for Extrasolar Worlds
DESCRIPTION:For thousands of years\, mankind thought that the Earth was the center of the Universe. Thanks to our curiosity\, imagination and urge to explore\, we now know that planets like our Earth are nothing special in the cosmos. The Sun is just one ordinary star among hundreds of billions in our galaxy\, the Milky Way. With the world’s most powerful telescopes\, we are able to explore more and more of the Universe. What we have found so far has surpassed even the wildest expectations of scientists as well as authors of science fiction. Most stars have planets — it turns out they are more common than we thought. A huge diversity of different worlds is out there\, just waiting to be discovered. Join as we explore these new worlds! \nTickets for planetarium programs are $6 for Adults\, $5 for UMaine Students/Veterans/Senior Citizens\, and $4 for children under 12. Click here to view our calendar. \nTickets may be purchased online\, by phone at 207.581.1341\, or at our ticket box office prior to the show.
URL:https://astro.umaine.edu/event/out-there-the-quest-for-extrasolar-worlds/
LOCATION:Versant Power Astronomy Center\, 167 Rangeley Rd\, Orono\, ME\, 04469\, United States
CATEGORIES:Public Program
ATTACH;FMTTYPE=image/jpeg:https://astro.umaine.edu/wp-content/uploads/sites/165/2017/09/OutThere_16x9.jpg
ORGANIZER;CN="Versant Power Astronomy Center":MAILTO:planetarium@maine.edu
GEO:44.8929612;-68.6626623
X-APPLE-STRUCTURED-LOCATION;VALUE=URI;X-ADDRESS=Versant Power Astronomy Center 167 Rangeley Rd Orono ME 04469 United States;X-APPLE-RADIUS=500;X-TITLE=167 Rangeley Rd:geo:-68.6626623,44.8929612
END:VEVENT
BEGIN:VEVENT
DTSTART;TZID=America/New_York:20190321T190000
DTEND;TZID=America/New_York:20190321T200000
DTSTAMP:20260421T141334
CREATED:20181211T170812Z
LAST-MODIFIED:20190204T181928Z
UID:10002406-1553194800-1553198400@astro.umaine.edu
SUMMARY:Science Lecture Series: Dr. Alex Friess
DESCRIPTION:Dr. Alex Friess\nEngineering in Sports\n\n\n\nThursday\, March 21 at 7:00 pm \n\n\n\n  \nWhile spectator sports such as the Olympics\, the America’s Cup\, and World Championships celebrate the achievement of world class athletes\, their peak performance is often made possible by engineers that design and optimize their equipment and training.  This involvement is critical in any sport (one must only think of the advanced swimming suits to reduce drag\, or golf balls that fly farther than others)\, and is particularly noteworthy in sports that utilize sophisticated equipment\, such as car and yacht races.  Explore the role of engineering in sports and the benefits it yields. \n   \nDr. Alex Friess is an Associate Professor in Mechanical Engineering at the University of Maine. His research revolve around Engineering design\, with applications in aerodynamics\, energy\, and sports\, as well as engineering education.  He received a Ph.D. in Aeronautical Engineering from Rensselaer Polytechnic Institute\, where he researched the position and equipment of the US Speed Skiing team\, and has been active as design engineer and consultant for over 10 years in Europe and Africa\, where he participated in the first South African America’s Cup Challenge.  Dr. Friess’ came to Maine following five years of academic activities in Dubai\, where he participated as inaugural professor in the startup of two Universities. \n \nThe Science Lecture Series at Emera Astronomy Center will take place the third Thursday of each month and is a partnership project with the Maine Science Festival and will feature research from a variety of science disciplines from around our state and use the digital planetarium to visualize these discoveries in a new dramatic and immersive way. \nSeason passes are available for the entire October 2018 – April 2019 Science Lecture Series for $30 for adults\, and $20 for children under 12. They can be purchased by calling 581-1341\, or by inquiring at the box office. \nTickets for planetarium programs are $6 for Adults\, $5 for UMaine Students/Veterans/Senior Citizens\, and $4 for children under 12. Click here to view our calendar. \nTickets are available online at http://astro.umaine.edu\, by calling 581-1341\, or at the box office. \n 
URL:https://astro.umaine.edu/event/science-lecture-series-dr-alex-friess/
LOCATION:Versant Power Astronomy Center\, 167 Rangeley Rd\, Orono\, ME\, 04469\, United States
CATEGORIES:Public Program,Science Lecture Series
ATTACH;FMTTYPE=image/png:https://astro.umaine.edu/wp-content/uploads/sites/165/2018/12/Alex-Friess.png
ORGANIZER;CN="Versant Power Astronomy Center":MAILTO:planetarium@maine.edu
GEO:44.8929612;-68.6626623
X-APPLE-STRUCTURED-LOCATION;VALUE=URI;X-ADDRESS=Versant Power Astronomy Center 167 Rangeley Rd Orono ME 04469 United States;X-APPLE-RADIUS=500;X-TITLE=167 Rangeley Rd:geo:-68.6626623,44.8929612
END:VEVENT
BEGIN:VEVENT
DTSTART;TZID=America/New_York:20190322T190000
DTEND;TZID=America/New_York:20190322T200000
DTSTAMP:20260421T141334
CREATED:20190128T231444Z
LAST-MODIFIED:20190128T231510Z
UID:10002085-1553281200-1553284800@astro.umaine.edu
SUMMARY:Mexica Archaeoastronomy: Between Space and Time
DESCRIPTION:Through impressive immersive scenarios\, Mexica Archaeoastronomy: Between Space and Time illustrates the important role played by astronomical observation for the evolution of pre-Hispanic cultures in central Mexico. The Mexicas used the calendrical and astronomical knowledge inherited by their predecessor cultures to found the capital of their empire: Tenochtitlan. Vibrant colors\, shapes and sounds transport the viewer to one of the most important cultures that\, to this day\, still lives in the heart and skin of the Mexican people.  The program includes a tour of the night sky and an update on latest astronomy news. \nWatch the trailer here! \nTickets for planetarium programs are $6 for Adults\, $5 for UMaine Students/Veterans/Senior Citizens\, and $4 for children under 12. Click here to view our calendar. \nTickets may be purchased online\, by phone at 207.581.1341\, or at our ticket box office prior to the show.
URL:https://astro.umaine.edu/event/mexica-archaeoastronomy-between-space-and-time/2019-03-22/
LOCATION:Versant Power Astronomy Center\, 167 Rangeley Rd\, Orono\, ME\, 04469\, United States
CATEGORIES:Public Program
ATTACH;FMTTYPE=image/jpeg:https://astro.umaine.edu/wp-content/uploads/sites/165/2019/01/mexica-16x9.jpg
ORGANIZER;CN="Versant Power Astronomy Center":MAILTO:planetarium@maine.edu
GEO:44.8929612;-68.6626623
X-APPLE-STRUCTURED-LOCATION;VALUE=URI;X-ADDRESS=Versant Power Astronomy Center 167 Rangeley Rd Orono ME 04469 United States;X-APPLE-RADIUS=500;X-TITLE=167 Rangeley Rd:geo:-68.6626623,44.8929612
END:VEVENT
BEGIN:VEVENT
DTSTART;TZID=America/New_York:20190322T210000
DTEND;TZID=America/New_York:20190322T220000
DTSTAMP:20260421T141334
CREATED:20190211T202038Z
LAST-MODIFIED:20190211T202038Z
UID:10002094-1553288400-1553292000@astro.umaine.edu
SUMMARY:Imagine Dragons Experience
DESCRIPTION:The Imagine Dragons Experience features a mix of music from Smoke+Mirrors\, Evolve\, Night Visions\, and Origins set to stunning visuals and artistic interpretation. Experience a wild\, auditory ride through one of today’s most seminal bands in a new way at Emera Astronomy Center! \nTickets are $8 for general admission. \nMusic programs may contain explicit lyrics\, and are intended for adult audiences. All music programs may contain bright flashing lights and fast-moving images\, which have been known to trigger seizures with those with photosensitive epilepsy. Viewer discretion is advised. \nTickets may be purchased online\, by phone at 207.581.1341\, or at our ticket box office prior to the show.
URL:https://astro.umaine.edu/event/imagine-dragons-experience/2019-03-22/
LOCATION:Versant Power Astronomy Center\, 167 Rangeley Rd\, Orono\, ME\, 04469\, United States
CATEGORIES:Music Show,Public Program
ATTACH;FMTTYPE=image/jpeg:https://astro.umaine.edu/wp-content/uploads/sites/165/2019/02/imagine_dragons16x9-e1597273920242.jpg
ORGANIZER;CN="Versant Power Astronomy Center":MAILTO:planetarium@maine.edu
GEO:44.8929612;-68.6626623
X-APPLE-STRUCTURED-LOCATION;VALUE=URI;X-ADDRESS=Versant Power Astronomy Center 167 Rangeley Rd Orono ME 04469 United States;X-APPLE-RADIUS=500;X-TITLE=167 Rangeley Rd:geo:-68.6626623,44.8929612
END:VEVENT
END:VCALENDAR