BEGIN:VCALENDAR
VERSION:2.0
PRODID:-//Versant Power Astronomy Center and Maynard Jordan Planetarium - ECPv6.15.17.1//NONSGML v1.0//EN
CALSCALE:GREGORIAN
METHOD:PUBLISH
X-WR-CALNAME:Versant Power Astronomy Center and Maynard Jordan Planetarium
X-ORIGINAL-URL:https://astro.umaine.edu
X-WR-CALDESC:Events for Versant Power Astronomy Center and Maynard Jordan Planetarium
REFRESH-INTERVAL;VALUE=DURATION:PT1H
X-Robots-Tag:noindex
X-PUBLISHED-TTL:PT1H
BEGIN:VTIMEZONE
TZID:America/New_York
BEGIN:DAYLIGHT
TZOFFSETFROM:-0500
TZOFFSETTO:-0400
TZNAME:EDT
DTSTART:20180311T070000
END:DAYLIGHT
BEGIN:STANDARD
TZOFFSETFROM:-0400
TZOFFSETTO:-0500
TZNAME:EST
DTSTART:20181104T060000
END:STANDARD
BEGIN:DAYLIGHT
TZOFFSETFROM:-0500
TZOFFSETTO:-0400
TZNAME:EDT
DTSTART:20190310T070000
END:DAYLIGHT
BEGIN:STANDARD
TZOFFSETFROM:-0400
TZOFFSETTO:-0500
TZNAME:EST
DTSTART:20191103T060000
END:STANDARD
BEGIN:DAYLIGHT
TZOFFSETFROM:-0500
TZOFFSETTO:-0400
TZNAME:EDT
DTSTART:20200308T070000
END:DAYLIGHT
BEGIN:STANDARD
TZOFFSETFROM:-0400
TZOFFSETTO:-0500
TZNAME:EST
DTSTART:20201101T060000
END:STANDARD
END:VTIMEZONE
BEGIN:VEVENT
DTSTART;TZID=America/New_York:20190908T140000
DTEND;TZID=America/New_York:20190908T150000
DTSTAMP:20260421T181848
CREATED:20190703T193608Z
LAST-MODIFIED:20190703T193608Z
UID:10002553-1567951200-1567954800@astro.umaine.edu
SUMMARY:Legends of the Night Sky: Perseus and Andromeda
DESCRIPTION:Perseus and Andromeda is a fun-filled retelling of the tale of the beautiful but unfortunate princess Andromeda\, who in divine punishment for her mother’s bragging\, is sacrificed to a sea monster—and rescued by the Greek hero Perseus. \nTrailer \nTickets for planetarium programs are $6 for Adults\, $5 for UMaine Students/Veterans/Senior Citizens\, and $4 for children under 12. Click here to view our calendar. \nTickets may be purchased online\, by phone at 207.581.1341\, or at our ticket box office prior to the show.
URL:https://astro.umaine.edu/event/legends-of-the-night-sky-perseus-and-andromeda/2019-09-08/
LOCATION:Versant Power Astronomy Center\, 167 Rangeley Rd\, Orono\, ME\, 04469\, United States
CATEGORIES:Public Program
ATTACH;FMTTYPE=image/jpeg:https://astro.umaine.edu/wp-content/uploads/sites/165/2016/05/PerseusAndromeda_16x9.jpg
ORGANIZER;CN="Versant Power Astronomy Center":MAILTO:planetarium@maine.edu
GEO:44.8929612;-68.6626623
X-APPLE-STRUCTURED-LOCATION;VALUE=URI;X-ADDRESS=Versant Power Astronomy Center 167 Rangeley Rd Orono ME 04469 United States;X-APPLE-RADIUS=500;X-TITLE=167 Rangeley Rd:geo:-68.6626623,44.8929612
END:VEVENT
BEGIN:VEVENT
DTSTART;TZID=America/New_York:20190912T190000
DTEND;TZID=America/New_York:20190912T200000
DTSTAMP:20260421T181848
CREATED:20190829T214717Z
LAST-MODIFIED:20190829T215119Z
UID:10002561-1568314800-1568318400@astro.umaine.edu
SUMMARY:Science Lecture Series: Dr. Sam Hess
DESCRIPTION:Dr. Sam Hess\nSuper-Resolution Microscopy:\nIlluminating Biological Functions to Cure Disease\n\n\n\nThursday\, September 12 at 7:00 pm \n\n\n\n\nNew methods of imaging individual molecules are providing exceptional insight into a variety of diseases. Resolution in microscopes is typically limited by diffraction\, but in 2006\, three new techniques were invented which could break these limitations allowing imaging of individual florescent molecules. Explore one of these techniques called FPALM developed by Dr. Sam Hess and see how he is using this method to take an unprecedented look at influenza\, muscular dystrophy\, and the immune system\, and how imaging these at the molecular level may provide ways to fight disease and improve human health. \n \nSam Hess is professor of physics in the Department of Physics and Astronomy at the University of Maine. After graduating from Old Town High School in 1991\, Sam earned a B.S. from Yale University in 1995\, and a Ph.D. from Cornell University in 2002. Sam explored biological membranes and viral infection during a postdoc at NIH. He published the method Fluorescence Photoactivation Localization Microscopy (FPALM)\, which was cited by Science as a “Top Ten Scientific Breakthrough of 2006\,” as “Method of the Year” by Nature Methods in 2008\, and in Nature Milestones in 2009. \n \nThe Science Lecture Series at Emera Astronomy Center will take place the second Thursday of each month and is a partnership project with the Maine Science Festival and will feature research from a variety of science disciplines from around our state and use the digital planetarium to visualize these discoveries in a new dramatic and immersive way. \nTickets for planetarium programs are $6 for Adults\, $5 for UMaine Students/Veterans/Senior Citizens\, and $4 for children under 12. Click here to view our calendar. \nTickets are available online at http://astro.umaine.edu\, by calling 581-1341\, or at the box office.
URL:https://astro.umaine.edu/event/science-lecture-series-dr-sam-hess/
LOCATION:Versant Power Astronomy Center\, 167 Rangeley Rd\, Orono\, ME\, 04469\, United States
CATEGORIES:Public Program,Science Lecture Series
ATTACH;FMTTYPE=image/png:https://astro.umaine.edu/wp-content/uploads/sites/165/2019/08/FPALM-e1567115648695.png
ORGANIZER;CN="Versant Power Astronomy Center":MAILTO:planetarium@maine.edu
GEO:44.8929612;-68.6626623
X-APPLE-STRUCTURED-LOCATION;VALUE=URI;X-ADDRESS=Versant Power Astronomy Center 167 Rangeley Rd Orono ME 04469 United States;X-APPLE-RADIUS=500;X-TITLE=167 Rangeley Rd:geo:-68.6626623,44.8929612
END:VEVENT
BEGIN:VEVENT
DTSTART;TZID=America/New_York:20190913T190000
DTEND;TZID=America/New_York:20190913T200000
DTSTAMP:20260421T181848
CREATED:20190729T185803Z
LAST-MODIFIED:20190729T185803Z
UID:10002607-1568401200-1568404800@astro.umaine.edu
SUMMARY:Space Aliens: Looking for Life in the Universe
DESCRIPTION:One of the oldest question’s humans have asked since looking at the sky has been if life exists beyond our planet.  Follow cosmic clues from the ocean floor to a journey across the galaxy!  What might extremophiles here on Earth tell us about the ability of life to thrive in other locations in our universe?   Learn how new discoveries of exoplanets and water in our own solar system plays into this cosmic quest for other life forms beyond Earth.  Find out how scientist are using new tools to look for places where life might be possible in our own galaxy. \nTickets for planetarium programs are $6 for Adults\, $5 for UMaine Students/Veterans/Senior Citizens\, and $4 for children under 12. Click here to view our calendar. \nTickets may be purchased online\, by phone at 207.581.1341\, or at our ticket box office prior to the show.
URL:https://astro.umaine.edu/event/space-aliens-looking-for-life-in-the-universe/2019-09-13/
LOCATION:Versant Power Astronomy Center\, 167 Rangeley Rd\, Orono\, ME\, 04469\, United States
CATEGORIES:Public Program
ATTACH;FMTTYPE=image/png:https://astro.umaine.edu/wp-content/uploads/sites/165/2019/07/space-aliens-e1597273785347.png
ORGANIZER;CN="Versant Power Astronomy Center":MAILTO:planetarium@maine.edu
GEO:44.8929612;-68.6626623
X-APPLE-STRUCTURED-LOCATION;VALUE=URI;X-ADDRESS=Versant Power Astronomy Center 167 Rangeley Rd Orono ME 04469 United States;X-APPLE-RADIUS=500;X-TITLE=167 Rangeley Rd:geo:-68.6626623,44.8929612
END:VEVENT
BEGIN:VEVENT
DTSTART;TZID=America/New_York:20190913T210000
DTEND;TZID=America/New_York:20190913T220000
DTSTAMP:20260421T181848
CREATED:20190829T212447Z
LAST-MODIFIED:20190829T212447Z
UID:10002590-1568408400-1568412000@astro.umaine.edu
SUMMARY:Rihanna: Diamonds
DESCRIPTION:Take a journey through space with the Grammy Award winning artist\, Rihanna.  Using dazzling visuals and creative expression\, Rihanna: Diamonds\, features this prolific artist in new and innovative ways at the Emera Astronomy Center! \nTickets are $8 for general admission. \nMusic programs may contain explicit lyrics\, and are intended for adult audiences. All music programs may contain bright flashing lights and fast-moving images\, which have been known to trigger seizures with those with photosensitive epilepsy. Viewer discretion is advised. \nTickets may be purchased online\, by phone at 207.581.1341\, or at our ticket box office prior to the show.
URL:https://astro.umaine.edu/event/rihanna-diamonds/2019-09-13/
LOCATION:Versant Power Astronomy Center\, 167 Rangeley Rd\, Orono\, ME\, 04469\, United States
CATEGORIES:Music Show,Public Program
ATTACH;FMTTYPE=image/jpeg:https://astro.umaine.edu/wp-content/uploads/sites/165/2019/08/Rihanna_16x9-e1597273725504.jpg
ORGANIZER;CN="Versant Power Astronomy Center":MAILTO:planetarium@maine.edu
GEO:44.8929612;-68.6626623
X-APPLE-STRUCTURED-LOCATION;VALUE=URI;X-ADDRESS=Versant Power Astronomy Center 167 Rangeley Rd Orono ME 04469 United States;X-APPLE-RADIUS=500;X-TITLE=167 Rangeley Rd:geo:-68.6626623,44.8929612
END:VEVENT
END:VCALENDAR