BEGIN:VCALENDAR
VERSION:2.0
PRODID:-//Versant Power Astronomy Center and Maynard Jordan Planetarium - ECPv6.15.17.1//NONSGML v1.0//EN
CALSCALE:GREGORIAN
METHOD:PUBLISH
X-WR-CALNAME:Versant Power Astronomy Center and Maynard Jordan Planetarium
X-ORIGINAL-URL:https://astro.umaine.edu
X-WR-CALDESC:Events for Versant Power Astronomy Center and Maynard Jordan Planetarium
REFRESH-INTERVAL;VALUE=DURATION:PT1H
X-Robots-Tag:noindex
X-PUBLISHED-TTL:PT1H
BEGIN:VTIMEZONE
TZID:America/New_York
BEGIN:DAYLIGHT
TZOFFSETFROM:-0500
TZOFFSETTO:-0400
TZNAME:EDT
DTSTART:20180311T070000
END:DAYLIGHT
BEGIN:STANDARD
TZOFFSETFROM:-0400
TZOFFSETTO:-0500
TZNAME:EST
DTSTART:20181104T060000
END:STANDARD
BEGIN:DAYLIGHT
TZOFFSETFROM:-0500
TZOFFSETTO:-0400
TZNAME:EDT
DTSTART:20190310T070000
END:DAYLIGHT
BEGIN:STANDARD
TZOFFSETFROM:-0400
TZOFFSETTO:-0500
TZNAME:EST
DTSTART:20191103T060000
END:STANDARD
BEGIN:DAYLIGHT
TZOFFSETFROM:-0500
TZOFFSETTO:-0400
TZNAME:EDT
DTSTART:20200308T070000
END:DAYLIGHT
BEGIN:STANDARD
TZOFFSETFROM:-0400
TZOFFSETTO:-0500
TZNAME:EST
DTSTART:20201101T060000
END:STANDARD
END:VTIMEZONE
BEGIN:VEVENT
DTSTART;TZID=America/New_York:20190915T140000
DTEND;TZID=America/New_York:20190915T150000
DTSTAMP:20260420T230619
CREATED:20190703T193608Z
LAST-MODIFIED:20190703T193608Z
UID:10002554-1568556000-1568559600@astro.umaine.edu
SUMMARY:Legends of the Night Sky: Perseus and Andromeda
DESCRIPTION:Perseus and Andromeda is a fun-filled retelling of the tale of the beautiful but unfortunate princess Andromeda\, who in divine punishment for her mother’s bragging\, is sacrificed to a sea monster—and rescued by the Greek hero Perseus. \nTrailer \nTickets for planetarium programs are $6 for Adults\, $5 for UMaine Students/Veterans/Senior Citizens\, and $4 for children under 12. Click here to view our calendar. \nTickets may be purchased online\, by phone at 207.581.1341\, or at our ticket box office prior to the show.
URL:https://astro.umaine.edu/event/legends-of-the-night-sky-perseus-and-andromeda/2019-09-15/
LOCATION:Versant Power Astronomy Center\, 167 Rangeley Rd\, Orono\, ME\, 04469\, United States
CATEGORIES:Public Program
ATTACH;FMTTYPE=image/jpeg:https://astro.umaine.edu/wp-content/uploads/sites/165/2016/05/PerseusAndromeda_16x9.jpg
ORGANIZER;CN="Versant Power Astronomy Center":MAILTO:planetarium@maine.edu
GEO:44.8929612;-68.6626623
X-APPLE-STRUCTURED-LOCATION;VALUE=URI;X-ADDRESS=Versant Power Astronomy Center 167 Rangeley Rd Orono ME 04469 United States;X-APPLE-RADIUS=500;X-TITLE=167 Rangeley Rd:geo:-68.6626623,44.8929612
END:VEVENT
BEGIN:VEVENT
DTSTART;TZID=America/New_York:20190920T190000
DTEND;TZID=America/New_York:20190920T200000
DTSTAMP:20260420T230619
CREATED:20190729T185803Z
LAST-MODIFIED:20190729T185803Z
UID:10002608-1569006000-1569009600@astro.umaine.edu
SUMMARY:Space Aliens: Looking for Life in the Universe
DESCRIPTION:One of the oldest question’s humans have asked since looking at the sky has been if life exists beyond our planet.  Follow cosmic clues from the ocean floor to a journey across the galaxy!  What might extremophiles here on Earth tell us about the ability of life to thrive in other locations in our universe?   Learn how new discoveries of exoplanets and water in our own solar system plays into this cosmic quest for other life forms beyond Earth.  Find out how scientist are using new tools to look for places where life might be possible in our own galaxy. \nTickets for planetarium programs are $6 for Adults\, $5 for UMaine Students/Veterans/Senior Citizens\, and $4 for children under 12. Click here to view our calendar. \nTickets may be purchased online\, by phone at 207.581.1341\, or at our ticket box office prior to the show.
URL:https://astro.umaine.edu/event/space-aliens-looking-for-life-in-the-universe/2019-09-20/
LOCATION:Versant Power Astronomy Center\, 167 Rangeley Rd\, Orono\, ME\, 04469\, United States
CATEGORIES:Public Program
ATTACH;FMTTYPE=image/png:https://astro.umaine.edu/wp-content/uploads/sites/165/2019/07/space-aliens-e1597273785347.png
ORGANIZER;CN="Versant Power Astronomy Center":MAILTO:planetarium@maine.edu
GEO:44.8929612;-68.6626623
X-APPLE-STRUCTURED-LOCATION;VALUE=URI;X-ADDRESS=Versant Power Astronomy Center 167 Rangeley Rd Orono ME 04469 United States;X-APPLE-RADIUS=500;X-TITLE=167 Rangeley Rd:geo:-68.6626623,44.8929612
END:VEVENT
BEGIN:VEVENT
DTSTART;TZID=America/New_York:20190920T210000
DTEND;TZID=America/New_York:20190920T220000
DTSTAMP:20260420T230619
CREATED:20190829T212447Z
LAST-MODIFIED:20190829T212447Z
UID:10002591-1569013200-1569016800@astro.umaine.edu
SUMMARY:Rihanna: Diamonds
DESCRIPTION:Take a journey through space with the Grammy Award winning artist\, Rihanna.  Using dazzling visuals and creative expression\, Rihanna: Diamonds\, features this prolific artist in new and innovative ways at the Emera Astronomy Center! \nTickets are $8 for general admission. \nMusic programs may contain explicit lyrics\, and are intended for adult audiences. All music programs may contain bright flashing lights and fast-moving images\, which have been known to trigger seizures with those with photosensitive epilepsy. Viewer discretion is advised. \nTickets may be purchased online\, by phone at 207.581.1341\, or at our ticket box office prior to the show.
URL:https://astro.umaine.edu/event/rihanna-diamonds/2019-09-20/
LOCATION:Versant Power Astronomy Center\, 167 Rangeley Rd\, Orono\, ME\, 04469\, United States
CATEGORIES:Music Show,Public Program
ATTACH;FMTTYPE=image/jpeg:https://astro.umaine.edu/wp-content/uploads/sites/165/2019/08/Rihanna_16x9-e1597273725504.jpg
ORGANIZER;CN="Versant Power Astronomy Center":MAILTO:planetarium@maine.edu
GEO:44.8929612;-68.6626623
X-APPLE-STRUCTURED-LOCATION;VALUE=URI;X-ADDRESS=Versant Power Astronomy Center 167 Rangeley Rd Orono ME 04469 United States;X-APPLE-RADIUS=500;X-TITLE=167 Rangeley Rd:geo:-68.6626623,44.8929612
END:VEVENT
BEGIN:VEVENT
DTSTART;TZID=America/New_York:20190921T100000
DTEND;TZID=America/New_York:20190921T110000
DTSTAMP:20260420T230619
CREATED:20190703T184518Z
LAST-MODIFIED:20190703T184518Z
UID:10002169-1569060000-1569063600@astro.umaine.edu
SUMMARY:Black Holes
DESCRIPTION:The attraction of Black Holes is more than just gravitational. These mysterious graveyards of dead stars have fascinated generations. “Black Holes” explores the history\, physics\, and mystery of these reality-bending phenomena. Experience the bending of light\, the skewing of perception\, and the dizzying descent into a black hole. \nTrailer \nTickets for planetarium programs are $6 for Adults\, $5 for UMaine Students/Veterans/Senior Citizens\, and $4 for children under 12. Click here to view our calendar. \nTickets may be purchased online\, by phone at 207.581.1341\, or at our ticket box office prior to the show.
URL:https://astro.umaine.edu/event/black-holes-10/
LOCATION:Versant Power Astronomy Center\, 167 Rangeley Rd\, Orono\, ME\, 04469\, United States
CATEGORIES:Public Program
ATTACH;FMTTYPE=image/jpeg:https://astro.umaine.edu/wp-content/uploads/sites/165/2016/05/BHZ_16x9.jpg
ORGANIZER;CN="Versant Power Astronomy Center":MAILTO:planetarium@maine.edu
GEO:44.8929612;-68.6626623
X-APPLE-STRUCTURED-LOCATION;VALUE=URI;X-ADDRESS=Versant Power Astronomy Center 167 Rangeley Rd Orono ME 04469 United States;X-APPLE-RADIUS=500;X-TITLE=167 Rangeley Rd:geo:-68.6626623,44.8929612
END:VEVENT
BEGIN:VEVENT
DTSTART;TZID=America/New_York:20190921T113000
DTEND;TZID=America/New_York:20190921T123000
DTSTAMP:20260420T230619
CREATED:20190703T184703Z
LAST-MODIFIED:20190703T184703Z
UID:10002171-1569065400-1569069000@astro.umaine.edu
SUMMARY:Habitat Earth
DESCRIPTION:Living networks connect and support life forms large and small—from colonies of tiny microbes and populations of massive whales to ever-expanding human societies. Discover what it means to live in today’s connected world in Habitat Earth. Through stunning visualizations of the natural world\, dive below the ocean’s surface to explore the dynamic relationships found in kelp forest ecosystems\, travel beneath the forest floor to see how Earth’s tallest trees rely on tiny fungi to survive\, and journey to new heights to witness the intricate intersection between human and ecological networks.  See how all species on our planet are interconnected and important to sustaining our living world. \nWatch the trailer here! \nTickets for planetarium programs are $6 for Adults\, $5 for UMaine Students/Veterans/Senior Citizens\, and $4 for children under 12. Click here to view our calendar. \nTickets may be purchased online\, by phone at 207.581.1341\, or at our ticket box office prior to the show.
URL:https://astro.umaine.edu/event/habitat-earth-2/
LOCATION:Versant Power Astronomy Center\, 167 Rangeley Rd\, Orono\, ME\, 04469\, United States
CATEGORIES:Public Program
ATTACH;FMTTYPE=image/jpeg:https://astro.umaine.edu/wp-content/uploads/sites/165/2018/09/HabitatEarth16x9.jpg
ORGANIZER;CN="Versant Power Astronomy Center":MAILTO:planetarium@maine.edu
GEO:44.8929612;-68.6626623
X-APPLE-STRUCTURED-LOCATION;VALUE=URI;X-ADDRESS=Versant Power Astronomy Center 167 Rangeley Rd Orono ME 04469 United States;X-APPLE-RADIUS=500;X-TITLE=167 Rangeley Rd:geo:-68.6626623,44.8929612
END:VEVENT
BEGIN:VEVENT
DTSTART;TZID=America/New_York:20190921T130000
DTEND;TZID=America/New_York:20190921T140000
DTSTAMP:20260420T230619
CREATED:20190703T185142Z
LAST-MODIFIED:20190703T185142Z
UID:10002173-1569070800-1569074400@astro.umaine.edu
SUMMARY:Explore!
DESCRIPTION:Mars… For centuries it’s been an object of human fascination. Once mysterious\, soon this red world may become our new home. This became possible due to daring individuals like Johannes Kepler: fascinated with the world\, striving toward discovery and embracing challenges it may bring. It is our duty to continue their work… Explore\, Dream Discover.  Take an adventurous journey with humankind: from ancient Mesopotamia to modern space exploration!  Experience the fascinating history of astronomy\, geocentric and heliocentric models\, Kepler laws of planetary motion\, and discover the principals of orbital maneuvers which enable satellites and space travel. \nTickets for planetarium programs are $6 for Adults\, $5 for UMaine Students/Veterans/Senior Citizens\, and $4 for children under 12. Click here to view our calendar. \nTickets may be purchased online\, by phone at 207.581.1341\, or at our ticket box office prior to the show.
URL:https://astro.umaine.edu/event/explore-8/
LOCATION:Versant Power Astronomy Center\, 167 Rangeley Rd\, Orono\, ME\, 04469\, United States
CATEGORIES:Public Program
ATTACH;FMTTYPE=image/jpeg:https://astro.umaine.edu/wp-content/uploads/sites/165/2017/11/Explore_16x9.jpg
ORGANIZER;CN="Versant Power Astronomy Center":MAILTO:planetarium@maine.edu
GEO:44.8929612;-68.6626623
X-APPLE-STRUCTURED-LOCATION;VALUE=URI;X-ADDRESS=Versant Power Astronomy Center 167 Rangeley Rd Orono ME 04469 United States;X-APPLE-RADIUS=500;X-TITLE=167 Rangeley Rd:geo:-68.6626623,44.8929612
END:VEVENT
BEGIN:VEVENT
DTSTART;TZID=America/New_York:20190921T143000
DTEND;TZID=America/New_York:20190921T153000
DTSTAMP:20260420T230619
CREATED:20190703T185433Z
LAST-MODIFIED:20190703T185433Z
UID:10002175-1569076200-1569079800@astro.umaine.edu
SUMMARY:Faster Than Light
DESCRIPTION:The impulse to strike out into the unknown\, to see what’s over the horizon… is as old as humanity. Today\, a whole new horizon beckons.  Astronomers are racing to find habitable worlds\, including any that might exist in the neighborhood of our Sun. But if we find one\, how will we ever get there? How long will it take? What rocket designs might one day conquer the voids of space? Take a virtual ride aboard spacecraft of the future based on whole new technologies designed to achieve ultra‐high speeds\, which might provide ways to travel to new worlds. \nWatch the trailer here! \nTickets for planetarium programs are $6 for Adults\, $5 for UMaine Students/Veterans/Senior Citizens\, and $4 for children under 12. Click here to view our calendar. \nTickets may be purchased online\, by phone at 207.581.1341\, or at our ticket box office prior to the show.
URL:https://astro.umaine.edu/event/faster-than-light-2/
LOCATION:Versant Power Astronomy Center\, 167 Rangeley Rd\, Orono\, ME\, 04469\, United States
CATEGORIES:Public Program
ATTACH;FMTTYPE=image/jpeg:https://astro.umaine.edu/wp-content/uploads/sites/165/2018/09/FTL_16x9.jpg
ORGANIZER;CN="Versant Power Astronomy Center":MAILTO:planetarium@maine.edu
GEO:44.8929612;-68.6626623
X-APPLE-STRUCTURED-LOCATION;VALUE=URI;X-ADDRESS=Versant Power Astronomy Center 167 Rangeley Rd Orono ME 04469 United States;X-APPLE-RADIUS=500;X-TITLE=167 Rangeley Rd:geo:-68.6626623,44.8929612
END:VEVENT
BEGIN:VEVENT
DTSTART;TZID=America/New_York:20190921T160000
DTEND;TZID=America/New_York:20190921T170000
DTSTAMP:20260420T230619
CREATED:20190703T190023Z
LAST-MODIFIED:20190703T190023Z
UID:10002177-1569081600-1569085200@astro.umaine.edu
SUMMARY:Dream to Fly
DESCRIPTION:Have you ever dreamt you were flying? Have you ever thought how wonderful would it be to fly free as a bird?  Discover the mystery of flight with Leonardo da Vinci\, Montgolfier brothers\, Wright brothers and other inventors. Experience the adventure with powerful images and music\, an immense and challenging dream\, for which mankind has strived since the beginning of history.  Dream to Fly explores the history of flight and its most important milestones on our route to conquering the skies—both in terms of technological breakthroughs\, as well as our perceptions on flying itself. The dream to fly has raised the man even further – into the outer space. \nTrailer \nTickets for planetarium programs are $6 for Adults\, $5 for UMaine Students/Veterans/Senior Citizens\, and $4 for children under 12. Click here to view our calendar. \nTickets may be purchased online\, by phone at 207.581.1341\, or at our ticket box office prior to the show.
URL:https://astro.umaine.edu/event/dream-to-fly-7/
LOCATION:Versant Power Astronomy Center\, 167 Rangeley Rd\, Orono\, ME\, 04469\, United States
CATEGORIES:Public Program
ATTACH;FMTTYPE=image/jpeg:https://astro.umaine.edu/wp-content/uploads/sites/165/2017/05/Dream-to-fly-16x9.jpg
ORGANIZER;CN="Versant Power Astronomy Center":MAILTO:planetarium@maine.edu
GEO:44.8929612;-68.6626623
X-APPLE-STRUCTURED-LOCATION;VALUE=URI;X-ADDRESS=Versant Power Astronomy Center 167 Rangeley Rd Orono ME 04469 United States;X-APPLE-RADIUS=500;X-TITLE=167 Rangeley Rd:geo:-68.6626623,44.8929612
END:VEVENT
END:VCALENDAR