BEGIN:VCALENDAR
VERSION:2.0
PRODID:-//Versant Power Astronomy Center and Maynard Jordan Planetarium - ECPv6.15.17.1//NONSGML v1.0//EN
CALSCALE:GREGORIAN
METHOD:PUBLISH
X-WR-CALNAME:Versant Power Astronomy Center and Maynard Jordan Planetarium
X-ORIGINAL-URL:https://astro.umaine.edu
X-WR-CALDESC:Events for Versant Power Astronomy Center and Maynard Jordan Planetarium
REFRESH-INTERVAL;VALUE=DURATION:PT1H
X-Robots-Tag:noindex
X-PUBLISHED-TTL:PT1H
BEGIN:VTIMEZONE
TZID:America/New_York
BEGIN:DAYLIGHT
TZOFFSETFROM:-0500
TZOFFSETTO:-0400
TZNAME:EDT
DTSTART:20180311T070000
END:DAYLIGHT
BEGIN:STANDARD
TZOFFSETFROM:-0400
TZOFFSETTO:-0500
TZNAME:EST
DTSTART:20181104T060000
END:STANDARD
BEGIN:DAYLIGHT
TZOFFSETFROM:-0500
TZOFFSETTO:-0400
TZNAME:EDT
DTSTART:20190310T070000
END:DAYLIGHT
BEGIN:STANDARD
TZOFFSETFROM:-0400
TZOFFSETTO:-0500
TZNAME:EST
DTSTART:20191103T060000
END:STANDARD
BEGIN:DAYLIGHT
TZOFFSETFROM:-0500
TZOFFSETTO:-0400
TZNAME:EDT
DTSTART:20200308T070000
END:DAYLIGHT
BEGIN:STANDARD
TZOFFSETFROM:-0400
TZOFFSETTO:-0500
TZNAME:EST
DTSTART:20201101T060000
END:STANDARD
END:VTIMEZONE
BEGIN:VEVENT
DTSTART;TZID=America/New_York:20191103T140000
DTEND;TZID=America/New_York:20191103T150000
DTSTAMP:20260420T204024
CREATED:20190821T182954Z
LAST-MODIFIED:20190821T182954Z
UID:10002593-1572789600-1572793200@astro.umaine.edu
SUMMARY:Polaris: Mystery of the Polar Night
DESCRIPTION:A traveling penguin from the South Pole and a funny polar bear from the North pole meet on arctic sea ice.  They become friends observing the night sky together and wondering why night is so long at the poles of the Earth. This mystery leads them on a scientific adventure by building an improvised spaceship to travel around the Earth to learn about seasons\, visit Mars and Saturn to learn about ice in the solar system and how planets have similarities and differences which make them unique. \nTickets for planetarium programs are $6 for Adults\, $5 for UMaine Students/Veterans/Senior Citizens\, and $4 for children under 12. Click here to view our calendar. \nTickets may be purchased online\, by phone at 207.581.1341\, or at our ticket box office prior to the show.
URL:https://astro.umaine.edu/event/polaris-mystery-of-the-polar-night-4/2019-11-03/
LOCATION:Versant Power Astronomy Center\, 167 Rangeley Rd\, Orono\, ME\, 04469\, United States
CATEGORIES:Public Program
ATTACH;FMTTYPE=image/jpeg:https://astro.umaine.edu/wp-content/uploads/sites/165/2017/02/polaris16x9.jpg
ORGANIZER;CN="Versant Power Astronomy Center":MAILTO:planetarium@maine.edu
GEO:44.8929612;-68.6626623
X-APPLE-STRUCTURED-LOCATION;VALUE=URI;X-ADDRESS=Versant Power Astronomy Center 167 Rangeley Rd Orono ME 04469 United States;X-APPLE-RADIUS=500;X-TITLE=167 Rangeley Rd:geo:-68.6626623,44.8929612
END:VEVENT
BEGIN:VEVENT
DTSTART;TZID=America/New_York:20191105T100000
DTEND;TZID=America/New_York:20191105T110000
DTSTAMP:20260420T204024
CREATED:20190821T151315Z
LAST-MODIFIED:20190821T151315Z
UID:10002616-1572948000-1572951600@astro.umaine.edu
SUMMARY:Explore!
DESCRIPTION:Mars… For centuries it’s been an object of human fascination. Once mysterious\, soon this red world may become our new home. This became possible due to daring individuals like Johannes Kepler: fascinated with the world\, striving toward discovery and embracing challenges it may bring. It is our duty to continue their work… Explore\, Dream Discover.  Take an adventurous journey with humankind: from ancient Mesopotamia to modern space exploration!  Experience the fascinating history of astronomy\, geocentric and heliocentric models\, Kepler laws of planetary motion\, and discover the principals of orbital maneuvers which enable satellites and space travel. \nTickets for planetarium programs are $6 for Adults\, $5 for UMaine Students/Veterans/Senior Citizens\, and $4 for children under 12. Click here to view our calendar. \nTickets may be purchased online\, by phone at 207.581.1341\, or at our ticket box office prior to the show.
URL:https://astro.umaine.edu/event/explore-9/
LOCATION:Versant Power Astronomy Center\, 167 Rangeley Rd\, Orono\, ME\, 04469\, United States
CATEGORIES:Homeschool Show,Public Program
ATTACH;FMTTYPE=image/jpeg:https://astro.umaine.edu/wp-content/uploads/sites/165/2017/11/Explore_16x9.jpg
ORGANIZER;CN="Versant Power Astronomy Center":MAILTO:planetarium@maine.edu
GEO:44.8929612;-68.6626623
X-APPLE-STRUCTURED-LOCATION;VALUE=URI;X-ADDRESS=Versant Power Astronomy Center 167 Rangeley Rd Orono ME 04469 United States;X-APPLE-RADIUS=500;X-TITLE=167 Rangeley Rd:geo:-68.6626623,44.8929612
END:VEVENT
BEGIN:VEVENT
DTSTART;TZID=America/New_York:20191108T190000
DTEND;TZID=America/New_York:20191108T200000
DTSTAMP:20260420T204024
CREATED:20190821T182257Z
LAST-MODIFIED:20190821T182257Z
UID:10002598-1573239600-1573243200@astro.umaine.edu
SUMMARY:Einstein's Gravity Playlist
DESCRIPTION:What are gravitational waves?  How are these ripples in space-time created?  Albert Einstein predicted there existence in 1916\, and a century later\, scientists detected these waves using incredibly precise laser technology here on Earth.  See the Laser Interferometer Gravitational-Wave Observatory (LIGO) and Lucia\, a PhD student in physics\, on an exploration of gravitational waves and their importance in helping understand the universe. \nTickets for planetarium programs are $6 for Adults\, $5 for UMaine Students/Veterans/Senior Citizens\, and $4 for children under 12. Click here to view our calendar. \nTickets may be purchased online\, by phone at 207.581.1341\, or at our ticket box office prior to the show.
URL:https://astro.umaine.edu/event/einsteins-gravity-playlist/2019-11-08/
LOCATION:Versant Power Astronomy Center\, 167 Rangeley Rd\, Orono\, ME\, 04469\, United States
CATEGORIES:Public Program
ATTACH;FMTTYPE=image/jpeg:https://astro.umaine.edu/wp-content/uploads/sites/165/2019/08/einsteins_gravity_playlist_16x9.jpg
ORGANIZER;CN="Versant Power Astronomy Center":MAILTO:planetarium@maine.edu
GEO:44.8929612;-68.6626623
X-APPLE-STRUCTURED-LOCATION;VALUE=URI;X-ADDRESS=Versant Power Astronomy Center 167 Rangeley Rd Orono ME 04469 United States;X-APPLE-RADIUS=500;X-TITLE=167 Rangeley Rd:geo:-68.6626623,44.8929612
END:VEVENT
BEGIN:VEVENT
DTSTART;TZID=America/New_York:20191108T210000
DTEND;TZID=America/New_York:20191108T220000
DTSTAMP:20260420T204024
CREATED:20191031T060459Z
LAST-MODIFIED:20191031T060459Z
UID:10002571-1573246800-1573250400@astro.umaine.edu
SUMMARY:OneRepublic: Future Looks Good
DESCRIPTION:Grammy Award band OneRepublic will rock the planetarium with stunning visuals\, and out of this world imagery.  Future Looks Good show features a compilation of songs from Dreaming Out Loud\, Native\, Waking Up and Oh My My albums\, along with sneak peaks at the upcoming Human album set for release this year. \nTickets are $8 for general admission. \nMusic programs may contain explicit lyrics\, and are intended for adult audiences. All music programs may contain bright flashing lights and fast-moving images\, which have been known to trigger seizures with those with photosensitive epilepsy. Viewer discretion is advised. \nTickets may be purchased online\, by phone at 207.581.1341\, or at our ticket box office prior to the show.
URL:https://astro.umaine.edu/event/onerepublic-future-looks-good/2019-11-08/
LOCATION:Versant Power Astronomy Center\, 167 Rangeley Rd\, Orono\, ME\, 04469\, United States
CATEGORIES:Music Show,Public Program
ATTACH;FMTTYPE=image/jpeg:https://astro.umaine.edu/wp-content/uploads/sites/165/2019/10/future-looks-good-e1597273333487.jpg
ORGANIZER;CN="Versant Power Astronomy Center":MAILTO:planetarium@maine.edu
GEO:44.8929612;-68.6626623
X-APPLE-STRUCTURED-LOCATION;VALUE=URI;X-ADDRESS=Versant Power Astronomy Center 167 Rangeley Rd Orono ME 04469 United States;X-APPLE-RADIUS=500;X-TITLE=167 Rangeley Rd:geo:-68.6626623,44.8929612
END:VEVENT
END:VCALENDAR