BEGIN:VCALENDAR
VERSION:2.0
PRODID:-//Versant Power Astronomy Center and Maynard Jordan Planetarium - ECPv6.15.17.1//NONSGML v1.0//EN
CALSCALE:GREGORIAN
METHOD:PUBLISH
X-WR-CALNAME:Versant Power Astronomy Center and Maynard Jordan Planetarium
X-ORIGINAL-URL:https://astro.umaine.edu
X-WR-CALDESC:Events for Versant Power Astronomy Center and Maynard Jordan Planetarium
REFRESH-INTERVAL;VALUE=DURATION:PT1H
X-Robots-Tag:noindex
X-PUBLISHED-TTL:PT1H
BEGIN:VTIMEZONE
TZID:America/New_York
BEGIN:DAYLIGHT
TZOFFSETFROM:-0500
TZOFFSETTO:-0400
TZNAME:EDT
DTSTART:20180311T070000
END:DAYLIGHT
BEGIN:STANDARD
TZOFFSETFROM:-0400
TZOFFSETTO:-0500
TZNAME:EST
DTSTART:20181104T060000
END:STANDARD
BEGIN:DAYLIGHT
TZOFFSETFROM:-0500
TZOFFSETTO:-0400
TZNAME:EDT
DTSTART:20190310T070000
END:DAYLIGHT
BEGIN:STANDARD
TZOFFSETFROM:-0400
TZOFFSETTO:-0500
TZNAME:EST
DTSTART:20191103T060000
END:STANDARD
BEGIN:DAYLIGHT
TZOFFSETFROM:-0500
TZOFFSETTO:-0400
TZNAME:EDT
DTSTART:20200308T070000
END:DAYLIGHT
BEGIN:STANDARD
TZOFFSETFROM:-0400
TZOFFSETTO:-0500
TZNAME:EST
DTSTART:20201101T060000
END:STANDARD
END:VTIMEZONE
BEGIN:VEVENT
DTSTART;TZID=America/New_York:20191208T140000
DTEND;TZID=America/New_York:20191208T150000
DTSTAMP:20260420T204752
CREATED:20191031T054035Z
LAST-MODIFIED:20191031T054227Z
UID:10002568-1575813600-1575817200@astro.umaine.edu
SUMMARY:Mystery of the Christmas Star
DESCRIPTION:Journey back 2000 years to Bethlehem as we seek to discover a scientific explanation for the Star the wise men followed to find the baby Jesus. Investigate possible dates for the birth of Christ and look at recorded sightings of significant historical and astronomical events during this timeframe. We’ll explore scientific explanations for celestial objects that could have been remarkable enough to cause the wise men to travel across the desert from Babylon to Bethlehem just to see a newborn King. Regardless of what the star was\, the message of Peace on Earth and goodwill to all still rings true today! \nTrailer \nTickets for planetarium programs are $6 for Adults\, $5 for UMaine Students/Veterans/Senior Citizens\, and $4 for children under 12. Click here to view our calendar. \nTickets may be purchased online\, by phone at 207.581.1341\, or at our ticket box office prior to the show.
URL:https://astro.umaine.edu/event/mystery-of-the-christmas-star-2/2019-12-08/
LOCATION:Versant Power Astronomy Center\, 167 Rangeley Rd\, Orono\, ME\, 04469\, United States
CATEGORIES:Public Program
ATTACH;FMTTYPE=image/jpeg:https://astro.umaine.edu/wp-content/uploads/sites/165/2016/05/ChristmasStar_16x9.jpg
ORGANIZER;CN="Versant Power Astronomy Center":MAILTO:planetarium@maine.edu
GEO:44.8929612;-68.6626623
X-APPLE-STRUCTURED-LOCATION;VALUE=URI;X-ADDRESS=Versant Power Astronomy Center 167 Rangeley Rd Orono ME 04469 United States;X-APPLE-RADIUS=500;X-TITLE=167 Rangeley Rd:geo:-68.6626623,44.8929612
END:VEVENT
BEGIN:VEVENT
DTSTART;TZID=America/New_York:20191208T153000
DTEND;TZID=America/New_York:20191208T163000
DTSTAMP:20260420T204752
CREATED:20191031T061851Z
LAST-MODIFIED:20191105T160313Z
UID:10002576-1575819000-1575822600@astro.umaine.edu
SUMMARY:Let It Snow
DESCRIPTION:Let it Snow features a new variety of festive classics from Frank Sinatra and Chuck Berry to Burl Ives and Brenda Lee\, including a stunning multi-media finale by the Trans Siberian Orchestra.  The soundtrack is visually enhanced with thematic animation\, special  in the audiovisual setting of the planetarium and is an entertaining experience for all ages\, especially families. \nTickets are $8 for general admission. \nMusic programs may contain explicit lyrics\, and are intended for adult audiences. All music programs may contain bright flashing lights and fast-moving images\, which have been known to trigger seizures with those with photosensitive epilepsy. Viewer discretion is advised. \nTickets may be purchased online\, by phone at 207.581.1341\, or at our ticket box office prior to the show.
URL:https://astro.umaine.edu/event/let-it-snow/2019-12-08/
LOCATION:Versant Power Astronomy Center\, 167 Rangeley Rd\, Orono\, ME\, 04469\, United States
CATEGORIES:Music Show,Public Program
ATTACH;FMTTYPE=image/jpeg:https://astro.umaine.edu/wp-content/uploads/sites/165/2019/10/LIS_Poster-e1695655517210.jpg
ORGANIZER;CN="Versant Power Astronomy Center":MAILTO:planetarium@maine.edu
GEO:44.8929612;-68.6626623
X-APPLE-STRUCTURED-LOCATION;VALUE=URI;X-ADDRESS=Versant Power Astronomy Center 167 Rangeley Rd Orono ME 04469 United States;X-APPLE-RADIUS=500;X-TITLE=167 Rangeley Rd:geo:-68.6626623,44.8929612
END:VEVENT
BEGIN:VEVENT
DTSTART;TZID=America/New_York:20191213T190000
DTEND;TZID=America/New_York:20191213T200000
DTSTAMP:20260420T204752
CREATED:20191031T053701Z
LAST-MODIFIED:20191108T190908Z
UID:10002565-1576263600-1576267200@astro.umaine.edu
SUMMARY:Hitchhiker's Guide to the Universe
DESCRIPTION:The Hitchhiker’s Guide the Universe is and incredible visual tour of the size and scale of our cosmos! Join planetarium manager  Shawn Laatsch as he host the evening presentation and “flies” participants out into space on a unique and engaging tour through the Universe.  Audience members  will travel to our local planets and their moon systems\, zip through the rings of Saturn\, and explore the asteroids.  We will visit other star systems\, explore nebulae and go far beyond to star clusters and other areas of our Milky Way galaxy.   Traveling beyond the Milky Way\, the journey will continue into inter galactic space exploring our local group of galaxies\, the Virgo cluster of galaxies\, and to the farthest edge of the Universe.  Feel as if you are “jumping off the Earth” as you voyage through time and space! \nTickets for planetarium programs are $6 for Adults\, $5 for UMaine Students/Veterans/Senior Citizens\, and $4 for children under 12. Click here to view our calendar. \nTickets may be purchased online\, by phone at 207.581.1341\, or at our ticket box office prior to the show.
URL:https://astro.umaine.edu/event/hitchhikers-guide-to-the-universe/2019-12-13/
LOCATION:Versant Power Astronomy Center\, 167 Rangeley Rd\, Orono\, ME\, 04469\, United States
CATEGORIES:Public Program
ATTACH;FMTTYPE=image/jpeg:https://astro.umaine.edu/wp-content/uploads/sites/165/2019/11/Hitchhikers.jpg
ORGANIZER;CN="Versant Power Astronomy Center":MAILTO:planetarium@maine.edu
GEO:44.8929612;-68.6626623
X-APPLE-STRUCTURED-LOCATION;VALUE=URI;X-ADDRESS=Versant Power Astronomy Center 167 Rangeley Rd Orono ME 04469 United States;X-APPLE-RADIUS=500;X-TITLE=167 Rangeley Rd:geo:-68.6626623,44.8929612
END:VEVENT
END:VCALENDAR