BEGIN:VCALENDAR
VERSION:2.0
PRODID:-//Versant Power Astronomy Center and Maynard Jordan Planetarium - ECPv6.15.17.1//NONSGML v1.0//EN
CALSCALE:GREGORIAN
METHOD:PUBLISH
X-WR-CALNAME:Versant Power Astronomy Center and Maynard Jordan Planetarium
X-ORIGINAL-URL:https://astro.umaine.edu
X-WR-CALDESC:Events for Versant Power Astronomy Center and Maynard Jordan Planetarium
REFRESH-INTERVAL;VALUE=DURATION:PT1H
X-Robots-Tag:noindex
X-PUBLISHED-TTL:PT1H
BEGIN:VTIMEZONE
TZID:America/New_York
BEGIN:DAYLIGHT
TZOFFSETFROM:-0500
TZOFFSETTO:-0400
TZNAME:EDT
DTSTART:20190310T070000
END:DAYLIGHT
BEGIN:STANDARD
TZOFFSETFROM:-0400
TZOFFSETTO:-0500
TZNAME:EST
DTSTART:20191103T060000
END:STANDARD
BEGIN:DAYLIGHT
TZOFFSETFROM:-0500
TZOFFSETTO:-0400
TZNAME:EDT
DTSTART:20200308T070000
END:DAYLIGHT
BEGIN:STANDARD
TZOFFSETFROM:-0400
TZOFFSETTO:-0500
TZNAME:EST
DTSTART:20201101T060000
END:STANDARD
BEGIN:DAYLIGHT
TZOFFSETFROM:-0500
TZOFFSETTO:-0400
TZNAME:EDT
DTSTART:20210314T070000
END:DAYLIGHT
BEGIN:STANDARD
TZOFFSETFROM:-0400
TZOFFSETTO:-0500
TZNAME:EST
DTSTART:20211107T060000
END:STANDARD
END:VTIMEZONE
BEGIN:VEVENT
DTSTART;TZID=America/New_York:20201129T140000
DTEND;TZID=America/New_York:20201129T150000
DTSTAMP:20260420T201050
CREATED:20201006T191125Z
LAST-MODIFIED:20201006T191125Z
UID:10002262-1606658400-1606662000@astro.umaine.edu
SUMMARY:Lucia: The Secret of Shooting Stars
DESCRIPTION:Vladimir\, a polar bear\, and James\, a penguin\, travel into space aboard the Polaris to study polar auroras.  Hit by a meteorite\, they crash at the foot of a pre-Columbian pyramid and meet Lucia\, a hummingbird who is passionate about rocks. She tells them about a legend evoking “stones of light”.  Meteorites\, shooting stars\, these “stones of light” intrigue them all.  Searching for answers\, they board for the Moon\, then the asteroid belt\, and finally land on a comet nucleus.  Observations and analyses will allow them to find answers to their questions about these objects and learn about the origin of the solar system. \nWatch the trailer here! \nTickets for planetarium programs are $6 for Adults\, $5 for UMaine Students/Veterans/Senior Citizens\, and $4 for children under 12. Click here to view our calendar. \nTickets may be purchased online\, by phone at 207.581.1341\, or at our ticket box office prior to the show.
URL:https://astro.umaine.edu/event/lucia-the-secret-of-shooting-stars-4/2020-11-29/
LOCATION:Versant Power Astronomy Center\, 167 Rangeley Rd\, Orono\, ME\, 04469\, United States
CATEGORIES:Public Program
ATTACH;FMTTYPE=image/jpeg:https://astro.umaine.edu/wp-content/uploads/sites/165/2019/07/Lucia-16x9-1.jpg
ORGANIZER;CN="Versant Power Astronomy Center":MAILTO:planetarium@maine.edu
GEO:44.8929612;-68.6626623
X-APPLE-STRUCTURED-LOCATION;VALUE=URI;X-ADDRESS=Versant Power Astronomy Center 167 Rangeley Rd Orono ME 04469 United States;X-APPLE-RADIUS=500;X-TITLE=167 Rangeley Rd:geo:-68.6626623,44.8929612
END:VEVENT
BEGIN:VEVENT
DTSTART;TZID=America/New_York:20201201T100000
DTEND;TZID=America/New_York:20201201T110000
DTSTAMP:20260420T201050
CREATED:20201006T200846Z
LAST-MODIFIED:20201006T200846Z
UID:10002629-1606816800-1606820400@astro.umaine.edu
SUMMARY:To Space and Back
DESCRIPTION:Space exploration\, our greatest adventure\, is having a big impact on our lives. It is helping us to discover a universe of unimaginable scale and beauty\, and it is reaching down into our world and influencing the way we live.\nTo Space & Back takes audiences on an incredible journey from the far reaches of our known universe to our own planet. It is an extraordinary story of human ingenuity and incredible engineering\, describing how the technology that transports us through space is paving the way for the devices and apps we use every day. What is happening above is coming back down to Earth! \nTrailer \nTickets for planetarium programs are $6 for Adults\, $5 for UMaine Students/Veterans/Senior Citizens\, and $4 for children under 12. Click here to view our calendar. \nTickets may be purchased online\, by phone at 207.581.1341\, or at our ticket box office prior to the show.
URL:https://astro.umaine.edu/event/to-space-and-back-7/
LOCATION:Versant Power Astronomy Center\, 167 Rangeley Rd\, Orono\, ME\, 04469\, United States
CATEGORIES:Homeschool Show,Public Program
ATTACH;FMTTYPE=image/jpeg:https://astro.umaine.edu/wp-content/uploads/sites/165/2013/04/space-and-back-e1713821471986.jpg
ORGANIZER;CN="Versant Power Astronomy Center":MAILTO:planetarium@maine.edu
GEO:44.8929612;-68.6626623
X-APPLE-STRUCTURED-LOCATION;VALUE=URI;X-ADDRESS=Versant Power Astronomy Center 167 Rangeley Rd Orono ME 04469 United States;X-APPLE-RADIUS=500;X-TITLE=167 Rangeley Rd:geo:-68.6626623,44.8929612
END:VEVENT
BEGIN:VEVENT
DTSTART;TZID=America/New_York:20201204T190000
DTEND;TZID=America/New_York:20201204T200000
DTSTAMP:20260420T201050
CREATED:20201006T192327Z
LAST-MODIFIED:20201006T192327Z
UID:10002666-1607108400-1607112000@astro.umaine.edu
SUMMARY:Asteroid: Mission Extreme
DESCRIPTION:Asteroid: Mission Extreme takes audiences on an epic journey to discover how asteroids are both a danger and an opportunity. The danger lies in the possibility of a cataclysmic collision with Earth; the opportunity is the fascinating idea that asteroids could be stepping stones to other worlds – veritable way stations in space – enabling us to cross the Solar System. \nThe challenges are enormous\, but a mission so extreme could ultimately lead us to protect our planet and inhabit others. \nExplore what it would take for astronauts to reach an asteroid and how such an adventure could benefit humankind. \nTrailer \nTickets for planetarium programs are $6 for Adults\, $5 for UMaine Students/Veterans/Senior Citizens\, and $4 for children under 12. Click here to view our calendar. \nTickets may be purchased online\, by phone at 207.581.1341\, or at our ticket box office prior to the show.
URL:https://astro.umaine.edu/event/asteroid-mission-extreme-4/2020-12-04/
LOCATION:Versant Power Astronomy Center\, 167 Rangeley Rd\, Orono\, ME\, 04469\, United States
CATEGORIES:Public Program
ATTACH;FMTTYPE=image/jpeg:https://astro.umaine.edu/wp-content/uploads/sites/165/2016/11/Asteroid2_16x9.jpg
ORGANIZER;CN="Versant Power Astronomy Center":MAILTO:planetarium@maine.edu
GEO:44.8929612;-68.6626623
X-APPLE-STRUCTURED-LOCATION;VALUE=URI;X-ADDRESS=Versant Power Astronomy Center 167 Rangeley Rd Orono ME 04469 United States;X-APPLE-RADIUS=500;X-TITLE=167 Rangeley Rd:geo:-68.6626623,44.8929612
END:VEVENT
END:VCALENDAR